BEGIN:VCALENDAR
VERSION:2.0
PRODID:-//International Business Center - ECPv6.15.17.1//NONSGML v1.0//EN
CALSCALE:GREGORIAN
METHOD:PUBLISH
X-ORIGINAL-URL:https://ibc.broad.msu.edu
X-WR-CALDESC:Events for International Business Center
REFRESH-INTERVAL;VALUE=DURATION:PT1H
X-Robots-Tag:noindex
X-PUBLISHED-TTL:PT1H
BEGIN:VTIMEZONE
TZID:America/Detroit
BEGIN:DAYLIGHT
TZOFFSETFROM:-0500
TZOFFSETTO:-0400
TZNAME:EDT
DTSTART:20030406T070000
END:DAYLIGHT
BEGIN:STANDARD
TZOFFSETFROM:-0400
TZOFFSETTO:-0500
TZNAME:EST
DTSTART:20031026T060000
END:STANDARD
BEGIN:DAYLIGHT
TZOFFSETFROM:-0500
TZOFFSETTO:-0400
TZNAME:EDT
DTSTART:20040404T070000
END:DAYLIGHT
BEGIN:STANDARD
TZOFFSETFROM:-0400
TZOFFSETTO:-0500
TZNAME:EST
DTSTART:20041031T060000
END:STANDARD
BEGIN:DAYLIGHT
TZOFFSETFROM:-0500
TZOFFSETTO:-0400
TZNAME:EDT
DTSTART:20050403T070000
END:DAYLIGHT
BEGIN:STANDARD
TZOFFSETFROM:-0400
TZOFFSETTO:-0500
TZNAME:EST
DTSTART:20051030T060000
END:STANDARD
END:VTIMEZONE
BEGIN:VEVENT
DTSTART;TZID=America/Detroit:20040710T000000
DTEND;TZID=America/Detroit:20040713T000000
DTSTAMP:20260422T205418
CREATED:20240319T190200Z
LAST-MODIFIED:20240521T173814Z
UID:10001153-1089417600-1089676800@ibc.broad.msu.edu
SUMMARY:Academy of International Business Annual Meeting
DESCRIPTION:The theme of this year’s Conference “Bridging with the Other” could hardly be more relevant to the world and to the context of international business in 2004. The programme assembled by Nakiye and her colleagues looks fantastic and highly relevant to both the theory and practice of international business as we enter the new Millennium. I am sure that the sessions will be provocative and stimulating and that we will leave Stockholm with our horizons widened and our understanding deepened.
URL:https://ibc.broad.msu.edu/event/academy-of-international-business-annual-meeting/
LOCATION:Stockholm\, Sweden\, Sweden
CATEGORIES:IBC
END:VEVENT
END:VCALENDAR