BEGIN:VCALENDAR
VERSION:2.0
PRODID:-//International Business Center - ECPv6.15.17.1//NONSGML v1.0//EN
CALSCALE:GREGORIAN
METHOD:PUBLISH
X-WR-CALNAME:International Business Center
X-ORIGINAL-URL:https://ibc.broad.msu.edu
X-WR-CALDESC:Events for International Business Center
REFRESH-INTERVAL;VALUE=DURATION:PT1H
X-Robots-Tag:noindex
X-PUBLISHED-TTL:PT1H
BEGIN:VTIMEZONE
TZID:America/Detroit
BEGIN:DAYLIGHT
TZOFFSETFROM:-0500
TZOFFSETTO:-0400
TZNAME:EDT
DTSTART:20030406T070000
END:DAYLIGHT
BEGIN:STANDARD
TZOFFSETFROM:-0400
TZOFFSETTO:-0500
TZNAME:EST
DTSTART:20031026T060000
END:STANDARD
BEGIN:DAYLIGHT
TZOFFSETFROM:-0500
TZOFFSETTO:-0400
TZNAME:EDT
DTSTART:20040404T070000
END:DAYLIGHT
BEGIN:STANDARD
TZOFFSETFROM:-0400
TZOFFSETTO:-0500
TZNAME:EST
DTSTART:20041031T060000
END:STANDARD
BEGIN:DAYLIGHT
TZOFFSETFROM:-0500
TZOFFSETTO:-0400
TZNAME:EDT
DTSTART:20050403T070000
END:DAYLIGHT
BEGIN:STANDARD
TZOFFSETFROM:-0400
TZOFFSETTO:-0500
TZNAME:EST
DTSTART:20051030T060000
END:STANDARD
END:VTIMEZONE
BEGIN:VEVENT
DTSTART;TZID=America/Detroit:20040916T000000
DTEND;TZID=America/Detroit:20040919T000000
DTSTAMP:20260420T000049
CREATED:20240319T190107Z
LAST-MODIFIED:20240521T173645Z
UID:10001150-1095292800-1095552000@ibc.broad.msu.edu
SUMMARY:Second Annual Conference on Emerging Research Frontiers in International Business
DESCRIPTION:The Second Annual Conference on Emerging Research Frontiers in International Business will be held on September 16-19\, 2004 at the James B. Henry Center for Executive Development at Michigan State University. The conference theme will be “Empirical and Theoretical Advances in International Business Research: A Focus on Key Constructs\, Metrics\, and Theoretical Frameworks.” Our objective is to stimulate new thinking and empirical work on key components of the models we test in international business.
URL:https://ibc.broad.msu.edu/event/second-annual-conference-on-emerging-research-frontiers-in-international-business/
LOCATION:East Lansing\, MI\, Chicago\, United States
CATEGORIES:IBC
END:VEVENT
END:VCALENDAR