BEGIN:VCALENDAR
VERSION:2.0
PRODID:-//International Business Center - ECPv6.15.17.1//NONSGML v1.0//EN
CALSCALE:GREGORIAN
METHOD:PUBLISH
X-WR-CALNAME:International Business Center
X-ORIGINAL-URL:https://ibc.broad.msu.edu
X-WR-CALDESC:Events for International Business Center
REFRESH-INTERVAL;VALUE=DURATION:PT1H
X-Robots-Tag:noindex
X-PUBLISHED-TTL:PT1H
BEGIN:VTIMEZONE
TZID:America/Detroit
BEGIN:DAYLIGHT
TZOFFSETFROM:-0500
TZOFFSETTO:-0400
TZNAME:EDT
DTSTART:20050403T070000
END:DAYLIGHT
BEGIN:STANDARD
TZOFFSETFROM:-0400
TZOFFSETTO:-0500
TZNAME:EST
DTSTART:20051030T060000
END:STANDARD
BEGIN:DAYLIGHT
TZOFFSETFROM:-0500
TZOFFSETTO:-0400
TZNAME:EDT
DTSTART:20060402T070000
END:DAYLIGHT
BEGIN:STANDARD
TZOFFSETFROM:-0400
TZOFFSETTO:-0500
TZNAME:EST
DTSTART:20061029T060000
END:STANDARD
BEGIN:DAYLIGHT
TZOFFSETFROM:-0500
TZOFFSETTO:-0400
TZNAME:EDT
DTSTART:20070311T070000
END:DAYLIGHT
BEGIN:STANDARD
TZOFFSETFROM:-0400
TZOFFSETTO:-0500
TZNAME:EST
DTSTART:20071104T060000
END:STANDARD
END:VTIMEZONE
BEGIN:VEVENT
DTSTART;TZID=America/Detroit:20060407T000000
DTEND;TZID=America/Detroit:20060408T000000
DTSTAMP:20260422T000821
CREATED:20240319T191749Z
LAST-MODIFIED:20240521T164447Z
UID:10001122-1144368000-1144454400@ibc.broad.msu.edu
SUMMARY:Understanding Wahhabism
DESCRIPTION:The Muslim Studies Program at MSU\, with the assistance of the Office of the Provost\, CSS\, JMC\, CAL\, the Le Frak Forum\, CERS\, and CIBER will hold its first major conference on April 7-8 on “Understanding Wahhabism”. It will be held in Club Spartan on the 3rd Floor of Case Hall. Sessions will be held beginning 9:30am on both days. It is free and open to the public.
URL:https://ibc.broad.msu.edu/event/understanding-wahhabism/
LOCATION:Michigan Sate University\, East Lansing\, 48824\, United States
CATEGORIES:IBC
END:VEVENT
END:VCALENDAR