BEGIN:VCALENDAR
VERSION:2.0
PRODID:-//International Business Center - ECPv6.15.17.1//NONSGML v1.0//EN
CALSCALE:GREGORIAN
METHOD:PUBLISH
X-ORIGINAL-URL:https://ibc.broad.msu.edu
X-WR-CALDESC:Events for International Business Center
REFRESH-INTERVAL;VALUE=DURATION:PT1H
X-Robots-Tag:noindex
X-PUBLISHED-TTL:PT1H
BEGIN:VTIMEZONE
TZID:America/Detroit
BEGIN:DAYLIGHT
TZOFFSETFROM:-0500
TZOFFSETTO:-0400
TZNAME:EDT
DTSTART:20070311T070000
END:DAYLIGHT
BEGIN:STANDARD
TZOFFSETFROM:-0400
TZOFFSETTO:-0500
TZNAME:EST
DTSTART:20071104T060000
END:STANDARD
BEGIN:DAYLIGHT
TZOFFSETFROM:-0500
TZOFFSETTO:-0400
TZNAME:EDT
DTSTART:20080309T070000
END:DAYLIGHT
BEGIN:STANDARD
TZOFFSETFROM:-0400
TZOFFSETTO:-0500
TZNAME:EST
DTSTART:20081102T060000
END:STANDARD
BEGIN:DAYLIGHT
TZOFFSETFROM:-0500
TZOFFSETTO:-0400
TZNAME:EDT
DTSTART:20090308T070000
END:DAYLIGHT
BEGIN:STANDARD
TZOFFSETFROM:-0400
TZOFFSETTO:-0500
TZNAME:EST
DTSTART:20091101T060000
END:STANDARD
END:VTIMEZONE
BEGIN:VEVENT
DTSTART;TZID=America/Detroit:20080416T000000
DTEND;TZID=America/Detroit:20080417T000000
DTSTAMP:20260423T074608
CREATED:20240319T194152Z
LAST-MODIFIED:20240521T003511Z
UID:10001048-1208304000-1208390400@ibc.broad.msu.edu
SUMMARY:Re-imagining Nation\, Rethinking Citizenship: Indigenous and Popular Movements in Latin America and the Caribbean
DESCRIPTION:Students from all disciplines are encouraged to submit 1-page abstracts of presentations on topics related to Latin America and the Caribbean and our conference theme. Papers on other topics related to Latin America and the Caribbean are also welcome.
URL:https://ibc.broad.msu.edu/event/re-imagining-nation-rethinking-citizenship-indigenous-and-popular-movements-in-latin-america-and-the-caribbean/
LOCATION:East Lansing\, MI\, Chicago\, United States
CATEGORIES:IBC
END:VEVENT
END:VCALENDAR