BEGIN:VCALENDAR
VERSION:2.0
PRODID:-//International Business Center - ECPv6.15.17.1//NONSGML v1.0//EN
CALSCALE:GREGORIAN
METHOD:PUBLISH
X-ORIGINAL-URL:https://ibc.broad.msu.edu
X-WR-CALDESC:Events for International Business Center
REFRESH-INTERVAL;VALUE=DURATION:PT1H
X-Robots-Tag:noindex
X-PUBLISHED-TTL:PT1H
BEGIN:VTIMEZONE
TZID:America/Detroit
BEGIN:DAYLIGHT
TZOFFSETFROM:-0500
TZOFFSETTO:-0400
TZNAME:EDT
DTSTART:20070311T070000
END:DAYLIGHT
BEGIN:STANDARD
TZOFFSETFROM:-0400
TZOFFSETTO:-0500
TZNAME:EST
DTSTART:20071104T060000
END:STANDARD
BEGIN:DAYLIGHT
TZOFFSETFROM:-0500
TZOFFSETTO:-0400
TZNAME:EDT
DTSTART:20080309T070000
END:DAYLIGHT
BEGIN:STANDARD
TZOFFSETFROM:-0400
TZOFFSETTO:-0500
TZNAME:EST
DTSTART:20081102T060000
END:STANDARD
BEGIN:DAYLIGHT
TZOFFSETFROM:-0500
TZOFFSETTO:-0400
TZNAME:EDT
DTSTART:20090308T070000
END:DAYLIGHT
BEGIN:STANDARD
TZOFFSETFROM:-0400
TZOFFSETTO:-0500
TZNAME:EST
DTSTART:20091101T060000
END:STANDARD
END:VTIMEZONE
BEGIN:VEVENT
DTSTART;TZID=America/Detroit:20080507T000000
DTEND;TZID=America/Detroit:20080509T000000
DTSTAMP:20260423T124544
CREATED:20240319T194122Z
LAST-MODIFIED:20240521T003331Z
UID:10001045-1210118400-1210291200@ibc.broad.msu.edu
SUMMARY:Symposium on International Marketing and Innovation: An Invitation-Only Event
DESCRIPTION:This is an invitation-only event that will bring together MSU doctoral alumni of the past two decades who have built their careers in international business/marketing or innovation. We expect an attendance of approximately 25 doctoral alumni and selected MSU marketing faculty.
URL:https://ibc.broad.msu.edu/event/symposium-on-international-marketing-and-innovation-an-invitation-only-event/
CATEGORIES:IBC
END:VEVENT
END:VCALENDAR