BEGIN:VCALENDAR
VERSION:2.0
PRODID:-//International Business Center - ECPv6.15.17.1//NONSGML v1.0//EN
CALSCALE:GREGORIAN
METHOD:PUBLISH
X-ORIGINAL-URL:https://ibc.broad.msu.edu
X-WR-CALDESC:Events for International Business Center
REFRESH-INTERVAL;VALUE=DURATION:PT1H
X-Robots-Tag:noindex
X-PUBLISHED-TTL:PT1H
BEGIN:VTIMEZONE
TZID:America/Detroit
BEGIN:DAYLIGHT
TZOFFSETFROM:-0500
TZOFFSETTO:-0400
TZNAME:EDT
DTSTART:20090308T070000
END:DAYLIGHT
BEGIN:STANDARD
TZOFFSETFROM:-0400
TZOFFSETTO:-0500
TZNAME:EST
DTSTART:20091101T060000
END:STANDARD
BEGIN:DAYLIGHT
TZOFFSETFROM:-0500
TZOFFSETTO:-0400
TZNAME:EDT
DTSTART:20100314T070000
END:DAYLIGHT
BEGIN:STANDARD
TZOFFSETFROM:-0400
TZOFFSETTO:-0500
TZNAME:EST
DTSTART:20101107T060000
END:STANDARD
BEGIN:DAYLIGHT
TZOFFSETFROM:-0500
TZOFFSETTO:-0400
TZNAME:EDT
DTSTART:20110313T070000
END:DAYLIGHT
BEGIN:STANDARD
TZOFFSETFROM:-0400
TZOFFSETTO:-0500
TZNAME:EST
DTSTART:20111106T060000
END:STANDARD
END:VTIMEZONE
BEGIN:VEVENT
DTSTART;TZID=America/Detroit:20100604T000000
DTEND;TZID=America/Detroit:20100605T000000
DTSTAMP:20260423T074607
CREATED:20240319T194240Z
LAST-MODIFIED:20240520T230503Z
UID:10000967-1275609600-1275696000@ibc.broad.msu.edu
SUMMARY:Short Term Study Abroad Conference
DESCRIPTION:The purpose of this conference is to bring together faculty and staff who have dealt with these challenges at a variety of schools\, to share their experiences and disseminate STSA ideas and best practices and to think about the lasting impressions generated by STSA programs. Whether you are an experienced STSA practitioner or just contemplating the challenges of implementing a short-term program\, we hope you will find the agenda compelling. We are confident that the presentations\, panels\, and networking opportunities with experienced practitioners will leave you with a better understanding of your role in planning\, administering\, directing\, and/or facilitating short-term study abroad programs.
URL:https://ibc.broad.msu.edu/event/short-term-study-abroad-conference/
LOCATION:Kansas City\, MO\, Kansas City\, United States
CATEGORIES:IBC
END:VEVENT
END:VCALENDAR