BEGIN:VCALENDAR
VERSION:2.0
PRODID:-//International Business Center - ECPv6.15.17.1//NONSGML v1.0//EN
CALSCALE:GREGORIAN
METHOD:PUBLISH
X-WR-CALNAME:International Business Center
X-ORIGINAL-URL:https://ibc.broad.msu.edu
X-WR-CALDESC:Events for International Business Center
REFRESH-INTERVAL;VALUE=DURATION:PT1H
X-Robots-Tag:noindex
X-PUBLISHED-TTL:PT1H
BEGIN:VTIMEZONE
TZID:America/Detroit
BEGIN:DAYLIGHT
TZOFFSETFROM:-0500
TZOFFSETTO:-0400
TZNAME:EDT
DTSTART:20100314T070000
END:DAYLIGHT
BEGIN:STANDARD
TZOFFSETFROM:-0400
TZOFFSETTO:-0500
TZNAME:EST
DTSTART:20101107T060000
END:STANDARD
BEGIN:DAYLIGHT
TZOFFSETFROM:-0500
TZOFFSETTO:-0400
TZNAME:EDT
DTSTART:20110313T070000
END:DAYLIGHT
BEGIN:STANDARD
TZOFFSETFROM:-0400
TZOFFSETTO:-0500
TZNAME:EST
DTSTART:20111106T060000
END:STANDARD
BEGIN:DAYLIGHT
TZOFFSETFROM:-0500
TZOFFSETTO:-0400
TZNAME:EDT
DTSTART:20120311T070000
END:DAYLIGHT
BEGIN:STANDARD
TZOFFSETFROM:-0400
TZOFFSETTO:-0500
TZNAME:EST
DTSTART:20121104T060000
END:STANDARD
END:VTIMEZONE
BEGIN:VEVENT
DTSTART;TZID=America/Detroit:20111205T000000
DTEND;TZID=America/Detroit:20111209T000000
DTSTAMP:20260421T063848
CREATED:20240319T194357Z
LAST-MODIFIED:20240520T221039Z
UID:10000922-1323043200-1323388800@ibc.broad.msu.edu
SUMMARY:Global Access Exporter Forum: An Introduction To Exporting
DESCRIPTION:Overview of Small Business & Technology Development Center – Chris Wendel\, SBTDC Michigan Economic Development Corporation\, STEP Grant Program – Chris Bosio\, MEDC Export Team Finding New Markets & Strategies for Building an Export Plan – Kendra Kuo\, U.S. Department of Commerce Resources for Research & Export Training – Jade Sims\, MSU International Business Center International Shipping and Logistics – Susan Edwards\, FedEx Getting Paid/Export Financing – Tony Talbot\, Huntington National Bank
URL:https://ibc.broad.msu.edu/event/global-access-exporter-forum-an-introduction-to-exporting/
LOCATION:Northwestern Michigan College\, Parsons-Stulen Building at 2600 Aeropark Drive\, 2600 Aeropark Drive\, Traverse City\, 49686\, United States
CATEGORIES:IBC
END:VEVENT
END:VCALENDAR