BEGIN:VCALENDAR
VERSION:2.0
PRODID:-//International Business Center - ECPv6.15.17.1//NONSGML v1.0//EN
CALSCALE:GREGORIAN
METHOD:PUBLISH
X-ORIGINAL-URL:https://ibc.broad.msu.edu
X-WR-CALDESC:Events for International Business Center
REFRESH-INTERVAL;VALUE=DURATION:PT1H
X-Robots-Tag:noindex
X-PUBLISHED-TTL:PT1H
BEGIN:VTIMEZONE
TZID:America/Detroit
BEGIN:DAYLIGHT
TZOFFSETFROM:-0500
TZOFFSETTO:-0400
TZNAME:EDT
DTSTART:20120311T070000
END:DAYLIGHT
BEGIN:STANDARD
TZOFFSETFROM:-0400
TZOFFSETTO:-0500
TZNAME:EST
DTSTART:20121104T060000
END:STANDARD
BEGIN:DAYLIGHT
TZOFFSETFROM:-0500
TZOFFSETTO:-0400
TZNAME:EDT
DTSTART:20130310T070000
END:DAYLIGHT
BEGIN:STANDARD
TZOFFSETFROM:-0400
TZOFFSETTO:-0500
TZNAME:EST
DTSTART:20131103T060000
END:STANDARD
BEGIN:DAYLIGHT
TZOFFSETFROM:-0500
TZOFFSETTO:-0400
TZNAME:EDT
DTSTART:20140309T070000
END:DAYLIGHT
BEGIN:STANDARD
TZOFFSETFROM:-0400
TZOFFSETTO:-0500
TZNAME:EST
DTSTART:20141102T060000
END:STANDARD
END:VTIMEZONE
BEGIN:VEVENT
DTSTART;TZID=America/Detroit:20130716T000000
DTEND;TZID=America/Detroit:20130720T000000
DTSTAMP:20260425T121356
CREATED:20240319T194926Z
LAST-MODIFIED:20240520T212321Z
UID:10000859-1373932800-1374278400@ibc.broad.msu.edu
SUMMARY:Meet the JAMS Editor @ AMS World Marketing Congress
DESCRIPTION:The JAMS Editor will be at the AMS World Marketing Congress in Melbourne\, Australia\, July 17-20.
URL:https://ibc.broad.msu.edu/event/meet-the-jams-editor-ams-world-marketing-congress/
LOCATION:Melbourne\, Victoria\, Australia.\, Melbourne\, Australia
CATEGORIES:IBC
END:VEVENT
END:VCALENDAR