BEGIN:VCALENDAR
VERSION:2.0
PRODID:-//International Business Center - ECPv6.15.17.1//NONSGML v1.0//EN
CALSCALE:GREGORIAN
METHOD:PUBLISH
X-WR-CALNAME:International Business Center
X-ORIGINAL-URL:https://ibc.broad.msu.edu
X-WR-CALDESC:Events for International Business Center
REFRESH-INTERVAL;VALUE=DURATION:PT1H
X-Robots-Tag:noindex
X-PUBLISHED-TTL:PT1H
BEGIN:VTIMEZONE
TZID:America/Detroit
BEGIN:DAYLIGHT
TZOFFSETFROM:-0500
TZOFFSETTO:-0400
TZNAME:EDT
DTSTART:20120311T070000
END:DAYLIGHT
BEGIN:STANDARD
TZOFFSETFROM:-0400
TZOFFSETTO:-0500
TZNAME:EST
DTSTART:20121104T060000
END:STANDARD
BEGIN:DAYLIGHT
TZOFFSETFROM:-0500
TZOFFSETTO:-0400
TZNAME:EDT
DTSTART:20130310T070000
END:DAYLIGHT
BEGIN:STANDARD
TZOFFSETFROM:-0400
TZOFFSETTO:-0500
TZNAME:EST
DTSTART:20131103T060000
END:STANDARD
BEGIN:DAYLIGHT
TZOFFSETFROM:-0500
TZOFFSETTO:-0400
TZNAME:EDT
DTSTART:20140309T070000
END:DAYLIGHT
BEGIN:STANDARD
TZOFFSETFROM:-0400
TZOFFSETTO:-0500
TZNAME:EST
DTSTART:20141102T060000
END:STANDARD
END:VTIMEZONE
BEGIN:VEVENT
DTSTART;TZID=America/Detroit:20130808T000000
DTEND;TZID=America/Detroit:20130811T000000
DTSTAMP:20260422T103749
CREATED:20240319T194911Z
LAST-MODIFIED:20240520T212301Z
UID:10000858-1375920000-1376179200@ibc.broad.msu.edu
SUMMARY:Meet the JAMS Editor @ AMA Summer Educators' Conference
DESCRIPTION:The JAMS Editor will participate in the AMA Summer Educators’ Conference in Boston\, August 9-11.
URL:https://ibc.broad.msu.edu/event/meet-the-jams-editor-ama-summer-educators-conference/
LOCATION:Boston\, MS\, Boston\, United States
CATEGORIES:IBC
END:VEVENT
BEGIN:VEVENT
DTSTART;TZID=America/Detroit:20130808T000000
DTEND;TZID=America/Detroit:20130813T000000
DTSTAMP:20260422T103749
CREATED:20240319T194910Z
LAST-MODIFIED:20240520T212227Z
UID:10000857-1375920000-1376352000@ibc.broad.msu.edu
SUMMARY:Meet the JAMS Editor @ AOM Annual Conference
DESCRIPTION:The JAMS Editor will be at the AOM Annual Conference\, August 9-13.
URL:https://ibc.broad.msu.edu/event/meet-the-jams-editor-aom-annual-conference/
LOCATION:Lake Buena Vista\, FL\, Lake Buena Vista\, United States
CATEGORIES:IBC
END:VEVENT
END:VCALENDAR