BEGIN:VCALENDAR
VERSION:2.0
PRODID:-//International Business Center - ECPv6.15.17.1//NONSGML v1.0//EN
CALSCALE:GREGORIAN
METHOD:PUBLISH
X-WR-CALNAME:International Business Center
X-ORIGINAL-URL:https://ibc.broad.msu.edu
X-WR-CALDESC:Events for International Business Center
REFRESH-INTERVAL;VALUE=DURATION:PT1H
X-Robots-Tag:noindex
X-PUBLISHED-TTL:PT1H
BEGIN:VTIMEZONE
TZID:America/Detroit
BEGIN:DAYLIGHT
TZOFFSETFROM:-0500
TZOFFSETTO:-0400
TZNAME:EDT
DTSTART:20180311T070000
END:DAYLIGHT
BEGIN:STANDARD
TZOFFSETFROM:-0400
TZOFFSETTO:-0500
TZNAME:EST
DTSTART:20181104T060000
END:STANDARD
BEGIN:DAYLIGHT
TZOFFSETFROM:-0500
TZOFFSETTO:-0400
TZNAME:EDT
DTSTART:20190310T070000
END:DAYLIGHT
BEGIN:STANDARD
TZOFFSETFROM:-0400
TZOFFSETTO:-0500
TZNAME:EST
DTSTART:20191103T060000
END:STANDARD
BEGIN:DAYLIGHT
TZOFFSETFROM:-0500
TZOFFSETTO:-0400
TZNAME:EDT
DTSTART:20200308T070000
END:DAYLIGHT
BEGIN:STANDARD
TZOFFSETFROM:-0400
TZOFFSETTO:-0500
TZNAME:EST
DTSTART:20201101T060000
END:STANDARD
END:VTIMEZONE
BEGIN:VEVENT
DTSTART;TZID=America/Detroit:20190528T000000
DTEND;TZID=America/Detroit:20190531T000000
DTSTAMP:20260419T235546
CREATED:20240319T195616Z
LAST-MODIFIED:20240518T001700Z
UID:10000605-1559001600-1559260800@ibc.broad.msu.edu
SUMMARY:International Business Pedagogy Workshop
DESCRIPTION:Held since 1992 by a consortium of CIBERs (Centers of Excellence designated by the U.S. Department of Education)\, IB Pedagogy Workshops have trained over 1\,000 faculties from around the U.S. and other countries. The workshops are designed to assist business faculty to improve their practical knowledge and classroom skills for teaching international business. \nLocation: Georgia State University Buckhead Center \nHosted by: Georgia State University\, Center for International Business Education &Research \nThis is a unique professional development opportunity for those who: (1) have a passion for teaching international business; (2) are interested in learning about latest classroom innovations; (3) wish to update their skills and pedagogical toolbox; and (4) wish to meet and be inspired by seasoned educators who have excelled in teaching.
URL:https://ibc.broad.msu.edu/event/international-business-pedagogy-workshop/
LOCATION:Georgia State University\, Atlanta\, 30302\, United States
CATEGORIES:IBC
END:VEVENT
END:VCALENDAR