BEGIN:VCALENDAR
VERSION:2.0
PRODID:-//International Business Center - ECPv6.15.17.1//NONSGML v1.0//EN
CALSCALE:GREGORIAN
METHOD:PUBLISH
X-WR-CALNAME:International Business Center
X-ORIGINAL-URL:https://ibc.broad.msu.edu
X-WR-CALDESC:Events for International Business Center
REFRESH-INTERVAL;VALUE=DURATION:PT1H
X-Robots-Tag:noindex
X-PUBLISHED-TTL:PT1H
BEGIN:VTIMEZONE
TZID:America/Detroit
BEGIN:DAYLIGHT
TZOFFSETFROM:-0500
TZOFFSETTO:-0400
TZNAME:EDT
DTSTART:20230312T070000
END:DAYLIGHT
BEGIN:STANDARD
TZOFFSETFROM:-0400
TZOFFSETTO:-0500
TZNAME:EST
DTSTART:20231105T060000
END:STANDARD
BEGIN:DAYLIGHT
TZOFFSETFROM:-0500
TZOFFSETTO:-0400
TZNAME:EDT
DTSTART:20240310T070000
END:DAYLIGHT
BEGIN:STANDARD
TZOFFSETFROM:-0400
TZOFFSETTO:-0500
TZNAME:EST
DTSTART:20241103T060000
END:STANDARD
BEGIN:DAYLIGHT
TZOFFSETFROM:-0500
TZOFFSETTO:-0400
TZNAME:EDT
DTSTART:20250309T070000
END:DAYLIGHT
BEGIN:STANDARD
TZOFFSETFROM:-0400
TZOFFSETTO:-0500
TZNAME:EST
DTSTART:20251102T060000
END:STANDARD
END:VTIMEZONE
BEGIN:VEVENT
DTSTART;TZID=America/Detroit:20241122T110000
DTEND;TZID=America/Detroit:20241122T120000
DTSTAMP:20260422T193759
CREATED:20241028T150549Z
LAST-MODIFIED:20241121T164918Z
UID:10001240-1732273200-1732276800@ibc.broad.msu.edu
SUMMARY:Global Insights: Harnessing AI to Revolutionize International Business Education
DESCRIPTION:Presented by Professor Ayse Ozturk\, this session will explore how AI can be used for teaching\, providing faculty with practical tools to enhance learning experiences and increase efficiency. Topics include: \n\nAI-Generated Presentations: Create engaging presentations from a simple prompt (e.g.\, Gamma AI).\nCulturally Tailored Branding: Generate cross-cultural brand names\, slogans\, and logos (e.g.\, Canva).\nAI-Powered Videos: Create promotional short videos (e.g.\, Invideo AI).\nSimplified Data Analysis: Analyze data quickly (e.g.\, Data Analysts Custom GPT).\nStreamlined Assessments: Automate quizzes and study guides (Notebook LM).\nTailored Online Courses: Design personalized online courses (e.g.\, WisdomPlan AI).\n\nFor questions contact IBC Assistant Director Hannah Pszenica\, email: pszenica@msu.edu
URL:https://ibc.broad.msu.edu/event/global-insights-harnessing-ai-to-revolutionize-international-business-education/
CATEGORIES:IBC
ORGANIZER;CN="Hannah Pszenica":MAILTO:pszenica@msu.edu
LOCATION:https://msu.zoom.us/webinar/register/WN_htWDgKSzQcGqVfwmK8lxuw
END:VEVENT
END:VCALENDAR