BEGIN:VCALENDAR
VERSION:2.0
PRODID:-//International Business Center - ECPv6.15.17.1//NONSGML v1.0//EN
CALSCALE:GREGORIAN
METHOD:PUBLISH
X-WR-CALNAME:International Business Center
X-ORIGINAL-URL:https://ibc.broad.msu.edu
X-WR-CALDESC:Events for International Business Center
REFRESH-INTERVAL;VALUE=DURATION:PT1H
X-Robots-Tag:noindex
X-PUBLISHED-TTL:PT1H
BEGIN:VTIMEZONE
TZID:America/Detroit
BEGIN:DAYLIGHT
TZOFFSETFROM:-0500
TZOFFSETTO:-0400
TZNAME:EDT
DTSTART:20040404T070000
END:DAYLIGHT
BEGIN:STANDARD
TZOFFSETFROM:-0400
TZOFFSETTO:-0500
TZNAME:EST
DTSTART:20041031T060000
END:STANDARD
BEGIN:DAYLIGHT
TZOFFSETFROM:-0500
TZOFFSETTO:-0400
TZNAME:EDT
DTSTART:20050403T070000
END:DAYLIGHT
BEGIN:STANDARD
TZOFFSETFROM:-0400
TZOFFSETTO:-0500
TZNAME:EST
DTSTART:20051030T060000
END:STANDARD
BEGIN:DAYLIGHT
TZOFFSETFROM:-0500
TZOFFSETTO:-0400
TZNAME:EDT
DTSTART:20060402T070000
END:DAYLIGHT
BEGIN:STANDARD
TZOFFSETFROM:-0400
TZOFFSETTO:-0500
TZNAME:EST
DTSTART:20061029T060000
END:STANDARD
END:VTIMEZONE
BEGIN:VEVENT
DTSTART;TZID=America/Detroit:20050514T000000
DTEND;TZID=America/Detroit:20050519T000000
DTSTAMP:20260421T001012
CREATED:20240319T190108Z
LAST-MODIFIED:20240521T171549Z
UID:10001138-1116028800-1116460800@ibc.broad.msu.edu
SUMMARY:6th Biennial International Business Institute for Community College Faculty
DESCRIPTION:The 6th Biennial International Business Institute for Community College Faculty is a unique professional development program designed specifically for community and technical college faculty. The Institute is designed to provide participants with the knowledge\, experience and resources they need to internationalize general business courses and/or develop specialized international business courses.
URL:https://ibc.broad.msu.edu/event/6th-biennial-international-business-institute-for-community-college-faculty/
LOCATION:East Lansing\, MI\, Chicago\, United States
CATEGORIES:IBC
END:VEVENT
BEGIN:VEVENT
DTSTART;TZID=America/Detroit:20050529T000000
DTEND;TZID=America/Detroit:20050531T000000
DTSTAMP:20260421T001012
CREATED:20240319T190558Z
LAST-MODIFIED:20240521T171527Z
UID:10001137-1117324800-1117497600@ibc.broad.msu.edu
SUMMARY:Consortium for International Marketing Research (CIMaR)
DESCRIPTION:CIMaR brings together international business scholars from around the globe\, including the communities of: AIB\, EIBA\, ANZIBA\, EMAC\, AMA (Global Marketing SIG)\, Academy of Management (International Division)\, and others. 2005 Annual Meeting will take place at the Autonomous University of Barcelona.
URL:https://ibc.broad.msu.edu/event/consortium-for-international-marketing-research-cimar/
CATEGORIES:IBC
END:VEVENT
END:VCALENDAR