BEGIN:VCALENDAR
VERSION:2.0
PRODID:-//International Business Center - ECPv6.15.17.1//NONSGML v1.0//EN
CALSCALE:GREGORIAN
METHOD:PUBLISH
X-WR-CALNAME:International Business Center
X-ORIGINAL-URL:https://ibc.broad.msu.edu
X-WR-CALDESC:Events for International Business Center
REFRESH-INTERVAL;VALUE=DURATION:PT1H
X-Robots-Tag:noindex
X-PUBLISHED-TTL:PT1H
BEGIN:VTIMEZONE
TZID:America/Detroit
BEGIN:DAYLIGHT
TZOFFSETFROM:-0500
TZOFFSETTO:-0400
TZNAME:EDT
DTSTART:20050403T070000
END:DAYLIGHT
BEGIN:STANDARD
TZOFFSETFROM:-0400
TZOFFSETTO:-0500
TZNAME:EST
DTSTART:20051030T060000
END:STANDARD
BEGIN:DAYLIGHT
TZOFFSETFROM:-0500
TZOFFSETTO:-0400
TZNAME:EDT
DTSTART:20060402T070000
END:DAYLIGHT
BEGIN:STANDARD
TZOFFSETFROM:-0400
TZOFFSETTO:-0500
TZNAME:EST
DTSTART:20061029T060000
END:STANDARD
BEGIN:DAYLIGHT
TZOFFSETFROM:-0500
TZOFFSETTO:-0400
TZNAME:EDT
DTSTART:20070311T070000
END:DAYLIGHT
BEGIN:STANDARD
TZOFFSETFROM:-0400
TZOFFSETTO:-0500
TZNAME:EST
DTSTART:20071104T060000
END:STANDARD
END:VTIMEZONE
BEGIN:VEVENT
DTSTART;TZID=America/Detroit:20060405T000000
DTEND;TZID=America/Detroit:20060407T000000
DTSTAMP:20260419T165046
CREATED:20240319T194004Z
LAST-MODIFIED:20240521T164510Z
UID:10001123-1144195200-1144368000@ibc.broad.msu.edu
SUMMARY:Latin American & Caribbean Connections: Legacies and Transformations
DESCRIPTION:Please join us for the 3rd Annual Center for Latin American & Caribbean (CLACS) Studies Student Conference at Michigan State University. Undergraduate students from all disciplines are encouraged to submit abstracts of papers on topics relating to Latin America and the Caribbean such as migration\, environment\, biodiversity\, education\, finance\, trade\, social movements\, history\, politics\, development\, media\, arts and literature.  This can involve work for a class\, independent study or as part of a study abroad program.  Faculty will select the best three papers for prizes.
URL:https://ibc.broad.msu.edu/event/latin-american-caribbean-connections-legacies-and-transformations/
LOCATION:Michigan State University\, East Lansing\, 48824\, United States
CATEGORIES:IBC
END:VEVENT
BEGIN:VEVENT
DTSTART;TZID=America/Detroit:20060407T000000
DTEND;TZID=America/Detroit:20060408T000000
DTSTAMP:20260419T165046
CREATED:20240319T191749Z
LAST-MODIFIED:20240521T164447Z
UID:10001122-1144368000-1144454400@ibc.broad.msu.edu
SUMMARY:Understanding Wahhabism
DESCRIPTION:The Muslim Studies Program at MSU\, with the assistance of the Office of the Provost\, CSS\, JMC\, CAL\, the Le Frak Forum\, CERS\, and CIBER will hold its first major conference on April 7-8 on “Understanding Wahhabism”. It will be held in Club Spartan on the 3rd Floor of Case Hall. Sessions will be held beginning 9:30am on both days. It is free and open to the public.
URL:https://ibc.broad.msu.edu/event/understanding-wahhabism/
LOCATION:Michigan Sate University\, East Lansing\, 48824\, United States
CATEGORIES:IBC
END:VEVENT
BEGIN:VEVENT
DTSTART;TZID=America/Detroit:20060419T000000
DTEND;TZID=America/Detroit:20060419T000000
DTSTAMP:20260419T165046
CREATED:20240319T190759Z
LAST-MODIFIED:20240521T164425Z
UID:10001121-1145404800-1145404800@ibc.broad.msu.edu
SUMMARY:The Global Business Club of Mid-Michigan
DESCRIPTION:Presented by James C. Epolito\, President and Chief Executive Officer\, Michigan Economic Development Corporation
URL:https://ibc.broad.msu.edu/event/the-global-business-club-of-mid-michigan-6/
LOCATION:The University Club of MSU\, 3435 Forest Rd\, Lansing\, 48910\, United States
CATEGORIES:Global Business Club,IBC
END:VEVENT
BEGIN:VEVENT
DTSTART;TZID=America/Detroit:20060422T000000
DTEND;TZID=America/Detroit:20060422T000000
DTSTAMP:20260419T165046
CREATED:20240319T190127Z
LAST-MODIFIED:20240521T164405Z
UID:10001120-1145664000-1145664000@ibc.broad.msu.edu
SUMMARY:World Languages Day 2006
DESCRIPTION:MSU will invite hundreds of high school students\, teachers\, administrators\, and parents to campus to explore a world of languages during World Languages Day.  Free to all participants\, this event will focus on the experiences that languages offer\, and highlight the opportunities available for language study at MSU.
URL:https://ibc.broad.msu.edu/event/world-languages-day-2006/
LOCATION:Wells Hall\, 619 Red Cedar Rd\, East Lansing\, 48824\, United States
CATEGORIES:IBC
END:VEVENT
END:VCALENDAR