BEGIN:VCALENDAR
VERSION:2.0
PRODID:-//International Business Center - ECPv6.15.17.1//NONSGML v1.0//EN
CALSCALE:GREGORIAN
METHOD:PUBLISH
X-WR-CALNAME:International Business Center
X-ORIGINAL-URL:https://ibc.broad.msu.edu
X-WR-CALDESC:Events for International Business Center
REFRESH-INTERVAL;VALUE=DURATION:PT1H
X-Robots-Tag:noindex
X-PUBLISHED-TTL:PT1H
BEGIN:VTIMEZONE
TZID:America/Detroit
BEGIN:DAYLIGHT
TZOFFSETFROM:-0500
TZOFFSETTO:-0400
TZNAME:EDT
DTSTART:20110313T070000
END:DAYLIGHT
BEGIN:STANDARD
TZOFFSETFROM:-0400
TZOFFSETTO:-0500
TZNAME:EST
DTSTART:20111106T060000
END:STANDARD
BEGIN:DAYLIGHT
TZOFFSETFROM:-0500
TZOFFSETTO:-0400
TZNAME:EDT
DTSTART:20120311T070000
END:DAYLIGHT
BEGIN:STANDARD
TZOFFSETFROM:-0400
TZOFFSETTO:-0500
TZNAME:EST
DTSTART:20121104T060000
END:STANDARD
BEGIN:DAYLIGHT
TZOFFSETFROM:-0500
TZOFFSETTO:-0400
TZNAME:EDT
DTSTART:20130310T070000
END:DAYLIGHT
BEGIN:STANDARD
TZOFFSETFROM:-0400
TZOFFSETTO:-0500
TZNAME:EST
DTSTART:20131103T060000
END:STANDARD
END:VTIMEZONE
BEGIN:VEVENT
DTSTART;TZID=America/Detroit:20120502T000000
DTEND;TZID=America/Detroit:20120502T000000
DTSTAMP:20260422T224224
CREATED:20240319T194611Z
LAST-MODIFIED:20240520T214957Z
UID:10000910-1335916800-1335916800@ibc.broad.msu.edu
SUMMARY:Special Libraries Association Michigan Chapter: globalEDGE event
DESCRIPTION:Join the Special Libraries Association Michigan Chapter on May 2 to learn about globalEDGE\, a free international business website that offers a wealth of information\, insights\, and resources on global business activities. \nglobalEDGE has been featured in the Wall Street Journal and cited as a Best of the Best Business Website for International Business research by the Business Reference and Services Section (BRASS) of the ALA. globalEDGE features include a Resource Desk with links to thousands of high-quality international business websites\, a vast IB glossary\, Export Tutorials FAQ\, and sections on trade blocs\, countries\, states\, and industries featuring insights on doing business in the worlds markets and industries. Additionally\, globalEDGE hosts an international business blog\, the Market Potential Index for Emerging Markets\, a Database of International Business Statistics (DIBS)\, and numerous other tools and resources for the international business practitioner\, researcher\, or educator. \nSarah Singer\, Assistant Director of MSUs International Business Center\, will show us why globalEDGE is widely used by faculty\, students\, librarians\, and business people around the world and how you can incorporate it into your research repertoire.
URL:https://ibc.broad.msu.edu/event/special-libraries-association-michigan-chapter-globaledge-event/
CATEGORIES:IBC
END:VEVENT
BEGIN:VEVENT
DTSTART;TZID=America/Detroit:20120508T000000
DTEND;TZID=America/Detroit:20120508T000000
DTSTAMP:20260422T224224
CREATED:20240319T194632Z
LAST-MODIFIED:20240520T214934Z
UID:10000909-1336435200-1336435200@ibc.broad.msu.edu
SUMMARY:Global Business Club of Mid-Michigan: World Trade Week West Michigan
DESCRIPTION:Speaker John Hendrickson\, Executive Vice President\, PerrigoRegistration: http://www.gvsu.edu/wtw/ \nThe World Trade Week Business Conference 2012 – Achieving Export Growth – has much to offer to both novice and experienced exporters. Join us as we hear from experts and specialists about strategies\, opportunities and resources available to help businesses increase international sales.The Global Business Club of Mid-Michigan focuses on global issues of interest to the mid-Michigan business community. The monthly GB Club luncheons provide outstanding speakers and relaxed networking opportunities. With extensive international experience\, the speakers wrap personal insights around a practical and up-to-the-minute approach to conducting international trade.
URL:https://ibc.broad.msu.edu/event/global-business-club-of-mid-michigan-world-trade-week-west-michigan/
LOCATION:Grand Valley State University\, Allendale\, United States
CATEGORIES:IBC
END:VEVENT
BEGIN:VEVENT
DTSTART;TZID=America/Detroit:20120509T000000
DTEND;TZID=America/Detroit:20120509T000000
DTSTAMP:20260422T224224
CREATED:20240319T194609Z
LAST-MODIFIED:20240520T214805Z
UID:10000908-1336521600-1336521600@ibc.broad.msu.edu
SUMMARY:Global Business Club of Mid-Michigan: Automated Export Compliance Seminar & Workshop
DESCRIPTION:Speaker Speakers from U.S. Census\, Border Control\, etc. Wed\, May 9: AES SEMINAR \nThu\, May 10: PcLink WORKSHOP \nIs your company compliant? It is important you understand the current requirements of the Foreign Trade Regulations (FTR) and how to avoid penalties and possible seizure of your commodities. In addition it is vital to provide accurate and complete data in efforts to help the trade make sound business decisions.  This seminar will include clarifications to the Foreign Trade Regulations including ITAR & EAR\, an overview of the AES\, commodity classification\, hands-on AESpc Link training\, and more. Click on the flyer for registration. \nShawn Shannon\, shawn@m-palm.com 443.895.8881 \nNOTE: Included in your registration fee is the option to meet with an DEC member for a one-on-one 20 minute counseling session. Please contact Jade Sims\, sims@bus.msu.edu 517.884.1660 \nThe Global Business Club of Mid-Michigan focuses on global issues of interest to the mid-Michigan business community. The monthly GB Club luncheons provide outstanding speakers and relaxed networking opportunities. With extensive international experience\, the speakers wrap personal insights around a practical and up-to-the-minute approach to conducting international trade.
URL:https://ibc.broad.msu.edu/event/global-business-club-of-mid-michigan-automated-export-compliance-seminar-workshop/
LOCATION:MSU Henry Center for Executive Development\, 3535 Forest Rd.\, Lansing\, 48910\, United States
CATEGORIES:IBC
END:VEVENT
BEGIN:VEVENT
DTSTART;TZID=America/Detroit:20120510T000000
DTEND;TZID=America/Detroit:20120510T000000
DTSTAMP:20260422T224224
CREATED:20240319T194609Z
LAST-MODIFIED:20240520T214742Z
UID:10000907-1336608000-1336608000@ibc.broad.msu.edu
SUMMARY:2012 Coface North America Country Risk Meeting
DESCRIPTION:Coface Country Risk events focus on the outlook for business-to-business trade around the world. Attendees include companies\, banks\, academics\, and professionals from the international trade community. The New York meeting focuses on the short-term economic situation on a region by region basis.
URL:https://ibc.broad.msu.edu/event/2012-coface-north-america-country-risk-meeting/
LOCATION:Sentry Center’s Wharton Ballroom\, 750 E Shaw Ln\, East Lansing\, 48824\, United States
CATEGORIES:IBC
END:VEVENT
BEGIN:VEVENT
DTSTART;TZID=America/Detroit:20120515T000000
DTEND;TZID=America/Detroit:20120515T000000
DTSTAMP:20260422T224224
CREATED:20240319T194628Z
LAST-MODIFIED:20240520T214725Z
UID:10000906-1337040000-1337040000@ibc.broad.msu.edu
SUMMARY:Global Business Club of Mid-Michigan: Port Lansing Global Logistics Conference
DESCRIPTION:Speaker Michael Finney\, Michigan Economic Development CorporationFor more information & registration\, go to http://www.portlansing.com/conference/ \nThe Global Business Club of Mid-Michigan focuses on global issues of interest to the mid-Michigan business community. The monthly GB Club luncheons provide outstanding speakers and relaxed networking opportunities. With extensive international experience\, the speakers wrap personal insights around a practical and up-to-the-minute approach to conducting international trade.
URL:https://ibc.broad.msu.edu/event/global-business-club-of-mid-michigan-port-lansing-global-logistics-conference/
LOCATION:Kellogg Hotel & Conference Center\, 219 S Harrison Rd\, East Lansing\, 48824\, United States
CATEGORIES:IBC
END:VEVENT
BEGIN:VEVENT
DTSTART;TZID=America/Detroit:20120515T000000
DTEND;TZID=America/Detroit:20120519T000000
DTSTAMP:20260422T224224
CREATED:20240319T195017Z
LAST-MODIFIED:20240520T214704Z
UID:10000905-1337040000-1337385600@ibc.broad.msu.edu
SUMMARY:Meet the JAMS Editor @ Academy of Marketing Science Conference
DESCRIPTION:JAMS Editor Tomas Hult will be at the Academy of Marketing Science conference and will also participate in a Meet the Editor’s panel. Stop by if you are attending AMS! He will also present the annual best paper award to Shelby Hunt at the awards luncheon (also check the program for a session in which Prof. Hunt will discuss his winning paper).
URL:https://ibc.broad.msu.edu/event/meet-the-jams-editor-academy-of-marketing-science-conference/
LOCATION:New Orleans\, LA\, New Orleans\, United States
CATEGORIES:IBC
END:VEVENT
BEGIN:VEVENT
DTSTART;TZID=America/Detroit:20120522T000000
DTEND;TZID=America/Detroit:20120525T000000
DTSTAMP:20260422T224224
CREATED:20240319T195017Z
LAST-MODIFIED:20240520T214650Z
UID:10000904-1337644800-1337904000@ibc.broad.msu.edu
SUMMARY:Meet the JAMS Editor @ European Marketing Academy Conference
DESCRIPTION:If you’re attending the European Marketing Academy conference\, check out the Meet the Editors panel – JAMS Editor Tomas Hult will be participating.
URL:https://ibc.broad.msu.edu/event/meet-the-jams-editor-european-marketing-academy-conference/
LOCATION:Lisbon\, Portugal\, Lisbon\, Portugal
CATEGORIES:IBC
END:VEVENT
BEGIN:VEVENT
DTSTART;TZID=America/Detroit:20120523T000000
DTEND;TZID=America/Detroit:20120523T000000
DTSTAMP:20260422T224224
CREATED:20240319T194628Z
LAST-MODIFIED:20240520T214622Z
UID:10000903-1337731200-1337731200@ibc.broad.msu.edu
SUMMARY:Global Business Club of Mid-Michigan: Incoterms 2010: The ICC Rules Explained
DESCRIPTION:Speaker Frank ReynoldsMore info & registration: \nhttp://eastmichigandec.org/incoterms/ \nFrank Reynolds is uniquely qualified to explain Incoterms® 2010 rules to Americans. He brought nearly 50 years of hands-on practical trade expertise to the 2000 and 2010 Incoterms® revisions where he represented the United States. He has been instructing trade-related topics for over 25 years.The Global Business Club of Mid-Michigan focuses on global issues of interest to the mid-Michigan business community. The monthly GB Club luncheons provide outstanding speakers and relaxed networking opportunities. With extensive international experience\, the speakers wrap personal insights around a practical and up-to-the-minute approach to conducting international trade.
URL:https://ibc.broad.msu.edu/event/global-business-club-of-mid-michigan-incoterms-2010-the-icc-rules-explained/
LOCATION:Detroit/Wayne Co. Port Authority\, Detroit\, MI\, Detroit\, United States
CATEGORIES:IBC
END:VEVENT
BEGIN:VEVENT
DTSTART;TZID=America/Detroit:20120524T000000
DTEND;TZID=America/Detroit:20120524T000000
DTSTAMP:20260422T224224
CREATED:20240319T194610Z
LAST-MODIFIED:20240520T214549Z
UID:10000902-1337817600-1337817600@ibc.broad.msu.edu
SUMMARY:Global Business Club of Mid-Michigan: The World is Your Market: Export 101
DESCRIPTION:Speaker Mark Kinsler\, Vice President International Business & Attraction\, MEDCOn May 24th\, the Small Business Administration (SBA) and the US Census Bureau/Foreign Trade Division will bring their expertise to YOU.  We have put together a half-day program of information on how to begin exporting–now.  You will learn how to utilize Census information to do research and make informed decisions on entering new markets\, and learn how to use SBA’s online Export Business Planner.  Get the tools you need to feel competent in the export game!The Global Business Club of Mid-Michigan focuses on global issues of interest to the mid-Michigan business community. The monthly GB Club luncheons provide outstanding speakers and relaxed networking opportunities. With extensive international experience\, the speakers wrap personal insights around a practical and up-to-the-minute approach to conducting international trade.
URL:https://ibc.broad.msu.edu/event/global-business-club-of-mid-michigan-the-world-is-your-market-export-101/
LOCATION:MSU Henry Center for Executive Development\, 3535 Forest Rd.\, Lansing\, 48910\, United States
CATEGORIES:IBC
END:VEVENT
BEGIN:VEVENT
DTSTART;TZID=America/Detroit:20120530T000000
DTEND;TZID=America/Detroit:20120530T000000
DTSTAMP:20260422T224224
CREATED:20240319T194632Z
LAST-MODIFIED:20240520T214527Z
UID:10000901-1338336000-1338336000@ibc.broad.msu.edu
SUMMARY:Global Business Club of Mid-Michigan: How To Investigate and Choose Overseas Markets & Creating a Market Entry Strategy
DESCRIPTION:Speaker Tomas Hult\, Director\, International Business CenterDr. Hult and Ms. Jade Sims\, Trade Specialist\, will present these 2 complementary workshops.  In the morning\, you will learn about the online tools available to you and have the opportunity to create your own market selection tool.  In the afternoon\, we will explore the costs and benefits of different modes of international market entry. $50 includes lunch & certificate of completion.  Registration at: http://www.lansingchamber.org/panel/upcoming-eventsThe Global Business Club of Mid-Michigan focuses on global issues of interest to the mid-Michigan business community. The monthly GB Club luncheons provide outstanding speakers and relaxed networking opportunities. With extensive international experience\, the speakers wrap personal insights around a practical and up-to-the-minute approach to conducting international trade.
URL:https://ibc.broad.msu.edu/event/global-business-club-of-mid-michigan-how-to-investigate-and-choose-overseas-markets-creating-a-market-entry-strategy/
LOCATION:Lansing Regional Chamber of Commerce\, 500 E Michigan Ave\, Lansing\, 48912\, United States
CATEGORIES:IBC
END:VEVENT
END:VCALENDAR