BEGIN:VCALENDAR
VERSION:2.0
PRODID:-//International Business Center - ECPv6.15.17.1//NONSGML v1.0//EN
CALSCALE:GREGORIAN
METHOD:PUBLISH
X-WR-CALNAME:International Business Center
X-ORIGINAL-URL:https://ibc.broad.msu.edu
X-WR-CALDESC:Events for International Business Center
REFRESH-INTERVAL;VALUE=DURATION:PT1H
X-Robots-Tag:noindex
X-PUBLISHED-TTL:PT1H
BEGIN:VTIMEZONE
TZID:America/Detroit
BEGIN:DAYLIGHT
TZOFFSETFROM:-0500
TZOFFSETTO:-0400
TZNAME:EDT
DTSTART:20120311T070000
END:DAYLIGHT
BEGIN:STANDARD
TZOFFSETFROM:-0400
TZOFFSETTO:-0500
TZNAME:EST
DTSTART:20121104T060000
END:STANDARD
BEGIN:DAYLIGHT
TZOFFSETFROM:-0500
TZOFFSETTO:-0400
TZNAME:EDT
DTSTART:20130310T070000
END:DAYLIGHT
BEGIN:STANDARD
TZOFFSETFROM:-0400
TZOFFSETTO:-0500
TZNAME:EST
DTSTART:20131103T060000
END:STANDARD
BEGIN:DAYLIGHT
TZOFFSETFROM:-0500
TZOFFSETTO:-0400
TZNAME:EDT
DTSTART:20140309T070000
END:DAYLIGHT
BEGIN:STANDARD
TZOFFSETFROM:-0400
TZOFFSETTO:-0500
TZNAME:EST
DTSTART:20141102T060000
END:STANDARD
BEGIN:DAYLIGHT
TZOFFSETFROM:-0500
TZOFFSETTO:-0400
TZNAME:EDT
DTSTART:20150308T070000
END:DAYLIGHT
BEGIN:STANDARD
TZOFFSETFROM:-0400
TZOFFSETTO:-0500
TZNAME:EST
DTSTART:20151101T060000
END:STANDARD
END:VTIMEZONE
BEGIN:VEVENT
DTSTART;TZID=America/Detroit:20131121T000000
DTEND;TZID=America/Detroit:20141121T000000
DTSTAMP:20260422T004848
CREATED:20240319T195113Z
LAST-MODIFIED:20240520T211616Z
UID:10000844-1384992000-1416528000@ibc.broad.msu.edu
SUMMARY:Lansing Economic Club: Celebration of Regional Growth
DESCRIPTION:Lansing Economic Club’s annual Healthcare Forum featuring a joint presentation from the Mayo Clinic and Sparrow Health System
URL:https://ibc.broad.msu.edu/event/lansing-economic-club-celebration-of-regional-growth-2/
LOCATION:Kellogg Hotel & Conference Center\, 219 S Harrison Rd\, East Lansing\, 48824\, United States
CATEGORIES:IBC
END:VEVENT
BEGIN:VEVENT
DTSTART;TZID=America/Detroit:20140213T000000
DTEND;TZID=America/Detroit:20141113T000000
DTSTAMP:20260422T004848
CREATED:20240319T195114Z
LAST-MODIFIED:20240520T211200Z
UID:10000833-1392249600-1415836800@ibc.broad.msu.edu
SUMMARY:Lansing Economic Club: Dr. Mary Sue Coleman
DESCRIPTION:Presentation byDr. Mary Sue Coleman\, President\, University of Michigan
URL:https://ibc.broad.msu.edu/event/lansing-economic-club-dr-mary-sue-coleman/
LOCATION:Kellogg Hotel & Conference Center\, 219 S Harrison Rd\, East Lansing\, 48824\, United States
CATEGORIES:IBC
END:VEVENT
BEGIN:VEVENT
DTSTART;TZID=America/Detroit:20141002T000000
DTEND;TZID=America/Detroit:20141002T000000
DTSTAMP:20260422T004848
CREATED:20240319T195050Z
LAST-MODIFIED:20240520T204328Z
UID:10000809-1412208000-1412208000@ibc.broad.msu.edu
SUMMARY:Global Business Club of Mid-Michigan: Michigan's Transformation in Growing World Trade - 2014 Port Lansing Global Logistics Conference Luncheon
DESCRIPTION:Speaker Andrew S. Doctoroff – Governors Office\, Senior Advisor\, TransportationMichigan’s Andrew S. Doctoroff – Governors Office\, senior advisor – will inform and captivate the keynote luncheon audience with Michigans Transformation in Growing World Trade\, detailing the States current trailblazing initiatives to advance international trade and supply chain infrastructure to benefit all in Michigan. A special focus will be placed on the State’s recent initiatives that take advantage of our geographic\, educational\, and industry strengths to move the regional economy forward. Note that you should only register here if you are unable to participate in the rest of the conference events. If you plan to participate in the Port Lansing 2014 Global Logistics Conference\, you should register at http://www.portlansing.com/conference/ This luncheon is included with full conference registration.The Global Business Club of Mid-Michigan focuses on global issues of interest to the mid-Michigan business community. The monthly GB Club luncheons provide outstanding speakers and relaxed networking opportunities. With extensive international experience\, the speakers wrap personal insights around a practical and up-to-the-minute approach to conducting international trade.
URL:https://ibc.broad.msu.edu/event/global-business-club-of-mid-michigan-michigans-transformation-in-growing-world-trade-2014-port-lansing-global-logistics-conference-luncheon/
LOCATION:Kellogg Hotel & Conference Center\, 219 S Harrison Rd\, East Lansing\, 48824\, United States
CATEGORIES:IBC
END:VEVENT
BEGIN:VEVENT
DTSTART;TZID=America/Detroit:20141002T000000
DTEND;TZID=America/Detroit:20141003T000000
DTSTAMP:20260422T004848
CREATED:20240319T195053Z
LAST-MODIFIED:20240520T204307Z
UID:10000808-1412208000-1412294400@ibc.broad.msu.edu
SUMMARY:International Business Institute on the Road - Tulsa Community College
DESCRIPTION:The aim of this workshop is to provide participants with the knowldedge\, experience and resources they need to internationalize general business courses and/or develop specialized international business courses at the two-year college level.
URL:https://ibc.broad.msu.edu/event/international-business-institute-on-the-road-tulsa-community-college/
LOCATION:Tulsa\, OK\, Tulsa\, United States
CATEGORIES:IBC
END:VEVENT
BEGIN:VEVENT
DTSTART;TZID=America/Detroit:20141012T000000
DTEND;TZID=America/Detroit:20141015T000000
DTSTAMP:20260422T004848
CREATED:20240319T195034Z
LAST-MODIFIED:20240520T204252Z
UID:10000807-1413072000-1413331200@ibc.broad.msu.edu
SUMMARY:NACCE: Entrepreneurship: From Mindset to Meaningful Action
DESCRIPTION:Connect in person to NACCE’s community of practice. Network with peers who have an entrepreneurial mindset. Crowdsource innovative solutions for your campus and entrepreneurial ecosystem. Roll up your sleeves to develop a plan to put your ideas into action. Get practical support from disruptive peers sharing their best practices.
URL:https://ibc.broad.msu.edu/event/nacce-entrepreneurship-from-mindset-to-meaningful-action/
LOCATION:Phoenix\, AZ\, Phoenix\, United States
CATEGORIES:IBC
END:VEVENT
BEGIN:VEVENT
DTSTART;TZID=America/Detroit:20141022T000000
DTEND;TZID=America/Detroit:20141022T000000
DTSTAMP:20260422T004848
CREATED:20240319T195109Z
LAST-MODIFIED:20240520T204234Z
UID:10000806-1413936000-1413936000@ibc.broad.msu.edu
SUMMARY:Creating an Award-Winning International Business Classroom
DESCRIPTION:Webinar: Creating an Award-Winning International Business Classroom: Join McGraw-Hill author\, G. Tomas M. Hult\, as he shares best practices for designing and delivering a dynamic International Business classroom. With a focus on cutting edge research using globalEDGE\, Tomas will provide instruction on how to best illustrate theories and evidence relevant to the modern world of International Business to guide 21st century business leaders.
URL:https://ibc.broad.msu.edu/event/creating-an-award-winning-international-business-classroom/
CATEGORIES:IBC
END:VEVENT
BEGIN:VEVENT
DTSTART;TZID=America/Detroit:20141029T000000
DTEND;TZID=America/Detroit:20141029T000000
DTSTAMP:20260422T004848
CREATED:20240319T195108Z
LAST-MODIFIED:20240520T204203Z
UID:10000805-1414540800-1414540800@ibc.broad.msu.edu
SUMMARY:Export 201 - How to Select and Investigate Overseas Markets
DESCRIPTION:If you are like most business owners in the United States\, you are constantly working to target the best opportunities for your firm within the constraints of more and more limited resources. Youve heard of opportunities in China\, Brazil\, Indiabut is Mexico a better choice? Learn how to quickly and efficiently research and rank your best overseas markets. Well utilize the best in free market research tools on the webincluding the top-ranked globalEDGE to get you quick and affordable access to up-to-the-minute and relevant information.Please come to the event with a list of your products (services)\, and two or three proposed countries for research.GUEST SPEAKER \nJade Sims – Outreach Specialist\, Business & International Trade – Michigan State University’s International Business Center \nTOPICS INCLUDE: \n Choosing a Foreign Market \n Researching Potential Demand Within Specific Countries \n Hands-on Training With a No-cost Market Research Tool \nWHERE: \nWashtenaw Community College \nGunder Myran\, Room 022 \n4800 E Huron River Dr \nAnn Arbor\, MI 48105
URL:https://ibc.broad.msu.edu/event/export-201-how-to-select-and-investigate-overseas-markets/
LOCATION:Washtenaw Community College\, 4800 E Huron River Dr\, Ann Arbor\, 48105\, United States
CATEGORIES:IBC
END:VEVENT
BEGIN:VEVENT
DTSTART;TZID=America/Detroit:20141029T000000
DTEND;TZID=America/Detroit:20141029T000000
DTSTAMP:20260422T004848
CREATED:20240319T195302Z
LAST-MODIFIED:20240520T200312Z
UID:10000804-1414540800-1414540800@ibc.broad.msu.edu
SUMMARY:How to Conduct International Market Research
DESCRIPTION:Learn how to use globalEDGE and other online tools to determine your best international markets!
URL:https://ibc.broad.msu.edu/event/how-to-conduct-international-market-research/
LOCATION:Washtenaw Community College\, 4800 E Huron River Dr\, Ann Arbor\, 48105\, United States
CATEGORIES:IBC
END:VEVENT
BEGIN:VEVENT
DTSTART;TZID=America/Detroit:20141030T000000
DTEND;TZID=America/Detroit:20141030T000000
DTSTAMP:20260422T004848
CREATED:20240319T195055Z
LAST-MODIFIED:20240520T200039Z
UID:10000803-1414627200-1414627200@ibc.broad.msu.edu
SUMMARY:Lansing Economic Club: Margaret Dimond\, PhD
DESCRIPTION:Our October Economic Club keynote speaker is Margarte Dimond\, PhD\, President of Karmanos Cancer Institute. As President\, Dimond manages all clinical operations of the Karmanos Center in Detroit\, Farmington Hills\, and Monroe. Prior to her current position\, Dimond fulfilled duties as President and Chief Executive Officer of the McLaren Medical Group. Dimond has earned her doctorate degree from Michigan State University\, along with a variety of other degrees from University of Michigan\, Boston College\, and St. Marys College. Sponsored by McLaren Greater Lansing.Program immediately follows the Healthcare Forum. $40/member\, $55/nonmember or $300/table of 8 (includes lunch). Pre-registration can be completed at www.lansingchamber.org.
URL:https://ibc.broad.msu.edu/event/lansing-economic-club-margaret-dimond-phd/
LOCATION:Kellogg Hotel & Conference Center\, 219 S Harrison Rd\, East Lansing\, 48824\, United States
CATEGORIES:IBC
END:VEVENT
END:VCALENDAR