BEGIN:VCALENDAR
VERSION:2.0
PRODID:-//International Business Center - ECPv6.15.17.1//NONSGML v1.0//EN
CALSCALE:GREGORIAN
METHOD:PUBLISH
X-WR-CALNAME:International Business Center
X-ORIGINAL-URL:https://ibc.broad.msu.edu
X-WR-CALDESC:Events for International Business Center
REFRESH-INTERVAL;VALUE=DURATION:PT1H
X-Robots-Tag:noindex
X-PUBLISHED-TTL:PT1H
BEGIN:VTIMEZONE
TZID:America/Detroit
BEGIN:DAYLIGHT
TZOFFSETFROM:-0500
TZOFFSETTO:-0400
TZNAME:EDT
DTSTART:20140309T070000
END:DAYLIGHT
BEGIN:STANDARD
TZOFFSETFROM:-0400
TZOFFSETTO:-0500
TZNAME:EST
DTSTART:20141102T060000
END:STANDARD
BEGIN:DAYLIGHT
TZOFFSETFROM:-0500
TZOFFSETTO:-0400
TZNAME:EDT
DTSTART:20150308T070000
END:DAYLIGHT
BEGIN:STANDARD
TZOFFSETFROM:-0400
TZOFFSETTO:-0500
TZNAME:EST
DTSTART:20151101T060000
END:STANDARD
BEGIN:DAYLIGHT
TZOFFSETFROM:-0500
TZOFFSETTO:-0400
TZNAME:EDT
DTSTART:20160313T070000
END:DAYLIGHT
BEGIN:STANDARD
TZOFFSETFROM:-0400
TZOFFSETTO:-0500
TZNAME:EST
DTSTART:20161106T060000
END:STANDARD
END:VTIMEZONE
BEGIN:VEVENT
DTSTART;TZID=America/Detroit:20150531T000000
DTEND;TZID=America/Detroit:20150603T000000
DTSTAMP:20260422T142315
CREATED:20240319T195109Z
LAST-MODIFIED:20240520T192628Z
UID:10000775-1433030400-1433289600@ibc.broad.msu.edu
SUMMARY:11th Biennial International Business Institute for Community Colleges
DESCRIPTION:The 11th Biennial International Business Institute for Community College Faculty is a unique professional development program designed specifically for community and technical college faculty. The aim of the Institute is to provide participants with the knowledge\, experience and resources they need to internationalize general business courses and/or develop specialized international business courses at the two-year college level.
URL:https://ibc.broad.msu.edu/event/11th-biennial-international-business-institute-for-community-colleges/
LOCATION:East Lansing\, MI\, Chicago\, United States
CATEGORIES:IBC
END:VEVENT
BEGIN:VEVENT
DTSTART;TZID=America/Detroit:20150608T000000
DTEND;TZID=America/Detroit:20150609T000000
DTSTAMP:20260422T142315
CREATED:20240319T195304Z
LAST-MODIFIED:20240520T192502Z
UID:10000774-1433721600-1433808000@ibc.broad.msu.edu
SUMMARY:NASBITE CGBP training
DESCRIPTION:A 2-day training to prepare individuals for the NASBITE Certified Global Business Professional exam.
URL:https://ibc.broad.msu.edu/event/nasbite-cgbp-training/
CATEGORIES:IBC
END:VEVENT
BEGIN:VEVENT
DTSTART;TZID=America/Detroit:20150609T000000
DTEND;TZID=America/Detroit:20150612T000000
DTSTAMP:20260422T142315
CREATED:20240319T195158Z
LAST-MODIFIED:20240520T192331Z
UID:10000773-1433808000-1434067200@ibc.broad.msu.edu
SUMMARY:Global Internship Conference
DESCRIPTION:The theme of the conference is: Internships and Employability: Building a Global Portfolio.Embarking on a professional career has rarely been more difficult\, and the worldwide recession has meant that young graduates entry into the world of work is more hazardous than ever. How can experts in practical education help prepare our students and ease their transition to global professionals? At the Global Internship Conference we will be examining ideas\, programs and results from around the world.
URL:https://ibc.broad.msu.edu/event/global-internship-conference/
LOCATION:Dublin\, Ireland\, Dublin\, Ireland
CATEGORIES:IBC
END:VEVENT
BEGIN:VEVENT
DTSTART;TZID=America/Detroit:20150627T000000
DTEND;TZID=America/Detroit:20150630T000000
DTSTAMP:20260422T142315
CREATED:20240319T195054Z
LAST-MODIFIED:20240520T192309Z
UID:10000772-1435363200-1435622400@ibc.broad.msu.edu
SUMMARY:Academy of International Business Annual Conference
DESCRIPTION:Annual Conference of the Academy of International Business (AIB); the leading association of scholars and specialists in the field of international business. The 2015 meeting will be held in Bengaluru\, India on June 27-30\, 2015. AIB’s host school will be Indian Institute of Management\, Bangalore (IIMB).
URL:https://ibc.broad.msu.edu/event/academy-of-international-business-annual-conference-2/
LOCATION:Bangalore\, India\, Bangalore\, India
CATEGORIES:IBC
END:VEVENT
END:VCALENDAR