BEGIN:VCALENDAR
VERSION:2.0
PRODID:-//International Business Center - ECPv6.15.17.1//NONSGML v1.0//EN
CALSCALE:GREGORIAN
METHOD:PUBLISH
X-WR-CALNAME:International Business Center
X-ORIGINAL-URL:https://ibc.broad.msu.edu
X-WR-CALDESC:Events for International Business Center
REFRESH-INTERVAL;VALUE=DURATION:PT1H
X-Robots-Tag:noindex
X-PUBLISHED-TTL:PT1H
BEGIN:VTIMEZONE
TZID:America/Detroit
BEGIN:DAYLIGHT
TZOFFSETFROM:-0500
TZOFFSETTO:-0400
TZNAME:EDT
DTSTART:19970406T070000
END:DAYLIGHT
BEGIN:STANDARD
TZOFFSETFROM:-0400
TZOFFSETTO:-0500
TZNAME:EST
DTSTART:19971026T060000
END:STANDARD
BEGIN:DAYLIGHT
TZOFFSETFROM:-0500
TZOFFSETTO:-0400
TZNAME:EDT
DTSTART:19980405T070000
END:DAYLIGHT
BEGIN:STANDARD
TZOFFSETFROM:-0400
TZOFFSETTO:-0500
TZNAME:EST
DTSTART:19981025T060000
END:STANDARD
BEGIN:DAYLIGHT
TZOFFSETFROM:-0500
TZOFFSETTO:-0400
TZNAME:EDT
DTSTART:19990404T070000
END:DAYLIGHT
BEGIN:STANDARD
TZOFFSETFROM:-0400
TZOFFSETTO:-0500
TZNAME:EST
DTSTART:19991031T060000
END:STANDARD
END:VTIMEZONE
BEGIN:VEVENT
DTSTART;TZID=America/Detroit:19980711T000000
DTEND;TZID=America/Detroit:19980715T000000
DTSTAMP:20260423T160256
CREATED:20240319T193946Z
LAST-MODIFIED:20240521T214600Z
UID:10001218-900115200-900460800@ibc.broad.msu.edu
SUMMARY:American Marketing Association: Eighteenth Faculty Consortium on International Marketing
DESCRIPTION:Given the growing importance of international\, comparative and cross-cultural expertise in both teaching and researching marketing\, the 1998 AMA Faculty Consortium will be devoted to International Marketing. The overall objective of this professional development event is to enhance the international competence of those marketing faculty who are planning or are already teaching and researching in international marketing.
URL:https://ibc.broad.msu.edu/event/american-marketing-association-eighteenth-faculty-consortium-on-international-marketing/
LOCATION:Kellogg Hotel & Conference Center\, 219 S Harrison Rd\, East Lansing\, 48824\, United States
CATEGORIES:IBC
END:VEVENT
END:VCALENDAR