BEGIN:VCALENDAR
VERSION:2.0
PRODID:-//International Business Center - ECPv6.15.17.1//NONSGML v1.0//EN
CALSCALE:GREGORIAN
METHOD:PUBLISH
X-WR-CALNAME:International Business Center
X-ORIGINAL-URL:https://ibc.broad.msu.edu
X-WR-CALDESC:Events for International Business Center
REFRESH-INTERVAL;VALUE=DURATION:PT1H
X-Robots-Tag:noindex
X-PUBLISHED-TTL:PT1H
BEGIN:VTIMEZONE
TZID:America/Detroit
BEGIN:DAYLIGHT
TZOFFSETFROM:-0500
TZOFFSETTO:-0400
TZNAME:EDT
DTSTART:19980405T070000
END:DAYLIGHT
BEGIN:STANDARD
TZOFFSETFROM:-0400
TZOFFSETTO:-0500
TZNAME:EST
DTSTART:19981025T060000
END:STANDARD
BEGIN:DAYLIGHT
TZOFFSETFROM:-0500
TZOFFSETTO:-0400
TZNAME:EDT
DTSTART:19990404T070000
END:DAYLIGHT
BEGIN:STANDARD
TZOFFSETFROM:-0400
TZOFFSETTO:-0500
TZNAME:EST
DTSTART:19991031T060000
END:STANDARD
BEGIN:DAYLIGHT
TZOFFSETFROM:-0500
TZOFFSETTO:-0400
TZNAME:EDT
DTSTART:20000402T070000
END:DAYLIGHT
BEGIN:STANDARD
TZOFFSETFROM:-0400
TZOFFSETTO:-0500
TZNAME:EST
DTSTART:20001029T060000
END:STANDARD
END:VTIMEZONE
BEGIN:VEVENT
DTSTART;TZID=America/Detroit:19991013T000000
DTEND;TZID=America/Detroit:19991013T000000
DTSTAMP:20260420T004308
CREATED:20240319T192552Z
LAST-MODIFIED:20240521T192518Z
UID:10001205-939772800-939772800@ibc.broad.msu.edu
SUMMARY:The Politics of the Euro: The European Union and a Common Currency After One Year
DESCRIPTION:Elizabeth Pond is currently a contributing correspondent for The Washington Quarterly. She was a Woodrow Wilson Center fellow from 94-95 and a MacArthur. Research and Writing fellow from 91-93. She has had teaching appointments at Simmons College\, Johns Hopkins and Bonn Universities. From 1967-88 she served as a foreign correspondent for the Christian Science Monitor in Europe\, Moscow\, Tokyo\, and Saigon.
URL:https://ibc.broad.msu.edu/event/the-politics-of-the-euro-the-european-union-and-a-common-currency-after-one-year/
CATEGORIES:IBC
END:VEVENT
END:VCALENDAR