BEGIN:VCALENDAR
VERSION:2.0
PRODID:-//International Business Center - ECPv6.15.17.1//NONSGML v1.0//EN
CALSCALE:GREGORIAN
METHOD:PUBLISH
X-WR-CALNAME:International Business Center
X-ORIGINAL-URL:https://ibc.broad.msu.edu
X-WR-CALDESC:Events for International Business Center
REFRESH-INTERVAL;VALUE=DURATION:PT1H
X-Robots-Tag:noindex
X-PUBLISHED-TTL:PT1H
BEGIN:VTIMEZONE
TZID:America/Detroit
BEGIN:DAYLIGHT
TZOFFSETFROM:-0500
TZOFFSETTO:-0400
TZNAME:EDT
DTSTART:20030406T070000
END:DAYLIGHT
BEGIN:STANDARD
TZOFFSETFROM:-0400
TZOFFSETTO:-0500
TZNAME:EST
DTSTART:20031026T060000
END:STANDARD
BEGIN:DAYLIGHT
TZOFFSETFROM:-0500
TZOFFSETTO:-0400
TZNAME:EDT
DTSTART:20040404T070000
END:DAYLIGHT
BEGIN:STANDARD
TZOFFSETFROM:-0400
TZOFFSETTO:-0500
TZNAME:EST
DTSTART:20041031T060000
END:STANDARD
BEGIN:DAYLIGHT
TZOFFSETFROM:-0500
TZOFFSETTO:-0400
TZNAME:EDT
DTSTART:20050403T070000
END:DAYLIGHT
BEGIN:STANDARD
TZOFFSETFROM:-0400
TZOFFSETTO:-0500
TZNAME:EST
DTSTART:20051030T060000
END:STANDARD
END:VTIMEZONE
BEGIN:VEVENT
DTSTART;TZID=America/Detroit:20040316T000000
DTEND;TZID=America/Detroit:20040316T000000
DTSTAMP:20260422T172800
CREATED:20240319T190146Z
LAST-MODIFIED:20240521T174223Z
UID:10001160-1079395200-1079395200@ibc.broad.msu.edu
SUMMARY:International Business Forum:
DESCRIPTION:The Broad Graduate School of Management at MSU is dedicated to continually advancing practical knowledge in the field of global supply chain management. Professor Closs is one of the key members of this effort; he will focus today on products suitable for China sourcing and the application on comprehensive techniques.
URL:https://ibc.broad.msu.edu/event/international-business-forum-3/
LOCATION:Michigan Athletic Club\, 2900 Hannah Blvd\, East Lansing\, 48823\, United States
CATEGORIES:IBC
END:VEVENT
END:VCALENDAR