BEGIN:VCALENDAR
VERSION:2.0
PRODID:-//International Business Center - ECPv6.15.17.1//NONSGML v1.0//EN
CALSCALE:GREGORIAN
METHOD:PUBLISH
X-WR-CALNAME:International Business Center
X-ORIGINAL-URL:https://ibc.broad.msu.edu
X-WR-CALDESC:Events for International Business Center
REFRESH-INTERVAL;VALUE=DURATION:PT1H
X-Robots-Tag:noindex
X-PUBLISHED-TTL:PT1H
BEGIN:VTIMEZONE
TZID:America/Detroit
BEGIN:DAYLIGHT
TZOFFSETFROM:-0500
TZOFFSETTO:-0400
TZNAME:EDT
DTSTART:20030406T070000
END:DAYLIGHT
BEGIN:STANDARD
TZOFFSETFROM:-0400
TZOFFSETTO:-0500
TZNAME:EST
DTSTART:20031026T060000
END:STANDARD
BEGIN:DAYLIGHT
TZOFFSETFROM:-0500
TZOFFSETTO:-0400
TZNAME:EDT
DTSTART:20040404T070000
END:DAYLIGHT
BEGIN:STANDARD
TZOFFSETFROM:-0400
TZOFFSETTO:-0500
TZNAME:EST
DTSTART:20041031T060000
END:STANDARD
BEGIN:DAYLIGHT
TZOFFSETFROM:-0500
TZOFFSETTO:-0400
TZNAME:EDT
DTSTART:20050403T070000
END:DAYLIGHT
BEGIN:STANDARD
TZOFFSETFROM:-0400
TZOFFSETTO:-0500
TZNAME:EST
DTSTART:20051030T060000
END:STANDARD
END:VTIMEZONE
BEGIN:VEVENT
DTSTART;TZID=America/Detroit:20040603T000000
DTEND;TZID=America/Detroit:20040606T000000
DTSTAMP:20260425T131157
CREATED:20240319T190958Z
LAST-MODIFIED:20240521T174029Z
UID:10001157-1086220800-1086480000@ibc.broad.msu.edu
SUMMARY:Globalization Seminars
DESCRIPTION:The CIBER Globalization Seminars are designed to help U.S. business faculty bring international context into the classroom and to expand teaching and research skills.
URL:https://ibc.broad.msu.edu/event/globalization-seminars-2/
LOCATION:University of Memphis\, 3720 Alumni Ave\, Memphis\, 38152\, United States
CATEGORIES:IBC
END:VEVENT
BEGIN:VEVENT
DTSTART;TZID=America/Detroit:20040605T000000
DTEND;TZID=America/Detroit:20040606T000000
DTSTAMP:20260425T131157
CREATED:20240319T190200Z
LAST-MODIFIED:20240521T173920Z
UID:10001156-1086393600-1086480000@ibc.broad.msu.edu
SUMMARY:Global Management Accounting Research Symposium (GMARS)
DESCRIPTION:GMARS aims to promote a “global village” of management accounting research by bringing together a diverse set of the highest-quality research papers\, plenary speakers\, and researchers from around the world.
URL:https://ibc.broad.msu.edu/event/global-management-accounting-research-symposium-gmars/
LOCATION:Copenhagen Business School\, University of New South Wales\, High St \, Sydney\, Australia
CATEGORIES:IBC
END:VEVENT
BEGIN:VEVENT
DTSTART;TZID=America/Detroit:20040616T000000
DTEND;TZID=America/Detroit:20040618T000000
DTSTAMP:20260425T131157
CREATED:20240319T190959Z
LAST-MODIFIED:20240521T173858Z
UID:10001155-1087344000-1087516800@ibc.broad.msu.edu
SUMMARY:Pedagogy for International Business (PIB) Workshop
DESCRIPTION:For faculty or PhD students who plan to teach an internationally oriented course\, take advantage of new technology to improve the delivery of international content\, and incorporate experiential activities into your course curricula.
URL:https://ibc.broad.msu.edu/event/pedagogy-for-international-business-pib-workshop/
LOCATION:Indianapolis\, IN\, Indianapolis\, United States
CATEGORIES:IBC
END:VEVENT
BEGIN:VEVENT
DTSTART;TZID=America/Detroit:20040621T000000
DTEND;TZID=America/Detroit:20040625T000000
DTSTAMP:20260425T131157
CREATED:20240319T190108Z
LAST-MODIFIED:20240521T173836Z
UID:10001154-1087776000-1088121600@ibc.broad.msu.edu
SUMMARY:Summer Institute for Teaching Business Language
DESCRIPTION:There is a national need for foreign-language educators with skills in both language and knowledge of business. The Penn Lauder CIBER\, together with Penn’s Graduate School of Education and West Chester University\, is pleased to offer a program of study in business communication in language.
URL:https://ibc.broad.msu.edu/event/summer-institute-for-teaching-business-language/
LOCATION:Philadelphia\, PA\, Philadelphia\, United States
CATEGORIES:IBC
END:VEVENT
END:VCALENDAR