BEGIN:VCALENDAR
VERSION:2.0
PRODID:-//International Business Center - ECPv6.15.17.1//NONSGML v1.0//EN
CALSCALE:GREGORIAN
METHOD:PUBLISH
X-WR-CALNAME:International Business Center
X-ORIGINAL-URL:https://ibc.broad.msu.edu
X-WR-CALDESC:Events for International Business Center
REFRESH-INTERVAL;VALUE=DURATION:PT1H
X-Robots-Tag:noindex
X-PUBLISHED-TTL:PT1H
BEGIN:VTIMEZONE
TZID:America/Detroit
BEGIN:DAYLIGHT
TZOFFSETFROM:-0500
TZOFFSETTO:-0400
TZNAME:EDT
DTSTART:20060402T070000
END:DAYLIGHT
BEGIN:STANDARD
TZOFFSETFROM:-0400
TZOFFSETTO:-0500
TZNAME:EST
DTSTART:20061029T060000
END:STANDARD
BEGIN:DAYLIGHT
TZOFFSETFROM:-0500
TZOFFSETTO:-0400
TZNAME:EDT
DTSTART:20070311T070000
END:DAYLIGHT
BEGIN:STANDARD
TZOFFSETFROM:-0400
TZOFFSETTO:-0500
TZNAME:EST
DTSTART:20071104T060000
END:STANDARD
BEGIN:DAYLIGHT
TZOFFSETFROM:-0500
TZOFFSETTO:-0400
TZNAME:EDT
DTSTART:20080309T070000
END:DAYLIGHT
BEGIN:STANDARD
TZOFFSETFROM:-0400
TZOFFSETTO:-0500
TZNAME:EST
DTSTART:20081102T060000
END:STANDARD
END:VTIMEZONE
BEGIN:VEVENT
DTSTART;TZID=America/Detroit:20071103T000000
DTEND;TZID=America/Detroit:20071103T000000
DTSTAMP:20260423T040606
CREATED:20240319T194123Z
LAST-MODIFIED:20240521T004613Z
UID:10001070-1194048000-1194048000@ibc.broad.msu.edu
SUMMARY:Celebrating Rumi in the 21st Century
DESCRIPTION:This conference examines the poetry & philosophy of Rumi\, the 13th-century Muslim poet\, philosopher\, & mystic\, & its relevance to contemporary understandings of Islamic culture. It also deals with renewed interests in Rumi’s writings in recent years throughout the Middle East\, Europe\, & the United States. The starting point of the conference is Rumi’s well-known verse “come\, come again\, whoever you are\, come!” Rumi’s eloquent & humanistic poetry\, written sometimes with a sense of humor\, creates a window on Islamic beliefs\, values\, & wisdom that is far removed from images of violence & terrorism. Bringing well-known scholars of Islamic mysticism\, Rumi\, & the Middle East together\, we explore Rumi’s writings\, their place in Islamic literature & society\, & their resurgence as bestsellers in the West. The universality of Rumi’s poetry fosters an understanding of the human experience that transcends the boundaries of nations\, religions\, & languages.
URL:https://ibc.broad.msu.edu/event/celebrating-rumi-in-the-21st-century/
LOCATION:MSU Union\, 49 Abbot Rd\, East Lansing\, 48824\, United States
CATEGORIES:IBC
END:VEVENT
BEGIN:VEVENT
DTSTART;TZID=America/Detroit:20071116T000000
DTEND;TZID=America/Detroit:20071116T000000
DTSTAMP:20260423T040606
CREATED:20240319T194121Z
LAST-MODIFIED:20240521T004547Z
UID:10001069-1195171200-1195171200@ibc.broad.msu.edu
SUMMARY:MSU Greater China Supply Chain Forum
DESCRIPTION:The Greater China Supply Chain Forum is a core project of the Broad International Business Forum (BIBF)\, held each fall at Michigan State University. Each year over 300 students\, faculty and professionals converge to hear top managers speak about their experiences in China. These managers travel to East Lansing from around the globe to represent such multinational corporations as Dell\, Whirlpool\, UPS\, GM\, A.T. Kearney\, and many more. Three panels of speakers are joined by guest moderators to provide a full day of presentations and Q&A on focused topics in current\, international business. An informal luncheon in the middle of the day brings speakers and attendees together for a chance to interact on a more personal level\, and sets the scene for the announcement of the annual BIBF scholarship recipient. This award is given to an outstanding international student and made possible by the generous donations of the forum’s sponsors.
URL:https://ibc.broad.msu.edu/event/msu-greater-china-supply-chain-forum/
LOCATION:Kellogg Hotel & Conference Center\, 219 S Harrison Rd\, East Lansing\, 48824\, United States
CATEGORIES:IBC
END:VEVENT
BEGIN:VEVENT
DTSTART;TZID=America/Detroit:20071118T000000
DTEND;TZID=America/Detroit:20071118T000000
DTSTAMP:20260423T040606
CREATED:20240319T194132Z
LAST-MODIFIED:20240521T004509Z
UID:10001068-1195344000-1195344000@ibc.broad.msu.edu
SUMMARY:Global Festival 2007
DESCRIPTION:At this 22nd annual festival\, MSU international student organizations and area nationality groups will share their cultures with exhibits\, performances of ethnic dances and music; fashion shows; and demonstrations of native games and crafts. The World Gift shop offers a variety of international art works\, jewelry\, glassware\, clothing\, stamps\, and a multitude of gift items (proceeds support scholarship fund for spouses of international students to attend MSU classes). The Global Cafe serves ethnic cuisine.
URL:https://ibc.broad.msu.edu/event/global-festival-2007/
LOCATION:MSU Union\, 49 Abbot Rd\, East Lansing\, 48824\, United States
CATEGORIES:IBC
END:VEVENT
BEGIN:VEVENT
DTSTART;TZID=America/Detroit:20071128T000000
DTEND;TZID=America/Detroit:20071128T000000
DTSTAMP:20260423T040606
CREATED:20240319T194100Z
LAST-MODIFIED:20240521T004437Z
UID:10001067-1196208000-1196208000@ibc.broad.msu.edu
SUMMARY:Lansing Regional Chamber Economic Club Luncheon
DESCRIPTION:The Lansing Regional Chamber Economic Club is dedicated to promoting and stimulating economic growth through timely and insightful community forums presented for personal and professional development. The Economic Club provides a forum where local business and community leaders can hear presentations on a broad range of business-related topics. Past presentations have ranged from how global economic trends affect the national and local economy\, to hearing how leaders from different walks of life have achieved their success and view of the future. Denise Illitch\, President of Illitch Enterprises will speak at the November luncheon.
URL:https://ibc.broad.msu.edu/event/lansing-regional-chamber-economic-club-luncheon-7/
LOCATION:East Lansing\, MI\, Chicago\, United States
CATEGORIES:IBC
END:VEVENT
BEGIN:VEVENT
DTSTART;TZID=America/Detroit:20071128T000000
DTEND;TZID=America/Detroit:20071128T000000
DTSTAMP:20260423T040606
CREATED:20240319T194113Z
LAST-MODIFIED:20240521T004417Z
UID:10001066-1196208000-1196208000@ibc.broad.msu.edu
SUMMARY:Global Business Club Luncheon
DESCRIPTION:The Global Business Club of Mid-Michigan focuses on global issues of interest to the mid-Michigan business community. In this role\, the GB Club is dedicated to supporting global business growth of the State of Michigan and its diverse manufacturing and service organizations. The main activity of the GB Club is the luncheon speaker series. \nThe monthly GB Club luncheons provide outstanding speakers and relaxed networking opportunities. With extensive international experience\, the speakers wrap personal insights around a practical and up-to-the-minute approach to conducting international trade. The luncheons are open to the general public. Typically\, about 100 business executives\, public policy makers\, and academics attend each luncheon.
URL:https://ibc.broad.msu.edu/event/global-business-club-luncheon-3/
LOCATION:The University Club of MSU\, 3435 Forest Rd\, Lansing\, 48910\, United States
CATEGORIES:IBC
END:VEVENT
END:VCALENDAR