BEGIN:VCALENDAR
VERSION:2.0
PRODID:-//International Business Center - ECPv6.15.17.1//NONSGML v1.0//EN
CALSCALE:GREGORIAN
METHOD:PUBLISH
X-WR-CALNAME:International Business Center
X-ORIGINAL-URL:https://ibc.broad.msu.edu
X-WR-CALDESC:Events for International Business Center
REFRESH-INTERVAL;VALUE=DURATION:PT1H
X-Robots-Tag:noindex
X-PUBLISHED-TTL:PT1H
BEGIN:VTIMEZONE
TZID:America/Detroit
BEGIN:DAYLIGHT
TZOFFSETFROM:-0500
TZOFFSETTO:-0400
TZNAME:EDT
DTSTART:20100314T070000
END:DAYLIGHT
BEGIN:STANDARD
TZOFFSETFROM:-0400
TZOFFSETTO:-0500
TZNAME:EST
DTSTART:20101107T060000
END:STANDARD
BEGIN:DAYLIGHT
TZOFFSETFROM:-0500
TZOFFSETTO:-0400
TZNAME:EDT
DTSTART:20110313T070000
END:DAYLIGHT
BEGIN:STANDARD
TZOFFSETFROM:-0400
TZOFFSETTO:-0500
TZNAME:EST
DTSTART:20111106T060000
END:STANDARD
BEGIN:DAYLIGHT
TZOFFSETFROM:-0500
TZOFFSETTO:-0400
TZNAME:EDT
DTSTART:20120311T070000
END:DAYLIGHT
BEGIN:STANDARD
TZOFFSETFROM:-0400
TZOFFSETTO:-0500
TZNAME:EST
DTSTART:20121104T060000
END:STANDARD
END:VTIMEZONE
BEGIN:VEVENT
DTSTART;TZID=America/Detroit:20110907T000000
DTEND;TZID=America/Detroit:20110907T000000
DTSTAMP:20260422T105934
CREATED:20240319T194340Z
LAST-MODIFIED:20240520T222523Z
UID:10000931-1315353600-1315353600@ibc.broad.msu.edu
SUMMARY:Global Business Club of Mid-Michigan: Global Business Club September Luncheon
DESCRIPTION:Speaker: Peter Walters\, Chairman of the Board\, Guardian IndustriesJoin us as we welcome back to Michigan State Peter Walters\, friend and former board member of MSU-CIBERThe Global Business Club of Mid-Michigan focuses on global issues of interest to the mid-Michigan business community. The monthly GB Club luncheons provide outstanding speakers and relaxed networking opportunities. With extensive international experience\, the speakers wrap personal insights around a practical and up-to-the-minute approach to conducting international trade.
URL:https://ibc.broad.msu.edu/event/global-business-club-of-mid-michigan-global-business-club-september-luncheon/
LOCATION:MSU Henry Center for Executive Development\, 3535 Forest Rd.\, Lansing\, 48910\, United States
CATEGORIES:IBC
END:VEVENT
BEGIN:VEVENT
DTSTART;TZID=America/Detroit:20110914T000000
DTEND;TZID=America/Detroit:20110914T000000
DTSTAMP:20260422T105935
CREATED:20240319T194346Z
LAST-MODIFIED:20240520T221440Z
UID:10000930-1315958400-1315958400@ibc.broad.msu.edu
SUMMARY:Global Business Club of Mid-Michigan: Why Singapore? Why Southeast Asia? Why Now?
DESCRIPTION:Speaker: The Honorable David I. AdelmanAmbassador Adelman and his colleagues will be addressing the state of Michigan about the benefits of strengthening our economic relationship with southeast Asia and the National Export Initiative (NEI)The Global Business Club of Mid-Michigan focuses on global issues of interest to the mid-Michigan business community. The monthly GB Club luncheons provide outstanding speakers and relaxed networking opportunities. With extensive international experience\, the speakers wrap personal insights around a practical and up-to-the-minute approach to conducting international trade.
URL:https://ibc.broad.msu.edu/event/global-business-club-of-mid-michigan-why-singapore-why-southeast-asia-why-now/
LOCATION:MSU Union\, 49 Abbot Rd\, East Lansing\, 48824\, United States
CATEGORIES:IBC
END:VEVENT
BEGIN:VEVENT
DTSTART;TZID=America/Detroit:20110915T000000
DTEND;TZID=America/Detroit:20110915T000000
DTSTAMP:20260422T105935
CREATED:20240319T194352Z
LAST-MODIFIED:20240520T221420Z
UID:10000929-1316044800-1316044800@ibc.broad.msu.edu
SUMMARY:Lansing Economic Club: Tom Anastos\, MSU Men's Hockey Coach
DESCRIPTION:Speaker Tom Anastos\, MSU Men’s Hockey Coach. Sponsored by Loomis\, Ewert\, Parsley\, Davis & Gotting\, P.C. Program begins at Noon; please arrive early for registration & networking. Single Tickets $40\, or tables of eight $300 (includes lunch). Pre-registration is required.
URL:https://ibc.broad.msu.edu/event/lansing-economic-club-tom-anastos-msu-mens-hockey-coach/
LOCATION:Kellogg Hotel & Conference Center\, 219 S Harrison Rd\, East Lansing\, 48824\, United States
CATEGORIES:IBC
END:VEVENT
BEGIN:VEVENT
DTSTART;TZID=America/Detroit:20110921T000000
DTEND;TZID=America/Detroit:20110921T000000
DTSTAMP:20260422T105935
CREATED:20240319T194346Z
LAST-MODIFIED:20240520T221403Z
UID:10000928-1316563200-1316563200@ibc.broad.msu.edu
SUMMARY:Mexico - Towards Being the USA's First Trade Partner: The Necessary Political\, Social and Business Conditions
DESCRIPTION:Please join us for a presentation by Jose Calderoni-Arroyo focusing on trade with Mexico. Mr. Calderoni-Arroyo is a business entrepreneur and MSU alumnus.
URL:https://ibc.broad.msu.edu/event/mexico-towards-being-the-usas-first-trade-partner-the-necessary-political-social-and-business-conditions/
LOCATION:MSU International Center\, 427 N Shaw Ln\, East Lansing\, 48824\, United States
CATEGORIES:IBC
END:VEVENT
END:VCALENDAR