BEGIN:VCALENDAR
VERSION:2.0
PRODID:-//International Business Center - ECPv6.15.17.1//NONSGML v1.0//EN
CALSCALE:GREGORIAN
METHOD:PUBLISH
X-ORIGINAL-URL:https://ibc.broad.msu.edu
X-WR-CALDESC:Events for International Business Center
REFRESH-INTERVAL;VALUE=DURATION:PT1H
X-Robots-Tag:noindex
X-PUBLISHED-TTL:PT1H
BEGIN:VTIMEZONE
TZID:America/Detroit
BEGIN:DAYLIGHT
TZOFFSETFROM:-0500
TZOFFSETTO:-0400
TZNAME:EDT
DTSTART:20100314T070000
END:DAYLIGHT
BEGIN:STANDARD
TZOFFSETFROM:-0400
TZOFFSETTO:-0500
TZNAME:EST
DTSTART:20101107T060000
END:STANDARD
BEGIN:DAYLIGHT
TZOFFSETFROM:-0500
TZOFFSETTO:-0400
TZNAME:EDT
DTSTART:20110313T070000
END:DAYLIGHT
BEGIN:STANDARD
TZOFFSETFROM:-0400
TZOFFSETTO:-0500
TZNAME:EST
DTSTART:20111106T060000
END:STANDARD
BEGIN:DAYLIGHT
TZOFFSETFROM:-0500
TZOFFSETTO:-0400
TZNAME:EDT
DTSTART:20120311T070000
END:DAYLIGHT
BEGIN:STANDARD
TZOFFSETFROM:-0400
TZOFFSETTO:-0500
TZNAME:EST
DTSTART:20121104T060000
END:STANDARD
END:VTIMEZONE
BEGIN:VEVENT
DTSTART;TZID=America/Detroit:20111006T000000
DTEND;TZID=America/Detroit:20111006T000000
DTSTAMP:20260425T144341
CREATED:20240319T194353Z
LAST-MODIFIED:20240520T221343Z
UID:10000927-1317859200-1317859200@ibc.broad.msu.edu
SUMMARY:Lansing Economic Club: Dennis Swan\, CEO of Sparrow Health System
DESCRIPTION:Dennis Swan\, CEO of Sparrow Health System. Sponsored by Foster\, Swift\, Collins & Smith\, PC. Program begins at Noon; please arrive early for registration & networking. Single Tickets $40\, or tables of eight $300 (includes lunch). Pre-registration is required.
URL:https://ibc.broad.msu.edu/event/lansing-economic-club-dennis-swan-ceo-of-sparrow-health-system/
LOCATION:Kellogg Hotel & Conference Center\, 219 S Harrison Rd\, East Lansing\, 48824\, United States
CATEGORIES:IBC
END:VEVENT
BEGIN:VEVENT
DTSTART;TZID=America/Detroit:20111016T000000
DTEND;TZID=America/Detroit:20111019T000000
DTSTAMP:20260425T144341
CREATED:20240319T194348Z
LAST-MODIFIED:20240520T221300Z
UID:10000926-1318723200-1318982400@ibc.broad.msu.edu
SUMMARY:Great Lakes International Trade and Transport Hub Summit: Developing an Action Agenda
DESCRIPTION:The summit is planned as a benchmark event coinciding with Michigans Trade and Infrastructure month. You will gain critical information about what is needed and what will be done to accelerate the export economy that involves the U.S. Midwest and Canada.
URL:https://ibc.broad.msu.edu/event/great-lakes-international-trade-and-transport-hub-summit-developing-an-action-agenda/
LOCATION:East Lansing\, MI\, Chicago\, United States
CATEGORIES:IBC
END:VEVENT
BEGIN:VEVENT
DTSTART;TZID=America/Detroit:20111020T000000
DTEND;TZID=America/Detroit:20111020T000000
DTSTAMP:20260425T144341
CREATED:20240319T194348Z
LAST-MODIFIED:20240520T221225Z
UID:10000925-1319068800-1319068800@ibc.broad.msu.edu
SUMMARY:Presentation on Sustainable Development in Nicaragua
DESCRIPTION:Speakers Pat Florke and Kathy Floerke\, visiting from the Center for Development in Central America (CDCA)\, will speak about the CDCAs work with microenterprises\, lending projects\, and Fair Trade. The CDCA is a non-profit devoted to sustainable development in Nicaragua.
URL:https://ibc.broad.msu.edu/event/presentation-on-sustainable-development-in-nicaragua/
LOCATION:Wanderer’s Teahouse\, 547 E Grand River Ave\, East Lansing\, 48823\, United States
CATEGORIES:IBC
END:VEVENT
END:VCALENDAR