BEGIN:VCALENDAR
VERSION:2.0
PRODID:-//International Business Center - ECPv6.15.17.1//NONSGML v1.0//EN
CALSCALE:GREGORIAN
METHOD:PUBLISH
X-ORIGINAL-URL:https://ibc.broad.msu.edu
X-WR-CALDESC:Events for International Business Center
REFRESH-INTERVAL;VALUE=DURATION:PT1H
X-Robots-Tag:noindex
X-PUBLISHED-TTL:PT1H
BEGIN:VTIMEZONE
TZID:America/Detroit
BEGIN:DAYLIGHT
TZOFFSETFROM:-0500
TZOFFSETTO:-0400
TZNAME:EDT
DTSTART:20110313T070000
END:DAYLIGHT
BEGIN:STANDARD
TZOFFSETFROM:-0400
TZOFFSETTO:-0500
TZNAME:EST
DTSTART:20111106T060000
END:STANDARD
BEGIN:DAYLIGHT
TZOFFSETFROM:-0500
TZOFFSETTO:-0400
TZNAME:EDT
DTSTART:20120311T070000
END:DAYLIGHT
BEGIN:STANDARD
TZOFFSETFROM:-0400
TZOFFSETTO:-0500
TZNAME:EST
DTSTART:20121104T060000
END:STANDARD
BEGIN:DAYLIGHT
TZOFFSETFROM:-0500
TZOFFSETTO:-0400
TZNAME:EDT
DTSTART:20130310T070000
END:DAYLIGHT
BEGIN:STANDARD
TZOFFSETFROM:-0400
TZOFFSETTO:-0500
TZNAME:EST
DTSTART:20131103T060000
END:STANDARD
END:VTIMEZONE
BEGIN:VEVENT
DTSTART;TZID=America/Detroit:20120630T000000
DTEND;TZID=America/Detroit:20120703T000000
DTSTAMP:20260423T023229
CREATED:20240319T194610Z
LAST-MODIFIED:20240520T214411Z
UID:10000898-1341014400-1341273600@ibc.broad.msu.edu
SUMMARY:Academy of International Business Annual Meeting
DESCRIPTION:The 2012 meeting will be held in Washington\, DC\, USA on June 30-July 3\, 2012. The host schools are George Washington University and University of Maryland.
URL:https://ibc.broad.msu.edu/event/academy-of-international-business-annual-meeting-3/
LOCATION:WA\, DC\, Washington\, DC\, United States
CATEGORIES:IBC
END:VEVENT
BEGIN:VEVENT
DTSTART;TZID=America/Detroit:20120727T000000
DTEND;TZID=America/Detroit:20120729T000000
DTSTAMP:20260423T023229
CREATED:20240319T195016Z
LAST-MODIFIED:20240520T214341Z
UID:10000897-1343347200-1343520000@ibc.broad.msu.edu
SUMMARY:Meet the JAMS Editor at AIM-AMA Sheth Foundation Doctoral Consortium
DESCRIPTION:JAMS Editor Tomas Hult will be at the AIM-AMA Sheth Foundation Doctoral Consortium (July 27-29) in Bangalore.
URL:https://ibc.broad.msu.edu/event/meet-the-jams-editor-at-aim-ama-sheth-foundation-doctoral-consortium/
LOCATION:Bangalore\, India\, Bangalore\, India
CATEGORIES:IBC
END:VEVENT
BEGIN:VEVENT
DTSTART;TZID=America/Detroit:20120729T000000
DTEND;TZID=America/Detroit:20120731T000000
DTSTAMP:20260423T023229
CREATED:20240319T195002Z
LAST-MODIFIED:20240520T214325Z
UID:10000896-1343520000-1343692800@ibc.broad.msu.edu
SUMMARY:Meet the JAMS Editor @ Academy of Indian Marketing Conference
DESCRIPTION:JAMS Editor Tomas Hult will be at the 2012 AIM International Annual Conference (July 29-31) and will participate on a Meet the Editors panel.
URL:https://ibc.broad.msu.edu/event/meet-the-jams-editor-academy-of-indian-marketing-conference/
LOCATION:Bangalore\, India\, Bangalore\, India
CATEGORIES:IBC
END:VEVENT
END:VCALENDAR