BEGIN:VCALENDAR
VERSION:2.0
PRODID:-//International Business Center - ECPv6.15.17.1//NONSGML v1.0//EN
CALSCALE:GREGORIAN
METHOD:PUBLISH
X-WR-CALNAME:International Business Center
X-ORIGINAL-URL:https://ibc.broad.msu.edu
X-WR-CALDESC:Events for International Business Center
REFRESH-INTERVAL;VALUE=DURATION:PT1H
X-Robots-Tag:noindex
X-PUBLISHED-TTL:PT1H
BEGIN:VTIMEZONE
TZID:America/Detroit
BEGIN:DAYLIGHT
TZOFFSETFROM:-0500
TZOFFSETTO:-0400
TZNAME:EDT
DTSTART:20150308T070000
END:DAYLIGHT
BEGIN:STANDARD
TZOFFSETFROM:-0400
TZOFFSETTO:-0500
TZNAME:EST
DTSTART:20151101T060000
END:STANDARD
BEGIN:DAYLIGHT
TZOFFSETFROM:-0500
TZOFFSETTO:-0400
TZNAME:EDT
DTSTART:20160313T070000
END:DAYLIGHT
BEGIN:STANDARD
TZOFFSETFROM:-0400
TZOFFSETTO:-0500
TZNAME:EST
DTSTART:20161106T060000
END:STANDARD
BEGIN:DAYLIGHT
TZOFFSETFROM:-0500
TZOFFSETTO:-0400
TZNAME:EDT
DTSTART:20170312T070000
END:DAYLIGHT
BEGIN:STANDARD
TZOFFSETFROM:-0400
TZOFFSETTO:-0500
TZNAME:EST
DTSTART:20171105T060000
END:STANDARD
END:VTIMEZONE
BEGIN:VEVENT
DTSTART;TZID=America/Detroit:20160205T000000
DTEND;TZID=America/Detroit:20160205T000000
DTSTAMP:20260423T013025
CREATED:20240319T195243Z
LAST-MODIFIED:20240520T190543Z
UID:10000752-1454630400-1454630400@ibc.broad.msu.edu
SUMMARY:International Business Institute on the Road - Central Nebraska Community College
DESCRIPTION:Offered in partnership with Community Colleges for International Development\, the International Business Institute on the Road workshops offer an abbreviated version of the flagship International Business Institute for Community College Faculty (IBI) that is offered biennially in East Lansing. The aim of the IBI is to provide participants with the knowledge\, experience and resources they need to internationalize general business courses and/or develop specialized international business courses at the two-year college level. Since 1995\, the biennial conference has given participants the opportunity to explore new ways of incorporating international components to their curricula as well as network with peers from across the nation.
URL:https://ibc.broad.msu.edu/event/international-business-institute-on-the-road-central-nebraska-community-college/
CATEGORIES:IBC
END:VEVENT
BEGIN:VEVENT
DTSTART;TZID=America/Detroit:20160209T000000
DTEND;TZID=America/Detroit:20160209T000000
DTSTAMP:20260423T013025
CREATED:20240319T195231Z
LAST-MODIFIED:20240520T190510Z
UID:10000751-1454976000-1454976000@ibc.broad.msu.edu
SUMMARY:Global Business Club of Mid-Michigan: Agricultural Exporting Seminar & Michigan Agricultural Exporter of the Year
DESCRIPTION:Speaker Star of the West Milling \nStar of the West Milling Co. achieved an impressive 27 percent growth in export sales from 2013-2014\, one of the reasons it has been recognized as Michigan Agricultural Exporter of the Year for 2015. The company exports to Canada\, Mexico\, Guatemala\, Jamaica\, Japan\, Malta\, and South Korea. Most recently they expanded export activity into Italy\, South Africa\, and Columbia. Star of the West is pleased to be recognized with the 2015 Michigan Agriculture Exporter of the Year award\, said Star of the West president Arthur Loeffler. This award is a reflection of the Stars commitment to partner with food producers and processors to provide quality flour\, edible soybeans and dry edible bean products to help feed the world. Register for our morning program to listento and discuss a variety of export topics with experienced businesspersons and stay for lunch to hear from Star of the West and how they’ve achieved export success! \nThe Global Business Club of Mid-Michigan focuses on global issues of interest to the mid-Michigan business community. The monthly GB Club luncheons provide outstanding speakers and relaxed networking opportunities. With extensive international experience\, the speakers wrap personal insights around a practical and up-to-the-minute approach to conducting international trade.
URL:https://ibc.broad.msu.edu/event/global-business-club-of-mid-michigan-agricultural-exporting-seminar-michigan-agricultural-exporter-of-the-year/
LOCATION:MSU Henry Center for Executive Development\, 3535 Forest Rd.\, Lansing\, 48910\, United States
CATEGORIES:IBC
END:VEVENT
BEGIN:VEVENT
DTSTART;TZID=America/Detroit:20160211T000000
DTEND;TZID=America/Detroit:20160211T000000
DTSTAMP:20260423T013025
CREATED:20240319T195232Z
LAST-MODIFIED:20240520T190411Z
UID:10000750-1455148800-1455148800@ibc.broad.msu.edu
SUMMARY:Lansing Economic Club - Mike Duggan
DESCRIPTION:Mike Duggan\, Mayor\, City of Detroit.
URL:https://ibc.broad.msu.edu/event/lansing-economic-club-mike-duggan/
LOCATION:Kellogg Hotel & Conference Center\, 219 S Harrison Rd\, East Lansing\, 48824\, United States
CATEGORIES:IBC
END:VEVENT
BEGIN:VEVENT
DTSTART;TZID=America/Detroit:20160219T000000
DTEND;TZID=America/Detroit:20160219T000000
DTSTAMP:20260423T013025
CREATED:20240319T195244Z
LAST-MODIFIED:20240520T190334Z
UID:10000749-1455840000-1455840000@ibc.broad.msu.edu
SUMMARY:International Business Institute on the Road - Polk State Community College
DESCRIPTION:Offered in partnership with Community Colleges for International Development\, the International Business Institute on the Road workshops offer an abbreviated version of the flagship International Business Institute for Community College Faculty (IBI) that is offered biennially in East Lansing. The aim of the IBI is to provide participants with the knowledge\, experience and resources they need to internationalize general business courses and/or develop specialized international business courses at the two-year college level. Since 1995\, the biennial conference has given participants the opportunity to explore new ways of incorporating international components to their curricula as well as network with peers from across the nation.
URL:https://ibc.broad.msu.edu/event/international-business-institute-on-the-road-polk-state-community-college/
CATEGORIES:IBC
END:VEVENT
BEGIN:VEVENT
DTSTART;TZID=America/Detroit:20160220T000000
DTEND;TZID=America/Detroit:20160222T000000
DTSTAMP:20260423T013025
CREATED:20240319T195243Z
LAST-MODIFIED:20240520T190318Z
UID:10000748-1455926400-1456099200@ibc.broad.msu.edu
SUMMARY:CCID Annual Conference
DESCRIPTION:Annual conference of Community Colleges for International Development (CCID)
URL:https://ibc.broad.msu.edu/event/ccid-annual-conference-2/
CATEGORIES:IBC
END:VEVENT
BEGIN:VEVENT
DTSTART;TZID=America/Detroit:20160224T000000
DTEND;TZID=America/Detroit:20160224T000000
DTSTAMP:20260423T013025
CREATED:20240319T195311Z
LAST-MODIFIED:20240520T190250Z
UID:10000747-1456272000-1456272000@ibc.broad.msu.edu
SUMMARY:Pre-mission briefing to Mexico trade mission
DESCRIPTION:Pre-mission briefing to Mexico trade mission
URL:https://ibc.broad.msu.edu/event/pre-mission-briefing-to-mexico-trade-mission/
CATEGORIES:IBC
END:VEVENT
END:VCALENDAR