BEGIN:VCALENDAR
VERSION:2.0
PRODID:-//International Business Center - ECPv6.15.17.1//NONSGML v1.0//EN
CALSCALE:GREGORIAN
METHOD:PUBLISH
X-WR-CALNAME:International Business Center
X-ORIGINAL-URL:https://ibc.broad.msu.edu
X-WR-CALDESC:Events for International Business Center
REFRESH-INTERVAL;VALUE=DURATION:PT1H
X-Robots-Tag:noindex
X-PUBLISHED-TTL:PT1H
BEGIN:VTIMEZONE
TZID:America/Detroit
BEGIN:DAYLIGHT
TZOFFSETFROM:-0500
TZOFFSETTO:-0400
TZNAME:EDT
DTSTART:20210314T070000
END:DAYLIGHT
BEGIN:STANDARD
TZOFFSETFROM:-0400
TZOFFSETTO:-0500
TZNAME:EST
DTSTART:20211107T060000
END:STANDARD
BEGIN:DAYLIGHT
TZOFFSETFROM:-0500
TZOFFSETTO:-0400
TZNAME:EDT
DTSTART:20220313T070000
END:DAYLIGHT
BEGIN:STANDARD
TZOFFSETFROM:-0400
TZOFFSETTO:-0500
TZNAME:EST
DTSTART:20221106T060000
END:STANDARD
BEGIN:DAYLIGHT
TZOFFSETFROM:-0500
TZOFFSETTO:-0400
TZNAME:EDT
DTSTART:20230312T070000
END:DAYLIGHT
BEGIN:STANDARD
TZOFFSETFROM:-0400
TZOFFSETTO:-0500
TZNAME:EST
DTSTART:20231105T060000
END:STANDARD
END:VTIMEZONE
BEGIN:VEVENT
DTSTART;TZID=America/Detroit:20220209T000000
DTEND;TZID=America/Detroit:20220209T000000
DTSTAMP:20260425T093420
CREATED:20240319T195821Z
LAST-MODIFIED:20240517T212725Z
UID:10000494-1644364800-1644364800@ibc.broad.msu.edu
SUMMARY:China and the World: Beyond the Headlines -The Important Role of Chinese Americans in U.S. History\, Business\, and Society
DESCRIPTION:In partnership with MSU faculty and the Committee of 100\, a non-profit organization dedicated to advancing \nthe inclusion of Chinese Americans across society\, this event will provide an overview of Chinese American \nhistory in the US in an effort to combat anti-Asian hate and to raise awareness about the important role \nChinese Americans have played in US history. The panelists will share their expertise\, and the event will allow \nplenty of time for Q&A from the audience.
URL:https://ibc.broad.msu.edu/event/china-and-the-world-beyond-the-headlines-the-important-role-of-chinese-americans-in-u-s-history-business-and-society/
CATEGORIES:IBC
END:VEVENT
BEGIN:VEVENT
DTSTART;TZID=America/Detroit:20220210T000000
DTEND;TZID=America/Detroit:20220210T000000
DTSTAMP:20260425T093420
CREATED:20240319T195816Z
LAST-MODIFIED:20240517T211858Z
UID:10000493-1644451200-1644451200@ibc.broad.msu.edu
SUMMARY:MEDC Mobility Roundtable
DESCRIPTION:Automotive- and mobility-sector companies are invited to join MEDC\, Ann Arbor SPARK\, and MSU International Business Center for a virtual roundtable discussion to share insights into challenges and successes of entering new markets. The discussion aims to inform moderators of how export programs can be better aligned to support this industry in 2022 and beyond.\nThis virtual event will be held February 10\, 9am10:30am and is open to up to 20 companies statewide. If you are interested in participating\, please contact your International Trade Manager.
URL:https://ibc.broad.msu.edu/event/medc-mobility-roundtable/
CATEGORIES:IBC
END:VEVENT
BEGIN:VEVENT
DTSTART;TZID=America/Detroit:20220210T000000
DTEND;TZID=America/Detroit:20220210T000000
DTSTAMP:20260425T093420
CREATED:20240319T195822Z
LAST-MODIFIED:20240517T211710Z
UID:10000492-1644451200-1644451200@ibc.broad.msu.edu
SUMMARY:MSI Consortium - Brave New World of Retailing: Trials\, Tribulations and Tips
DESCRIPTION:This presentation offers an overview of the current problems and possibilities in the retailing industry with suggestions for educators and researchers\, as well as practitioners in the area. Retailing is a service industry that exists in all the countries around the globe albeit at different levels of development. As a result\, the transformation that the world is going through is most evident in retailing given its ubiquitous nature in peoples lives in the world. The digital revolution\, along with changes in the macro environments and consumer behaviors\, trigger and fuel this transformation.
URL:https://ibc.broad.msu.edu/event/msi-consortium-brave-new-world-of-retailing-trials-tribulations-and-tips/
LOCATION:virtual
CATEGORIES:IBC
END:VEVENT
BEGIN:VEVENT
DTSTART;TZID=America/Detroit:20220211T000000
DTEND;TZID=America/Detroit:20220211T000000
DTSTAMP:20260425T093420
CREATED:20240319T195815Z
LAST-MODIFIED:20240517T211604Z
UID:10000491-1644537600-1644537600@ibc.broad.msu.edu
SUMMARY:Community Colleges Go Global: How to Design Your Education Abroad Program
DESCRIPTION:Are you looking to offer an education abroad program? This webinar will provide you with the knowledge\, experience\, and resources you need to design an education abroad program at the two-year college level. The workshop is specifically targeted towards educators and will focus on all aspects of education abroad and international internships.
URL:https://ibc.broad.msu.edu/event/community-colleges-go-global-how-to-design-your-education-abroad-program/
LOCATION:virtual
CATEGORIES:IBC
END:VEVENT
BEGIN:VEVENT
DTSTART;TZID=America/Detroit:20220217T000000
DTEND;TZID=America/Detroit:20220217T000000
DTSTAMP:20260425T093420
CREATED:20240319T195821Z
LAST-MODIFIED:20240517T211522Z
UID:10000490-1645056000-1645056000@ibc.broad.msu.edu
SUMMARY:MSI Consortium - Understanding the Basics of International Tax Avoidance: Methods and Ethics
DESCRIPTION:Multinational corporations face an unequal world in many ways\, including widely varying effective tax rates in different nations (although recent moves by the US\, EU and other nations have agreed to start reducing the disparities\, by imposing a minimum 15% corporate tax. Nevertheless\, the differences in tax rates may shrink\, but not disappear. \nThis webinar is designed to introduce academics and practitioners to the basic methods that have been used by multinationals to pay less tax in higher-tax jurisdictions\, by transferring declared taxable profits to lower-taxed countries. This is not a seminar for tax accountants but rather intended as an overview or introduction to a fundamentally important subject\, using simple examples that can be understood by instructors\, their students and also executives in multinational companies. Across the domain of international business\, the sums amount to trillions of dollars
URL:https://ibc.broad.msu.edu/event/msi-consortium-understanding-the-basics-of-international-tax-avoidance-methods-and-ethics/
LOCATION:virtual
CATEGORIES:IBC
END:VEVENT
BEGIN:VEVENT
DTSTART;TZID=America/Detroit:20220224T000000
DTEND;TZID=America/Detroit:20220224T000000
DTSTAMP:20260425T093420
CREATED:20240319T195827Z
LAST-MODIFIED:20240517T211500Z
UID:10000489-1645660800-1645660800@ibc.broad.msu.edu
SUMMARY:MSI Consortium - Manufacturing\, Product Strategy and Supply Chain Issues in the Global Automotive Industry
DESCRIPTION:The automotive industrys market sales are forecast to be US$3.8 trillion in 2022* – and this doesnt even account for all the value chain members and the vast network of stakeholders associated with doing business in this industrial vertical! Technological advances\, government regulations and a hyper-competitive market are among the forces directly impacting a flurry of product announces and new manufacturing investments around the world. \nJoin us with leading experts to explore some of the manufacturing\, product strategy and supply chain issues facing the future of the automotive industry in an evolving paradigm.
URL:https://ibc.broad.msu.edu/event/msi-consortium-manufacturing-product-strategy-and-supply-chain-issues-in-the-global-automotive-industry/
LOCATION:virtual
CATEGORIES:IBC
END:VEVENT
BEGIN:VEVENT
DTSTART;TZID=America/Detroit:20220225T000000
DTEND;TZID=America/Detroit:20220225T000000
DTSTAMP:20260425T093420
CREATED:20240319T195820Z
LAST-MODIFIED:20240517T211449Z
UID:10000488-1645747200-1645747200@ibc.broad.msu.edu
SUMMARY:Research Spotlight: The Need for Survey Research in International Business/Marketing: Tips and Trends
DESCRIPTION:For this webinar\, we invited three well-established international business/marketing scholars. Our panelists will discuss the need for survey research to address important international business/marketing phenomena\, speaking to contemporary conceptual and methodological best practices. This webinar will include short presentations followed by a discussion moderated by the co-hosts. \nKey Takeaways: \n	Learn areas of research opportunity that can best be explored via survey research \n	Gain insights into different theoretical foundations for advancing the international business/marketing literature \n	Tips related to best practices for designing and executing survey research for publication in the international business/marketing literature
URL:https://ibc.broad.msu.edu/event/research-spotlight-the-need-for-survey-research-in-international-business-marketing-tips-and-trends/
LOCATION:virtual
CATEGORIES:IBC
END:VEVENT
END:VCALENDAR