BEGIN:VCALENDAR
VERSION:2.0
PRODID:-//International Business Center - ECPv6.15.17.1//NONSGML v1.0//EN
CALSCALE:GREGORIAN
METHOD:PUBLISH
X-WR-CALNAME:International Business Center
X-ORIGINAL-URL:https://ibc.broad.msu.edu
X-WR-CALDESC:Events for International Business Center
REFRESH-INTERVAL;VALUE=DURATION:PT1H
X-Robots-Tag:noindex
X-PUBLISHED-TTL:PT1H
BEGIN:VTIMEZONE
TZID:America/Detroit
BEGIN:DAYLIGHT
TZOFFSETFROM:-0500
TZOFFSETTO:-0400
TZNAME:EDT
DTSTART:20210314T070000
END:DAYLIGHT
BEGIN:STANDARD
TZOFFSETFROM:-0400
TZOFFSETTO:-0500
TZNAME:EST
DTSTART:20211107T060000
END:STANDARD
BEGIN:DAYLIGHT
TZOFFSETFROM:-0500
TZOFFSETTO:-0400
TZNAME:EDT
DTSTART:20220313T070000
END:DAYLIGHT
BEGIN:STANDARD
TZOFFSETFROM:-0400
TZOFFSETTO:-0500
TZNAME:EST
DTSTART:20221106T060000
END:STANDARD
BEGIN:DAYLIGHT
TZOFFSETFROM:-0500
TZOFFSETTO:-0400
TZNAME:EDT
DTSTART:20230312T070000
END:DAYLIGHT
BEGIN:STANDARD
TZOFFSETFROM:-0400
TZOFFSETTO:-0500
TZNAME:EST
DTSTART:20231105T060000
END:STANDARD
END:VTIMEZONE
BEGIN:VEVENT
DTSTART;TZID=America/Detroit:20220310T000000
DTEND;TZID=America/Detroit:20220310T000000
DTSTAMP:20260425T110557
CREATED:20240319T195828Z
LAST-MODIFIED:20240517T211118Z
UID:10000487-1646870400-1646870400@ibc.broad.msu.edu
SUMMARY:MSI Consortium - Executive Education At The Crossroads: Perspectives From Around The World
DESCRIPTION:This conversation will focus on the changes we are observing in learning and careers and how executive education is changing. Panelists will also discuss implications for educators\, researchers\, and practitioners engaged in executive education. \nRecruitment and retainment of talent has become one of the biggest challenges faced by all companies around the world. this challenge is further intensified by the Great Resignation trend\, particularly among the Z generation and Millennial professionals. Businesses and individuals are becoming more interested in lifelong learning and demanding new and flexible learning experiences along the way. In fact\, the emergence of a broader\, lifelong learning perspective is noted by AACSB against the traditional front-loaded model of higher education in business schools \nFor additional info and registration\, please click on website link
URL:https://ibc.broad.msu.edu/event/msi-consortium-executive-education-at-the-crossroads-perspectives-from-around-the-world/
LOCATION:virtual
CATEGORIES:IBC
END:VEVENT
BEGIN:VEVENT
DTSTART;TZID=America/Detroit:20220310T000000
DTEND;TZID=America/Detroit:20220310T000000
DTSTAMP:20260425T110557
CREATED:20240319T195844Z
LAST-MODIFIED:20240517T211049Z
UID:10000486-1646870400-1646870400@ibc.broad.msu.edu
SUMMARY:MEDC Manufacturing Roundtable
DESCRIPTION:IBC/MSU-CIBER presented on the Global Advanced Manufacturing Industry at the Advanced Manufacturing Roundtable hosted and organized by the Michigan Economic Development Corporation and Automation Alley. Michigan manufacturing companies joined the roundtable to learn more about the industry and resources to support them with their international business matters.
URL:https://ibc.broad.msu.edu/event/medc-manufacturing-roundtable/
LOCATION:Automation Alley\, 2675 Bellingham\, Troy\, United States
CATEGORIES:IBC
END:VEVENT
BEGIN:VEVENT
DTSTART;TZID=America/Detroit:20220315T000000
DTEND;TZID=America/Detroit:20220315T000000
DTSTAMP:20260425T110557
CREATED:20240319T195832Z
LAST-MODIFIED:20240517T210920Z
UID:10000485-1647302400-1647302400@ibc.broad.msu.edu
SUMMARY:Lansing Regional Chamber: Economic Club - Women in Leadership Panel
DESCRIPTION:Women in Leadership Panel include: April Clobes\, President & CEO\, Michigan State University Federal Credit Union\, Kelly Preston\, Owner & President\, Capital Steel & Wire\, and Denise Maybank\, Vice Chancellor for Student Affairs and Enrollment Management\, City University of New York. Our moderator will be Elaine Hardy\, Director for Diversity\, Equity & Inclusion\, City of East Lansing & 2020 ATHENA Award recipient.
URL:https://ibc.broad.msu.edu/event/lansing-regional-chamber-economic-club-women-in-leadership-panel/
LOCATION:Kellogg Hotel & Conference Center\, 219 S Harrison Rd\, East Lansing\, 48824\, United States
CATEGORIES:IBC
END:VEVENT
BEGIN:VEVENT
DTSTART;TZID=America/Detroit:20220317T000000
DTEND;TZID=America/Detroit:20220317T000000
DTSTAMP:20260425T110557
CREATED:20240319T195828Z
LAST-MODIFIED:20240517T210601Z
UID:10000484-1647475200-1647475200@ibc.broad.msu.edu
SUMMARY:MSI Consortium - Entrepreneurial Ecosystems and Firm Internationalization
DESCRIPTION:Our study introduces the complementarity perspective to the entrepreneurial ecosystem (EE) research as a process to compare the two entrepreneurial ecosystems across different countries and institutions. We apply the mixed method techniques to understand what works and what does not in the ecosystem and how regional and industry level conditions may facilitate more sustainable\, resilient entrepreneurial ecosystems\, where entrepreneurs grow and internationalize. \nOur empirical part focuses on two entrepreneurial ecosystem (Istanbul in Turkey and Reading in the UK) models characterized by different EE taxonomy pillars and embedded in different local and institutional contexts. As a result of the study\, two findings emerge. First\, we find three distinct complementarities in both EEs: access to resources\, effective use of resources\, entrepreneurial orientation\, and ecosystem awareness. \nSecond\, industry and regional conditions facilitate specific entrepreneurship activity\, affects scaling and internationalization. The mechanism which enables firm scaling and internationalization in the ecosystem is much dependent on the presence and hiring by MNEs in a region. \nFor more information and registration information\, please click on website link
URL:https://ibc.broad.msu.edu/event/msi-consortium-entrepreneurial-ecosystems-and-firm-internationalization/
LOCATION:virtual
CATEGORIES:IBC
END:VEVENT
BEGIN:VEVENT
DTSTART;TZID=America/Detroit:20220317T000000
DTEND;TZID=America/Detroit:20220317T000000
DTSTAMP:20260425T110557
CREATED:20240319T195831Z
LAST-MODIFIED:20240517T210530Z
UID:10000483-1647475200-1647475200@ibc.broad.msu.edu
SUMMARY:MSI Consortium - Global Business and National Industrial Policy: Managing a Paradigm Shift
DESCRIPTION:For the last fifty years or so\, globalization has been the dominant operating paradigm for business enterprises of all sizes. Yet\, the business landscape is changing quickly. Where once eschewed by capitalistic economies\, national industrial policies are becoming more common. Join us as we explore how multinational firms are managing in this evolving global model. \nKey Takeaways: \n	Why are national industrial policies becoming more common and what are the effects on businesses from national industrial policies? \n	How are firms balancing the need for global scale with the realities of an evolving world order? \n	What factors are companies using to choose where to operate (e.g.\, sales\, manufacturing and R&D locations)? \n	What are the new business models and structures that might emerge? \n	While challenges abound\, are there positive implications for industry? \nThis webinar is free and open to all\, but registration is required. Please click on website link for additional information and to register.
URL:https://ibc.broad.msu.edu/event/msi-consortium-global-business-and-national-industrial-policy-managing-a-paradigm-shift/
LOCATION:virtual
CATEGORIES:IBC
END:VEVENT
BEGIN:VEVENT
DTSTART;TZID=America/Detroit:20220330T000000
DTEND;TZID=America/Detroit:20220330T000000
DTSTAMP:20260425T110557
CREATED:20240319T195833Z
LAST-MODIFIED:20240517T210509Z
UID:10000482-1648598400-1648598400@ibc.broad.msu.edu
SUMMARY:China and the World: Beyond the Headlines - China's Conservation Policies after Rapid Economic Development and Global Impact
DESCRIPTION:This second event in the MSU Office of China Programs China and the World Spring series will focus on research conducted by members of Stanford’s Center on China’s Economy and Institutions (SCCEI) and their research collaborators at the Chinese Academy of Sciences. The findings are based on years of collaboration and highlight China’s monumental conservation efforts. Faculty from Stanford\, MSU\, and the Chinese Academy of Sciences will discuss the impact and implications of their own and related research in this field. \nWe encourage you to read this two page brief from SCCEI prior to attending the event: https://sccei.fsi.stanford.edu/content/greening-peoples-republic-chinas-investment-conservation-0
URL:https://ibc.broad.msu.edu/event/china-and-the-world-beyond-the-headlines-chinas-conservation-policies-after-rapid-economic-development-and-global-impact/
LOCATION:virtual
CATEGORIES:IBC
END:VEVENT
BEGIN:VEVENT
DTSTART;TZID=America/Detroit:20220331T000000
DTEND;TZID=America/Detroit:20220331T000000
DTSTAMP:20260425T110557
CREATED:20240319T195829Z
LAST-MODIFIED:20240517T210443Z
UID:10000481-1648684800-1648684800@ibc.broad.msu.edu
SUMMARY:MSI Consortium - How to Integrate Written or Video Cases into IB Syllabus Easily
DESCRIPTION:Generally speaking\, lecturers find it hard to integrate a written case or a video case into their existing syllabus. They may find themselves spending considerable amount of time\, spotting a relevant case and trying to figure out how to use it in the most pedagogical way. Apart from finding a relevant case\, lecturers can also find relating the case to their syllabus demanding. This webinar aims to address these issues\, tackling the problem from lecturers’ perspective\, offering some ready-to-use tips from panelists \nThis webinar is free and open to all\, but registration is required. Please click on website link for additional information and to register.
URL:https://ibc.broad.msu.edu/event/msi-consortium-how-to-integrate-written-or-video-cases-into-ib-syllabus-easily/
LOCATION:virtual
CATEGORIES:IBC
END:VEVENT
END:VCALENDAR