BEGIN:VCALENDAR
VERSION:2.0
PRODID:-//International Business Center - ECPv6.15.17.1//NONSGML v1.0//EN
CALSCALE:GREGORIAN
METHOD:PUBLISH
X-WR-CALNAME:International Business Center
X-ORIGINAL-URL:https://ibc.broad.msu.edu
X-WR-CALDESC:Events for International Business Center
REFRESH-INTERVAL;VALUE=DURATION:PT1H
X-Robots-Tag:noindex
X-PUBLISHED-TTL:PT1H
BEGIN:VTIMEZONE
TZID:America/Detroit
BEGIN:DAYLIGHT
TZOFFSETFROM:-0500
TZOFFSETTO:-0400
TZNAME:EDT
DTSTART:20220313T070000
END:DAYLIGHT
BEGIN:STANDARD
TZOFFSETFROM:-0400
TZOFFSETTO:-0500
TZNAME:EST
DTSTART:20221106T060000
END:STANDARD
BEGIN:DAYLIGHT
TZOFFSETFROM:-0500
TZOFFSETTO:-0400
TZNAME:EDT
DTSTART:20230312T070000
END:DAYLIGHT
BEGIN:STANDARD
TZOFFSETFROM:-0400
TZOFFSETTO:-0500
TZNAME:EST
DTSTART:20231105T060000
END:STANDARD
BEGIN:DAYLIGHT
TZOFFSETFROM:-0500
TZOFFSETTO:-0400
TZNAME:EDT
DTSTART:20240310T070000
END:DAYLIGHT
BEGIN:STANDARD
TZOFFSETFROM:-0400
TZOFFSETTO:-0500
TZNAME:EST
DTSTART:20241103T060000
END:STANDARD
END:VTIMEZONE
BEGIN:VEVENT
DTSTART;TZID=America/Detroit:20230509T000000
DTEND;TZID=America/Detroit:20230509T000000
DTSTAMP:20260422T041024
CREATED:20240319T195920Z
LAST-MODIFIED:20240517T192512Z
UID:10000433-1683590400-1683590400@ibc.broad.msu.edu
SUMMARY:Lansing Regional Chamber: Economic Club - Brian Murray\, Creative Director for EA Sports
DESCRIPTION:Murray is amultipleEmmy and Cannes Lion award-winning Director of Photography with more than 17 years of cinematic experience.He filmed HBOs hit showHard Knocks\, for which he won an Emmy for Best Cinematography.He also was Director of Photography for ESPNs30 for 30\, Funny or DiesBetween Two Ferns\, and Pepsis Uncle Drew. \nBrian is a Senior Director at Electronic Arts in Orlando\, Florida\, working on games such as MADDEN\, NCAA Football\, PGA Golf\, FIFA\, and more. Brian uses his extensive and varied experience to usher EA Sports into the cinematic future of gaming for the more than 600 million active players and fans across the globe.
URL:https://ibc.broad.msu.edu/event/lansing-regional-chamber-economic-club-brian-murray-creative-director-for-ea-sports/
LOCATION:Kellogg Hotel & Conference Center\, 219 S Harrison Rd\, East Lansing\, 48824\, United States
CATEGORIES:IBC
END:VEVENT
BEGIN:VEVENT
DTSTART;TZID=America/Detroit:20230525T000000
DTEND;TZID=America/Detroit:20230525T000000
DTSTAMP:20260422T041024
CREATED:20240319T195921Z
LAST-MODIFIED:20240517T192423Z
UID:10000432-1684972800-1684972800@ibc.broad.msu.edu
SUMMARY:MSI Consortium - The Power of Storytelling in International Business Education and Policymaking
DESCRIPTION:Storytelling can be defined as the intra-play of dominant narratives … with ontological webs of lower level living stories that provide sense making currency for stakeholders (Haley & Boje\, 2014\, p. 1116). Storytelling can be leveraged beyond marketing and communication. For example\, storytelling is extremely powerful as a strategic management tool. Storytelling is also very effective in supporting organizational change management\, facilitating internationalization and addressing sustainability. Storytelling\, as a strategic tool\, can facilitate various types of change processes\, attract and help manage various kinds of external resources\, and play an active role in driving collective agency and identification for social and political issues. This session is a discussion with two expert storytellers. \nKey takeaways: \n1. Is storytelling a dying art in international business education in a post-truth world of virtual reality\, artificial intelligence\, and misinformation? \n2. In a world of infotainment and the 15-second attention span\, do all educators need to be master storytellers? You may also be a fictional writer\, but not all of us are. What advice and tips would we give to IB educators who want to leverage storytelling in their teaching and even research? \n3. New Zealand punches well about its weight in the world\, from Jacinda Ardern to Taika Waititi\, to Sir Peter Jackson and Professor Linda Tuhiwai Smith. What role does storytelling play in that success? Do all countries have storytelling agencies? What prompted New Zealand to lean so heavily into storytelling. \nFor details and REGISTRATION please click on website link.
URL:https://ibc.broad.msu.edu/event/msi-consortium-the-power-of-storytelling-in-international-business-education-and-policymaking/
LOCATION:virtual
CATEGORIES:IBC
END:VEVENT
BEGIN:VEVENT
DTSTART;TZID=America/Detroit:20230531T000000
DTEND;TZID=America/Detroit:20230602T000000
DTSTAMP:20260422T041024
CREATED:20240319T195901Z
LAST-MODIFIED:20240517T192325Z
UID:10000431-1685491200-1685664000@ibc.broad.msu.edu
SUMMARY:MSI Consortium - GSU IB Pedagogy Workshop 2023
DESCRIPTION:Calling all IB educators aiming for excellence in teaching: If you teach international business and wish to learn from and be inspired by world-class master teachers and mentors\, this is your opportunity to invest in your professional development. \nMeet us in Atlanta over 2.5 days for an intensive learning and networking event. In addition to addressing the core course in IB\, interactive sessions will cover specialized courses in international entrepreneurship\, global strategy\, multinational business finance\, and international marketing. \nFor details and REGISTRATION please click on url.
URL:https://ibc.broad.msu.edu/event/msi-consortium-gsu-ib-pedagogy-workshop-2023/
LOCATION:Georgia State University\, Atlanta\, 30302\, United States
CATEGORIES:IBC
END:VEVENT
END:VCALENDAR