BEGIN:VCALENDAR
VERSION:2.0
PRODID:-//International Business Center - ECPv6.15.17.1//NONSGML v1.0//EN
CALSCALE:GREGORIAN
METHOD:PUBLISH
X-WR-CALNAME:International Business Center
X-ORIGINAL-URL:https://ibc.broad.msu.edu
X-WR-CALDESC:Events for International Business Center
REFRESH-INTERVAL;VALUE=DURATION:PT1H
X-Robots-Tag:noindex
X-PUBLISHED-TTL:PT1H
BEGIN:VTIMEZONE
TZID:UTC
BEGIN:STANDARD
TZOFFSETFROM:+0000
TZOFFSETTO:+0000
TZNAME:UTC
DTSTART:20230101T000000
END:STANDARD
END:VTIMEZONE
BEGIN:VTIMEZONE
TZID:America/Detroit
BEGIN:DAYLIGHT
TZOFFSETFROM:-0500
TZOFFSETTO:-0400
TZNAME:EDT
DTSTART:20230312T070000
END:DAYLIGHT
BEGIN:STANDARD
TZOFFSETFROM:-0400
TZOFFSETTO:-0500
TZNAME:EST
DTSTART:20231105T060000
END:STANDARD
BEGIN:DAYLIGHT
TZOFFSETFROM:-0500
TZOFFSETTO:-0400
TZNAME:EDT
DTSTART:20240310T070000
END:DAYLIGHT
BEGIN:STANDARD
TZOFFSETFROM:-0400
TZOFFSETTO:-0500
TZNAME:EST
DTSTART:20241103T060000
END:STANDARD
BEGIN:DAYLIGHT
TZOFFSETFROM:-0500
TZOFFSETTO:-0400
TZNAME:EDT
DTSTART:20250309T070000
END:DAYLIGHT
BEGIN:STANDARD
TZOFFSETFROM:-0400
TZOFFSETTO:-0500
TZNAME:EST
DTSTART:20251102T060000
END:STANDARD
END:VTIMEZONE
BEGIN:VEVENT
DTSTART;TZID=UTC:20240410T113000
DTEND;TZID=UTC:20240410T133000
DTSTAMP:20260425T121406
CREATED:20240923T220454Z
LAST-MODIFIED:20241014T222123Z
UID:10001231-1712748600-1712755800@ibc.broad.msu.edu
SUMMARY:Lansing Regional Chamber: Economic Club hosts Earvin "Magic" Johnson for a Q&A Session with Lansing Promise Scholars
DESCRIPTION:Join the Lansing Regional Chamber of Commerce and the Lansing Promise at the April Economic Club as we celebrate the powerful intersection of business\, students\, education and community in Greater Lansing. Our special guest is the NBA legend\, businessperson\, and Lansing’s own Earvin “Magic” Johnson. \nMagic will host a panel of Lansing Promise scholars for a Conversation with Magic. This Q&A will include questions both to and from scholars with Magic and will cover a range of topics\, including growing up in Lansing\, entrepreneurship\, employment and how we all have a role in investing in the success of our youth. \nWe’ll also hear about the State of the Promise and learn how the place-based scholarship organization is leveraging partnerships with Lansing’s business community\, the Lansing School District\, Lansing Regional Chamber of Commerce\, the City of Lansing and post-secondary institutions to strengthen the capital city’s talent development continuum.
URL:https://ibc.broad.msu.edu/event/lansing-regional-chamber-economic-club-hosts-earvin-magic-johnson-for-a-qa-session-with-lansing-promise-scholars/
LOCATION:Kellogg Hotel & Conference Center\, 219 S Harrison Rd\, East Lansing\, 48824\, United States
CATEGORIES:IBC
END:VEVENT
BEGIN:VEVENT
DTSTART;TZID=America/Detroit:20240412T000000
DTEND;TZID=America/Detroit:20240412T000000
DTSTAMP:20260425T121407
CREATED:20240319T195946Z
LAST-MODIFIED:20240517T182103Z
UID:10000408-1712880000-1712880000@ibc.broad.msu.edu
SUMMARY:MSU Dept of Economics International Speaker Series: Macro/International - Esteban Rossi-Hansberg
DESCRIPTION:Dr.Rossi-Hansberg is the Glen A. Lloyd Distinguished Service Professor at the University of Chicago. He has published widely on why international trade occurs\, as well as its impacts on firm organization and firm productivity. \nNo registration is required to attend this event. \nPlease click on the website link below for more information on Dr. Rossi-Hansberg.
URL:https://ibc.broad.msu.edu/event/msu-dept-of-economics-international-speaker-series-macro-international-esteban-rossi-hansberg-2/
LOCATION:MSU Marshall Adams Hall\, 486 W Circle Dr\, East Lansing\, 48824\, United States
CATEGORIES:IBC
END:VEVENT
BEGIN:VEVENT
DTSTART;TZID=UTC:20240418T110000
DTEND;TZID=UTC:20240418T120000
DTSTAMP:20260425T121407
CREATED:20240923T214528Z
LAST-MODIFIED:20240923T214821Z
UID:10001227-1713438000-1713441600@ibc.broad.msu.edu
SUMMARY:MSI Consortium: Celebrating IB Scholarship in Honor of Late Professor William Ogram Jr\, Founding Editor in Chief of JIBS
DESCRIPTION:Late Professor Emeritus Ernest W.(Bill) Ogram\, Jr.\, of Georgia State University served as the first editor in chief (1970-1975) of Journal of International Business Studies (JIBS)\, the flagship journal in the field of International Business. An economics Ph.D. graduate of the University of Illinois\, Bill joined the business faculty at Georgia State University (GSU) in 1959. His interest in international Business and Economics fostered his initial membership in the AEIB (Association for Education in International Business\, the predecessor of today’s Academy of International Business (AIB)\, and the creation of GSU’s Institute of International Business – one of America’s first tenure track faculty organizations in International Business. Bill’s commitment to International Business was exemplified in the team he built at GSU\, including John Daniels\, Duane Kujawa\, José de la Torre\, and Jeff Arpan who went on to build outstanding IB departments in IU\, UCLA\, USC\, and would serve as presidents of the AIB. \nTo celebrate his legacy\, GSU is bringing together five scholar leaders in international business\, current and past editors of JIBS- Paul Beamish (Ivey)\, John Cantwell (Rutgers)\, Lorraine Eden (Texas A&M)\, Arie Lewin (Duke)\, Rosalie Tung (Simon Fraser)\, and Alain Verbeke (Calgary) to discuss the evolution of IB scholarship\, its impact\, and its future. \nThis webinar is FREE\, but registration is required. Zoom details will be sent to all registered participants.
URL:https://ibc.broad.msu.edu/event/msi-consortium-celebrating-ib-scholarship-in-honor-of-late-professor-william-ogram-jr-founding-editor-in-chief-of-jibs/
LOCATION:virtual
CATEGORIES:IBC
END:VEVENT
BEGIN:VEVENT
DTSTART;TZID=America/Detroit:20240424T100000
DTEND;TZID=America/Detroit:20240424T150000
DTSTAMP:20260425T121407
CREATED:20240327T123945Z
LAST-MODIFIED:20240517T181824Z
UID:10000407-1713952800-1713970800@ibc.broad.msu.edu
SUMMARY:Global Business Club: Spotlight On West Africa
DESCRIPTION:For the next event in the GBC Market Spotlight Series\, the MSU International Business Center is partnering with the MSU Marketing Department and African Studies Center to highlight the West African Market. This event will feature keynotes from Bolaji Balogun\, CEO of Chapel Hill Denham in Nigeria\, and Godwin Tamakloe\, an expert in fintech at Mobile Money\, Ltd. in Ghana. Additionally there will be a Michigan Exporters Business Panel\, lunch\, networking\, and the opportunity for 1-on-1 meetings with trade service providers.
URL:https://ibc.broad.msu.edu/event/global-business-club-spotlight-on-west-africa/
LOCATION:Minskoff Pavilion\, 645 N Shaw Ln\, East Lansing\, 48824\, United States
CATEGORIES:Global Business Club,IBC
END:VEVENT
END:VCALENDAR