BEGIN:VCALENDAR
VERSION:2.0
PRODID:-//International Business Center - ECPv6.15.17.1//NONSGML v1.0//EN
CALSCALE:GREGORIAN
METHOD:PUBLISH
X-ORIGINAL-URL:https://ibc.broad.msu.edu
X-WR-CALDESC:Events for International Business Center
REFRESH-INTERVAL;VALUE=DURATION:PT1H
X-Robots-Tag:noindex
X-PUBLISHED-TTL:PT1H
BEGIN:VTIMEZONE
TZID:America/Detroit
BEGIN:DAYLIGHT
TZOFFSETFROM:-0500
TZOFFSETTO:-0400
TZNAME:EDT
DTSTART:19980405T070000
END:DAYLIGHT
BEGIN:STANDARD
TZOFFSETFROM:-0400
TZOFFSETTO:-0500
TZNAME:EST
DTSTART:19981025T060000
END:STANDARD
BEGIN:DAYLIGHT
TZOFFSETFROM:-0500
TZOFFSETTO:-0400
TZNAME:EDT
DTSTART:19990404T070000
END:DAYLIGHT
BEGIN:STANDARD
TZOFFSETFROM:-0400
TZOFFSETTO:-0500
TZNAME:EST
DTSTART:19991031T060000
END:STANDARD
BEGIN:DAYLIGHT
TZOFFSETFROM:-0500
TZOFFSETTO:-0400
TZNAME:EDT
DTSTART:20000402T070000
END:DAYLIGHT
BEGIN:STANDARD
TZOFFSETFROM:-0400
TZOFFSETTO:-0500
TZNAME:EST
DTSTART:20001029T060000
END:STANDARD
END:VTIMEZONE
BEGIN:VEVENT
DTSTART;TZID=America/Detroit:19990206T000000
DTEND;TZID=America/Detroit:19990206T000000
DTSTAMP:20260423T034637
CREATED:20240319T194001Z
LAST-MODIFIED:20240521T212542Z
UID:10001214-918259200-918259200@ibc.broad.msu.edu
SUMMARY:MSU/University of Michigan Business German Workshop
DESCRIPTION:The program brought together language faculty representing both 4-year colleges and high schools. It focused on these colleagues’ desire to expand their expertise in the area of business and economic issues. Speakers included two business executives who gave their perspectives on the challenge of combining American and German business cultures in a business setting.
URL:https://ibc.broad.msu.edu/event/msu-university-of-michigan-business-german-workshop/
LOCATION:Kellogg Hotel & Conference Center\, 219 S Harrison Rd\, East Lansing\, 48824\, United States
CATEGORIES:IBC
END:VEVENT
END:VCALENDAR