BEGIN:VCALENDAR
VERSION:2.0
PRODID:-//International Business Center - ECPv6.15.17.1//NONSGML v1.0//EN
CALSCALE:GREGORIAN
METHOD:PUBLISH
X-ORIGINAL-URL:https://ibc.broad.msu.edu
X-WR-CALDESC:Events for International Business Center
REFRESH-INTERVAL;VALUE=DURATION:PT1H
X-Robots-Tag:noindex
X-PUBLISHED-TTL:PT1H
BEGIN:VTIMEZONE
TZID:America/Detroit
BEGIN:DAYLIGHT
TZOFFSETFROM:-0500
TZOFFSETTO:-0400
TZNAME:EDT
DTSTART:19980405T070000
END:DAYLIGHT
BEGIN:STANDARD
TZOFFSETFROM:-0400
TZOFFSETTO:-0500
TZNAME:EST
DTSTART:19981025T060000
END:STANDARD
BEGIN:DAYLIGHT
TZOFFSETFROM:-0500
TZOFFSETTO:-0400
TZNAME:EDT
DTSTART:19990404T070000
END:DAYLIGHT
BEGIN:STANDARD
TZOFFSETFROM:-0400
TZOFFSETTO:-0500
TZNAME:EST
DTSTART:19991031T060000
END:STANDARD
BEGIN:DAYLIGHT
TZOFFSETFROM:-0500
TZOFFSETTO:-0400
TZNAME:EDT
DTSTART:20000402T070000
END:DAYLIGHT
BEGIN:STANDARD
TZOFFSETFROM:-0400
TZOFFSETTO:-0500
TZNAME:EST
DTSTART:20001029T060000
END:STANDARD
END:VTIMEZONE
BEGIN:VEVENT
DTSTART;TZID=America/Detroit:19990317T000000
DTEND;TZID=America/Detroit:19990319T000000
DTSTAMP:20260423T034637
CREATED:20240319T194000Z
LAST-MODIFIED:20240521T210814Z
UID:10001213-921628800-921801600@ibc.broad.msu.edu
SUMMARY:Midwest Review of International Business Research
DESCRIPTION:On 17-19 March\, the Academy of International Business (AIB) Midwest Regional Meeting was held in Chicago as part of the Midwest Business Administration Association Conference. AIB Midwest Regional Chairperson Preet Aulakh served as editor of the proceedings\, which has been recently published in the Midwest Review of International Business Research.
URL:https://ibc.broad.msu.edu/event/midwest-review-of-international-business-research/
LOCATION:Chicago\, Il\, Chicago\, United States
CATEGORIES:IBC
END:VEVENT
END:VCALENDAR