BEGIN:VCALENDAR
VERSION:2.0
PRODID:-//International Business Center - ECPv6.15.17.1//NONSGML v1.0//EN
CALSCALE:GREGORIAN
METHOD:PUBLISH
X-WR-CALNAME:International Business Center
X-ORIGINAL-URL:https://ibc.broad.msu.edu
X-WR-CALDESC:Events for International Business Center
REFRESH-INTERVAL;VALUE=DURATION:PT1H
X-Robots-Tag:noindex
X-PUBLISHED-TTL:PT1H
BEGIN:VTIMEZONE
TZID:America/Detroit
BEGIN:DAYLIGHT
TZOFFSETFROM:-0500
TZOFFSETTO:-0400
TZNAME:EDT
DTSTART:19980405T070000
END:DAYLIGHT
BEGIN:STANDARD
TZOFFSETFROM:-0400
TZOFFSETTO:-0500
TZNAME:EST
DTSTART:19981025T060000
END:STANDARD
BEGIN:DAYLIGHT
TZOFFSETFROM:-0500
TZOFFSETTO:-0400
TZNAME:EDT
DTSTART:19990404T070000
END:DAYLIGHT
BEGIN:STANDARD
TZOFFSETFROM:-0400
TZOFFSETTO:-0500
TZNAME:EST
DTSTART:19991031T060000
END:STANDARD
BEGIN:DAYLIGHT
TZOFFSETFROM:-0500
TZOFFSETTO:-0400
TZNAME:EDT
DTSTART:20000402T070000
END:DAYLIGHT
BEGIN:STANDARD
TZOFFSETFROM:-0400
TZOFFSETTO:-0500
TZNAME:EST
DTSTART:20001029T060000
END:STANDARD
END:VTIMEZONE
BEGIN:VEVENT
DTSTART;TZID=America/Detroit:19990409T000000
DTEND;TZID=America/Detroit:19990409T000000
DTSTAMP:20260422T185734
CREATED:20240319T193946Z
LAST-MODIFIED:20240521T210651Z
UID:10001211-923616000-923616000@ibc.broad.msu.edu
SUMMARY:Japan's Economic Crisis: The View from Washington
DESCRIPTION:The troublesome state of Japan’s economy is causing concern beyond the usual circle of academic specialists and policy makers in Tokyo and Washington. Even casual observers of Japan in business\, government\, and academia are curious about the seemingly intractable set of problems facing Japanese leaders.
URL:https://ibc.broad.msu.edu/event/japans-economic-crisis-the-view-from-washington/
LOCATION:MSU Management Education Center\, 811 W Square Lake Rd\, Troy\, 48098\, United States
CATEGORIES:IBC
END:VEVENT
END:VCALENDAR