BEGIN:VCALENDAR
VERSION:2.0
PRODID:-//International Business Center - ECPv6.15.17.1//NONSGML v1.0//EN
CALSCALE:GREGORIAN
METHOD:PUBLISH
X-WR-CALNAME:International Business Center
X-ORIGINAL-URL:https://ibc.broad.msu.edu
X-WR-CALDESC:Events for International Business Center
REFRESH-INTERVAL;VALUE=DURATION:PT1H
X-Robots-Tag:noindex
X-PUBLISHED-TTL:PT1H
BEGIN:VTIMEZONE
TZID:America/Detroit
BEGIN:DAYLIGHT
TZOFFSETFROM:-0500
TZOFFSETTO:-0400
TZNAME:EDT
DTSTART:19980405T070000
END:DAYLIGHT
BEGIN:STANDARD
TZOFFSETFROM:-0400
TZOFFSETTO:-0500
TZNAME:EST
DTSTART:19981025T060000
END:STANDARD
BEGIN:DAYLIGHT
TZOFFSETFROM:-0500
TZOFFSETTO:-0400
TZNAME:EDT
DTSTART:19990404T070000
END:DAYLIGHT
BEGIN:STANDARD
TZOFFSETFROM:-0400
TZOFFSETTO:-0500
TZNAME:EST
DTSTART:19991031T060000
END:STANDARD
BEGIN:DAYLIGHT
TZOFFSETFROM:-0500
TZOFFSETTO:-0400
TZNAME:EDT
DTSTART:20000402T070000
END:DAYLIGHT
BEGIN:STANDARD
TZOFFSETFROM:-0400
TZOFFSETTO:-0500
TZNAME:EST
DTSTART:20001029T060000
END:STANDARD
END:VTIMEZONE
BEGIN:VEVENT
DTSTART;TZID=America/Detroit:19990419T000000
DTEND;TZID=America/Detroit:19990419T000000
DTSTAMP:20260422T185734
CREATED:20240319T193945Z
LAST-MODIFIED:20240521T210622Z
UID:10001210-924480000-924480000@ibc.broad.msu.edu
SUMMARY:Middle East Distinguished Lecturer Series and Turkish Studies Colloquium
DESCRIPTION:Taking the perspective of the business and entrepreneurial sector\, this presentation explores key milestones reached in the recent past and comment on unique features of the Turkish business and entrepreneurial scene. Where appropriate\, contrast are made to business communities in other countries.
URL:https://ibc.broad.msu.edu/event/middle-east-distinguished-lecturer-series-and-turkish-studies-colloquium/
CATEGORIES:IBC
END:VEVENT
END:VCALENDAR