BEGIN:VCALENDAR
VERSION:2.0
PRODID:-//International Business Center - ECPv6.15.17.1//NONSGML v1.0//EN
CALSCALE:GREGORIAN
METHOD:PUBLISH
X-WR-CALNAME:International Business Center
X-ORIGINAL-URL:https://ibc.broad.msu.edu
X-WR-CALDESC:Events for International Business Center
REFRESH-INTERVAL;VALUE=DURATION:PT1H
X-Robots-Tag:noindex
X-PUBLISHED-TTL:PT1H
BEGIN:VTIMEZONE
TZID:America/Detroit
BEGIN:DAYLIGHT
TZOFFSETFROM:-0500
TZOFFSETTO:-0400
TZNAME:EDT
DTSTART:19980405T070000
END:DAYLIGHT
BEGIN:STANDARD
TZOFFSETFROM:-0400
TZOFFSETTO:-0500
TZNAME:EST
DTSTART:19981025T060000
END:STANDARD
BEGIN:DAYLIGHT
TZOFFSETFROM:-0500
TZOFFSETTO:-0400
TZNAME:EDT
DTSTART:19990404T070000
END:DAYLIGHT
BEGIN:STANDARD
TZOFFSETFROM:-0400
TZOFFSETTO:-0500
TZNAME:EST
DTSTART:19991031T060000
END:STANDARD
BEGIN:DAYLIGHT
TZOFFSETFROM:-0500
TZOFFSETTO:-0400
TZNAME:EDT
DTSTART:20000402T070000
END:DAYLIGHT
BEGIN:STANDARD
TZOFFSETFROM:-0400
TZOFFSETTO:-0500
TZNAME:EST
DTSTART:20001029T060000
END:STANDARD
END:VTIMEZONE
BEGIN:VEVENT
DTSTART;TZID=America/Detroit:19990807T000000
DTEND;TZID=America/Detroit:19990810T000000
DTSTAMP:20260420T234746
CREATED:20240319T192552Z
LAST-MODIFIED:20240521T192536Z
UID:10001206-933984000-934243200@ibc.broad.msu.edu
SUMMARY:AMA Summer Conference: Marketing Meets the Millennium
DESCRIPTION:International and Cross Cultural Marketing co-chaired by Preet Aulakh and Tamer Cavusgil\, Michigan State University\, explored issues on managing marketing across the world. It featured conceptual papers and empirical papers that highlight similarities or differences in marketing management practices\, consumer behavior and infrastructure of individual companies are also welcome.
URL:https://ibc.broad.msu.edu/event/ama-summer-conference-marketing-meets-the-millennium/
LOCATION:San Francisco\, CA\, San Francisco\, United States
CATEGORIES:IBC
END:VEVENT
END:VCALENDAR