BEGIN:VCALENDAR
VERSION:2.0
PRODID:-//International Business Center - ECPv6.15.17.1//NONSGML v1.0//EN
CALSCALE:GREGORIAN
METHOD:PUBLISH
X-ORIGINAL-URL:https://ibc.broad.msu.edu
X-WR-CALDESC:Events for International Business Center
REFRESH-INTERVAL;VALUE=DURATION:PT1H
X-Robots-Tag:noindex
X-PUBLISHED-TTL:PT1H
BEGIN:VTIMEZONE
TZID:America/Detroit
BEGIN:DAYLIGHT
TZOFFSETFROM:-0500
TZOFFSETTO:-0400
TZNAME:EDT
DTSTART:20020407T070000
END:DAYLIGHT
BEGIN:STANDARD
TZOFFSETFROM:-0400
TZOFFSETTO:-0500
TZNAME:EST
DTSTART:20021027T060000
END:STANDARD
BEGIN:DAYLIGHT
TZOFFSETFROM:-0500
TZOFFSETTO:-0400
TZNAME:EDT
DTSTART:20030406T070000
END:DAYLIGHT
BEGIN:STANDARD
TZOFFSETFROM:-0400
TZOFFSETTO:-0500
TZNAME:EST
DTSTART:20031026T060000
END:STANDARD
BEGIN:DAYLIGHT
TZOFFSETFROM:-0500
TZOFFSETTO:-0400
TZNAME:EDT
DTSTART:20040404T070000
END:DAYLIGHT
BEGIN:STANDARD
TZOFFSETFROM:-0400
TZOFFSETTO:-0500
TZNAME:EST
DTSTART:20041031T060000
END:STANDARD
END:VTIMEZONE
BEGIN:VEVENT
DTSTART;TZID=America/Detroit:20030312T000000
DTEND;TZID=America/Detroit:20030312T000000
DTSTAMP:20260423T040021
CREATED:20240319T191504Z
LAST-MODIFIED:20240521T175338Z
UID:10001174-1047427200-1047427200@ibc.broad.msu.edu
SUMMARY:Research Seminar by Bernard Yeung - Thinking About the Functionality of Equity Markets: Let IB and Finance Meet
DESCRIPTION:Bernard Yeung\, Abraham Krasnoff Professor of Global Business\, Professor of Economics and Professor of Management\, at the Stern School of Business\, New York University\, will present “Thinking about the functionality of equity markets – let International Business and Finance meet.”
URL:https://ibc.broad.msu.edu/event/research-seminar-by-bernard-yeung-thinking-about-the-functionality-of-equity-markets-let-ib-and-finance-meet/
LOCATION:North Business Building\, 632 Bogue St\, East Lansing\, 48824\, United States
CATEGORIES:IBC
END:VEVENT
END:VCALENDAR