BEGIN:VCALENDAR
VERSION:2.0
PRODID:-//International Business Center - ECPv6.15.17.1//NONSGML v1.0//EN
CALSCALE:GREGORIAN
METHOD:PUBLISH
X-WR-CALNAME:International Business Center
X-ORIGINAL-URL:https://ibc.broad.msu.edu
X-WR-CALDESC:Events for International Business Center
REFRESH-INTERVAL;VALUE=DURATION:PT1H
X-Robots-Tag:noindex
X-PUBLISHED-TTL:PT1H
BEGIN:VTIMEZONE
TZID:America/Detroit
BEGIN:DAYLIGHT
TZOFFSETFROM:-0500
TZOFFSETTO:-0400
TZNAME:EDT
DTSTART:20030406T070000
END:DAYLIGHT
BEGIN:STANDARD
TZOFFSETFROM:-0400
TZOFFSETTO:-0500
TZNAME:EST
DTSTART:20031026T060000
END:STANDARD
BEGIN:DAYLIGHT
TZOFFSETFROM:-0500
TZOFFSETTO:-0400
TZNAME:EDT
DTSTART:20040404T070000
END:DAYLIGHT
BEGIN:STANDARD
TZOFFSETFROM:-0400
TZOFFSETTO:-0500
TZNAME:EST
DTSTART:20041031T060000
END:STANDARD
BEGIN:DAYLIGHT
TZOFFSETFROM:-0500
TZOFFSETTO:-0400
TZNAME:EDT
DTSTART:20050403T070000
END:DAYLIGHT
BEGIN:STANDARD
TZOFFSETFROM:-0400
TZOFFSETTO:-0500
TZNAME:EST
DTSTART:20051030T060000
END:STANDARD
END:VTIMEZONE
BEGIN:VEVENT
DTSTART;TZID=America/Detroit:20041022T000000
DTEND;TZID=America/Detroit:20041022T000000
DTSTAMP:20260421T060737
CREATED:20240319T190111Z
LAST-MODIFIED:20240521T172301Z
UID:10001148-1098403200-1098403200@ibc.broad.msu.edu
SUMMARY:Supply Chain in China-the Challenges of Transformation
DESCRIPTION:The second China Supply Chain Forum promises to be even more rewarding for participants as it probes more deeply into changes and challenges in the supply chain industry in China. This year’s theme\, Supply Chain in China – the Challenges of Transformation\, strives to capture the challenges that the foreign enterprises are facing in the supply chain management during their market entry.
URL:https://ibc.broad.msu.edu/event/supply-chain-in-china-the-challenges-of-transformation/
LOCATION:East Lansing\, MI\, Chicago\, United States
CATEGORIES:IBC
END:VEVENT
END:VCALENDAR