BEGIN:VCALENDAR
VERSION:2.0
PRODID:-//International Business Center - ECPv6.15.17.1//NONSGML v1.0//EN
CALSCALE:GREGORIAN
METHOD:PUBLISH
X-WR-CALNAME:International Business Center
X-ORIGINAL-URL:https://ibc.broad.msu.edu
X-WR-CALDESC:Events for International Business Center
REFRESH-INTERVAL;VALUE=DURATION:PT1H
X-Robots-Tag:noindex
X-PUBLISHED-TTL:PT1H
BEGIN:VTIMEZONE
TZID:America/Detroit
BEGIN:DAYLIGHT
TZOFFSETFROM:-0500
TZOFFSETTO:-0400
TZNAME:EDT
DTSTART:20040404T070000
END:DAYLIGHT
BEGIN:STANDARD
TZOFFSETFROM:-0400
TZOFFSETTO:-0500
TZNAME:EST
DTSTART:20041031T060000
END:STANDARD
BEGIN:DAYLIGHT
TZOFFSETFROM:-0500
TZOFFSETTO:-0400
TZNAME:EDT
DTSTART:20050403T070000
END:DAYLIGHT
BEGIN:STANDARD
TZOFFSETFROM:-0400
TZOFFSETTO:-0500
TZNAME:EST
DTSTART:20051030T060000
END:STANDARD
BEGIN:DAYLIGHT
TZOFFSETFROM:-0500
TZOFFSETTO:-0400
TZNAME:EDT
DTSTART:20060402T070000
END:DAYLIGHT
BEGIN:STANDARD
TZOFFSETFROM:-0400
TZOFFSETTO:-0500
TZNAME:EST
DTSTART:20061029T060000
END:STANDARD
END:VTIMEZONE
BEGIN:VEVENT
DTSTART;TZID=America/Detroit:20050208T000000
DTEND;TZID=America/Detroit:20050208T000000
DTSTAMP:20260422T032251
CREATED:20240319T190358Z
LAST-MODIFIED:20240521T171812Z
UID:10001144-1107820800-1107820800@ibc.broad.msu.edu
SUMMARY:International Business Forum: Building a Foreign Subsidiary in Michigan
DESCRIPTION:Mr. Sjoberg’s presentation will outline how to build and grow a foreign subsidiary in Michigan (SSAB is located in Mason\, Michigan). It is a story of a Swedish company coming to the U.S. in 1997 (Sweden is ranked #3 on global competitiveness in the world). He will touch on reasons why SSAB selected Michigan as its location\, along the way discussing the initial groundbreaking to the finished plant to quadrupling in size in the last five years.
URL:https://ibc.broad.msu.edu/event/international-business-forum-building-a-foreign-subsidiary-in-michigan/
LOCATION:Michigan Athletic Club\, 2900 Hannah Blvd\, East Lansing\, 48823\, United States
CATEGORIES:IBC
END:VEVENT
END:VCALENDAR