BEGIN:VCALENDAR
VERSION:2.0
PRODID:-//International Business Center - ECPv6.15.17.1//NONSGML v1.0//EN
CALSCALE:GREGORIAN
METHOD:PUBLISH
X-WR-CALNAME:International Business Center
X-ORIGINAL-URL:https://ibc.broad.msu.edu
X-WR-CALDESC:Events for International Business Center
REFRESH-INTERVAL;VALUE=DURATION:PT1H
X-Robots-Tag:noindex
X-PUBLISHED-TTL:PT1H
BEGIN:VTIMEZONE
TZID:America/Detroit
BEGIN:DAYLIGHT
TZOFFSETFROM:-0500
TZOFFSETTO:-0400
TZNAME:EDT
DTSTART:20040404T070000
END:DAYLIGHT
BEGIN:STANDARD
TZOFFSETFROM:-0400
TZOFFSETTO:-0500
TZNAME:EST
DTSTART:20041031T060000
END:STANDARD
BEGIN:DAYLIGHT
TZOFFSETFROM:-0500
TZOFFSETTO:-0400
TZNAME:EDT
DTSTART:20050403T070000
END:DAYLIGHT
BEGIN:STANDARD
TZOFFSETFROM:-0400
TZOFFSETTO:-0500
TZNAME:EST
DTSTART:20051030T060000
END:STANDARD
BEGIN:DAYLIGHT
TZOFFSETFROM:-0500
TZOFFSETTO:-0400
TZNAME:EDT
DTSTART:20060402T070000
END:DAYLIGHT
BEGIN:STANDARD
TZOFFSETFROM:-0400
TZOFFSETTO:-0500
TZNAME:EST
DTSTART:20061029T060000
END:STANDARD
END:VTIMEZONE
BEGIN:VEVENT
DTSTART;TZID=America/Detroit:20050412T000000
DTEND;TZID=America/Detroit:20050412T000000
DTSTAMP:20260420T003225
CREATED:20240319T190113Z
LAST-MODIFIED:20240521T171640Z
UID:10001140-1113264000-1113264000@ibc.broad.msu.edu
SUMMARY:International Business Forum: "Manufacturing and the New Global Realities"
DESCRIPTION:Presented by John W. MacIlroy\, President and Chief Executive Officer\, Michigan Manufacturers Association.  As American manufacturing emerges from a long\, difficult recession\, leaders are recognizing important new realities. The recession suggested structural change\, reflecting a mix of global and domestic challenges. Mr. MacIlroy will share insights into policy agenda for MMA and talk about where it’s heading from both a “structural reality” and policy basis.
URL:https://ibc.broad.msu.edu/event/international-business-forum-manufacturing-and-the-new-global-realities/
LOCATION:Michigan Athletic Club\, 2900 Hannah Blvd\, East Lansing\, 48823\, United States
CATEGORIES:IBC
END:VEVENT
END:VCALENDAR