BEGIN:VCALENDAR
VERSION:2.0
PRODID:-//International Business Center - ECPv6.15.17.1//NONSGML v1.0//EN
CALSCALE:GREGORIAN
METHOD:PUBLISH
X-WR-CALNAME:International Business Center
X-ORIGINAL-URL:https://ibc.broad.msu.edu
X-WR-CALDESC:Events for International Business Center
REFRESH-INTERVAL;VALUE=DURATION:PT1H
X-Robots-Tag:noindex
X-PUBLISHED-TTL:PT1H
BEGIN:VTIMEZONE
TZID:America/Detroit
BEGIN:DAYLIGHT
TZOFFSETFROM:-0500
TZOFFSETTO:-0400
TZNAME:EDT
DTSTART:20040404T070000
END:DAYLIGHT
BEGIN:STANDARD
TZOFFSETFROM:-0400
TZOFFSETTO:-0500
TZNAME:EST
DTSTART:20041031T060000
END:STANDARD
BEGIN:DAYLIGHT
TZOFFSETFROM:-0500
TZOFFSETTO:-0400
TZNAME:EDT
DTSTART:20050403T070000
END:DAYLIGHT
BEGIN:STANDARD
TZOFFSETFROM:-0400
TZOFFSETTO:-0500
TZNAME:EST
DTSTART:20051030T060000
END:STANDARD
BEGIN:DAYLIGHT
TZOFFSETFROM:-0500
TZOFFSETTO:-0400
TZNAME:EDT
DTSTART:20060402T070000
END:DAYLIGHT
BEGIN:STANDARD
TZOFFSETFROM:-0400
TZOFFSETTO:-0500
TZNAME:EST
DTSTART:20061029T060000
END:STANDARD
END:VTIMEZONE
BEGIN:VEVENT
DTSTART;TZID=America/Detroit:20051114T000000
DTEND;TZID=America/Detroit:20051114T000000
DTSTAMP:20260420T225048
CREATED:20240319T194003Z
LAST-MODIFIED:20240521T165717Z
UID:10001129-1131926400-1131926400@ibc.broad.msu.edu
SUMMARY:The United Nations at a Crossroads: What is Michigan's Interest?
DESCRIPTION:This Global Issues Forum will examine the current phase of reforms at the United Nations and potential impact in the areas of environment (i.e. global change)\, international trade and security that can be directly linked to the interests of Michigan citizens.
URL:https://ibc.broad.msu.edu/event/the-united-nations-at-a-crossroads-what-is-michigans-interest/
LOCATION:Park Club\, 480 Wilson Rd\, East Lansing\, 48824\, United States
CATEGORIES:IBC
END:VEVENT
BEGIN:VEVENT
DTSTART;TZID=America/Detroit:20051118T000000
DTEND;TZID=America/Detroit:20051118T000000
DTSTAMP:20260420T225048
CREATED:20240319T190145Z
LAST-MODIFIED:20240521T165618Z
UID:10001128-1132272000-1132272000@ibc.broad.msu.edu
SUMMARY:3rd Annual Greater China Supply Chain Forum
DESCRIPTION:The forum provides an excellent opportunity to expose students and business executives to an international conversation among specialists and professionals which enrich their understanding of the global market. It also builds a stage where the best minds of the supply chain industry leaders meet and exchange their thoughts and ideas.
URL:https://ibc.broad.msu.edu/event/3rd-annual-greater-china-supply-chain-forum/
LOCATION:Kellogg Hotel & Conference Center\, 219 S Harrison Rd\, East Lansing\, 48824\, United States
CATEGORIES:IBC
END:VEVENT
END:VCALENDAR