BEGIN:VCALENDAR
VERSION:2.0
PRODID:-//International Business Center - ECPv6.15.17.1//NONSGML v1.0//EN
CALSCALE:GREGORIAN
METHOD:PUBLISH
X-WR-CALNAME:International Business Center
X-ORIGINAL-URL:https://ibc.broad.msu.edu
X-WR-CALDESC:Events for International Business Center
REFRESH-INTERVAL;VALUE=DURATION:PT1H
X-Robots-Tag:noindex
X-PUBLISHED-TTL:PT1H
BEGIN:VTIMEZONE
TZID:America/Detroit
BEGIN:DAYLIGHT
TZOFFSETFROM:-0500
TZOFFSETTO:-0400
TZNAME:EDT
DTSTART:20050403T070000
END:DAYLIGHT
BEGIN:STANDARD
TZOFFSETFROM:-0400
TZOFFSETTO:-0500
TZNAME:EST
DTSTART:20051030T060000
END:STANDARD
BEGIN:DAYLIGHT
TZOFFSETFROM:-0500
TZOFFSETTO:-0400
TZNAME:EDT
DTSTART:20060402T070000
END:DAYLIGHT
BEGIN:STANDARD
TZOFFSETFROM:-0400
TZOFFSETTO:-0500
TZNAME:EST
DTSTART:20061029T060000
END:STANDARD
BEGIN:DAYLIGHT
TZOFFSETFROM:-0500
TZOFFSETTO:-0400
TZNAME:EDT
DTSTART:20070311T070000
END:DAYLIGHT
BEGIN:STANDARD
TZOFFSETFROM:-0400
TZOFFSETTO:-0500
TZNAME:EST
DTSTART:20071104T060000
END:STANDARD
BEGIN:DAYLIGHT
TZOFFSETFROM:-0500
TZOFFSETTO:-0400
TZNAME:EDT
DTSTART:20080309T070000
END:DAYLIGHT
BEGIN:STANDARD
TZOFFSETFROM:-0400
TZOFFSETTO:-0500
TZNAME:EST
DTSTART:20081102T060000
END:STANDARD
END:VTIMEZONE
BEGIN:VEVENT
DTSTART;TZID=America/Detroit:20060901T000000
DTEND;TZID=America/Detroit:20070831T000000
DTSTAMP:20260422T225052
CREATED:20240319T194037Z
LAST-MODIFIED:20240521T164206Z
UID:10001114-1157068800-1188518400@ibc.broad.msu.edu
SUMMARY:Onsite Workshops 2006-2007
DESCRIPTION:Onsite workshops bring members of CLEAR’s professional development staff to K-13+ institutions across the country.  Workshop topics include both methodology and technology-related areas\, and are tailored to the host institution”s specific needs and requests.  More information can be found by checking out the link.
URL:https://ibc.broad.msu.edu/event/onsite-workshops-2006-2007/
LOCATION:Host Institution
CATEGORIES:IBC
END:VEVENT
BEGIN:VEVENT
DTSTART;TZID=America/Detroit:20070314T000000
DTEND;TZID=America/Detroit:20070314T000000
DTSTAMP:20260422T225052
CREATED:20240319T194023Z
LAST-MODIFIED:20240521T010710Z
UID:10001100-1173830400-1173830400@ibc.broad.msu.edu
SUMMARY:Global Business Club of Mid-Michigan
DESCRIPTION:George J. Biltz\, Global Vice President of Purchasing \nThe Dow Chemical Company \n(http://www.dow.com/).
URL:https://ibc.broad.msu.edu/event/global-business-club-of-mid-michigan-5/
LOCATION:East Lansing\, MI\, Chicago\, United States
CATEGORIES:IBC
END:VEVENT
BEGIN:VEVENT
DTSTART;TZID=America/Detroit:20070316T000000
DTEND;TZID=America/Detroit:20070316T000000
DTSTAMP:20260422T225052
CREATED:20240319T194041Z
LAST-MODIFIED:20240521T010647Z
UID:10001099-1174003200-1174003200@ibc.broad.msu.edu
SUMMARY:India Information Technology Forum
DESCRIPTION:This forum is meant to highlight the ever-growing information technology field in India\, especially to those in the business field. With the rapidly growing economy of India as well as their escalating presence in the field of information technology\, we feel that it is imperative to conduct an informational conference to educate others about the prevalence of India in IT. Our goals of the forum are to promote awareness about innovation and IT\, services management\, and job opportunities in the United States and India. Representatives from companies worldwide are attending this forum in order to network and gain insight for their companies. This forum is open to students\, faculty\, and professionals from a wide variety of career fields. The Michigan State University India Information Technology Forum will take place on Friday March 16th from 9:00 am to 6:00 pm at the Kellogg Center.
URL:https://ibc.broad.msu.edu/event/india-information-technology-forum/
LOCATION:East Lansing\, MI\, Chicago\, United States
CATEGORIES:IBC
END:VEVENT
END:VCALENDAR