BEGIN:VCALENDAR
VERSION:2.0
PRODID:-//International Business Center - ECPv6.15.17.1//NONSGML v1.0//EN
CALSCALE:GREGORIAN
METHOD:PUBLISH
X-WR-CALNAME:International Business Center
X-ORIGINAL-URL:https://ibc.broad.msu.edu
X-WR-CALDESC:Events for International Business Center
REFRESH-INTERVAL;VALUE=DURATION:PT1H
X-Robots-Tag:noindex
X-PUBLISHED-TTL:PT1H
BEGIN:VTIMEZONE
TZID:America/Detroit
BEGIN:DAYLIGHT
TZOFFSETFROM:-0500
TZOFFSETTO:-0400
TZNAME:EDT
DTSTART:20110313T070000
END:DAYLIGHT
BEGIN:STANDARD
TZOFFSETFROM:-0400
TZOFFSETTO:-0500
TZNAME:EST
DTSTART:20111106T060000
END:STANDARD
BEGIN:DAYLIGHT
TZOFFSETFROM:-0500
TZOFFSETTO:-0400
TZNAME:EDT
DTSTART:20120311T070000
END:DAYLIGHT
BEGIN:STANDARD
TZOFFSETFROM:-0400
TZOFFSETTO:-0500
TZNAME:EST
DTSTART:20121104T060000
END:STANDARD
BEGIN:DAYLIGHT
TZOFFSETFROM:-0500
TZOFFSETTO:-0400
TZNAME:EDT
DTSTART:20130310T070000
END:DAYLIGHT
BEGIN:STANDARD
TZOFFSETFROM:-0400
TZOFFSETTO:-0500
TZNAME:EST
DTSTART:20131103T060000
END:STANDARD
END:VTIMEZONE
BEGIN:VEVENT
DTSTART;TZID=America/Detroit:20120727T000000
DTEND;TZID=America/Detroit:20120729T000000
DTSTAMP:20260420T103746
CREATED:20240319T195016Z
LAST-MODIFIED:20240520T214341Z
UID:10000897-1343347200-1343520000@ibc.broad.msu.edu
SUMMARY:Meet the JAMS Editor at AIM-AMA Sheth Foundation Doctoral Consortium
DESCRIPTION:JAMS Editor Tomas Hult will be at the AIM-AMA Sheth Foundation Doctoral Consortium (July 27-29) in Bangalore.
URL:https://ibc.broad.msu.edu/event/meet-the-jams-editor-at-aim-ama-sheth-foundation-doctoral-consortium/
LOCATION:Bangalore\, India\, Bangalore\, India
CATEGORIES:IBC
END:VEVENT
END:VCALENDAR