BEGIN:VCALENDAR
VERSION:2.0
PRODID:-//International Business Center - ECPv6.15.17.1//NONSGML v1.0//EN
CALSCALE:GREGORIAN
METHOD:PUBLISH
X-WR-CALNAME:International Business Center
X-ORIGINAL-URL:https://ibc.broad.msu.edu
X-WR-CALDESC:Events for International Business Center
REFRESH-INTERVAL;VALUE=DURATION:PT1H
X-Robots-Tag:noindex
X-PUBLISHED-TTL:PT1H
BEGIN:VTIMEZONE
TZID:America/Detroit
BEGIN:DAYLIGHT
TZOFFSETFROM:-0500
TZOFFSETTO:-0400
TZNAME:EDT
DTSTART:20110313T070000
END:DAYLIGHT
BEGIN:STANDARD
TZOFFSETFROM:-0400
TZOFFSETTO:-0500
TZNAME:EST
DTSTART:20111106T060000
END:STANDARD
BEGIN:DAYLIGHT
TZOFFSETFROM:-0500
TZOFFSETTO:-0400
TZNAME:EDT
DTSTART:20120311T070000
END:DAYLIGHT
BEGIN:STANDARD
TZOFFSETFROM:-0400
TZOFFSETTO:-0500
TZNAME:EST
DTSTART:20121104T060000
END:STANDARD
BEGIN:DAYLIGHT
TZOFFSETFROM:-0500
TZOFFSETTO:-0400
TZNAME:EDT
DTSTART:20130310T070000
END:DAYLIGHT
BEGIN:STANDARD
TZOFFSETFROM:-0400
TZOFFSETTO:-0500
TZNAME:EST
DTSTART:20131103T060000
END:STANDARD
END:VTIMEZONE
BEGIN:VEVENT
DTSTART;TZID=America/Detroit:20121030T000000
DTEND;TZID=America/Detroit:20121130T000000
DTSTAMP:20260420T233837
CREATED:20240319T195000Z
LAST-MODIFIED:20240520T213853Z
UID:10000888-1351555200-1354233600@ibc.broad.msu.edu
SUMMARY:Meet the JAMS Editor @ SMA Conference
DESCRIPTION:The JAMS Editor will participate in a meet the editors panel and doctoral consortium at the Society for Marketing Advances conference in Orlando.
URL:https://ibc.broad.msu.edu/event/meet-the-jams-editor-sma-conference/
LOCATION:Walt Disney World Swan and Dolphin Resort\, Orlando\, FL\, Orlando\, United States
CATEGORIES:IBC
END:VEVENT
BEGIN:VEVENT
DTSTART;TZID=America/Detroit:20121101T000000
DTEND;TZID=America/Detroit:20121101T000000
DTSTAMP:20260420T233837
CREATED:20240319T194708Z
LAST-MODIFIED:20240520T213835Z
UID:10000887-1351728000-1351728000@ibc.broad.msu.edu
SUMMARY:Lansing Economic Club - Celebration of Regional Growth Awards
DESCRIPTION:We hope you join us on Thursday\, November 1 for the for the Celebration of Regional Growth Awards. This luncheon is sponsored by PNC and Loomis\, Ewert\, Parsley\, Davis & Gotting\, P.C..
URL:https://ibc.broad.msu.edu/event/lansing-economic-club-celebration-of-regional-growth-awards/
LOCATION:East Lansing\, MI\, Chicago\, United States
CATEGORIES:IBC
END:VEVENT
END:VCALENDAR