BEGIN:VCALENDAR
VERSION:2.0
PRODID:-//International Business Center - ECPv6.15.17.1//NONSGML v1.0//EN
CALSCALE:GREGORIAN
METHOD:PUBLISH
X-WR-CALNAME:International Business Center
X-ORIGINAL-URL:https://ibc.broad.msu.edu
X-WR-CALDESC:Events for International Business Center
REFRESH-INTERVAL;VALUE=DURATION:PT1H
X-Robots-Tag:noindex
X-PUBLISHED-TTL:PT1H
BEGIN:VTIMEZONE
TZID:America/Detroit
BEGIN:DAYLIGHT
TZOFFSETFROM:-0500
TZOFFSETTO:-0400
TZNAME:EDT
DTSTART:20120311T070000
END:DAYLIGHT
BEGIN:STANDARD
TZOFFSETFROM:-0400
TZOFFSETTO:-0500
TZNAME:EST
DTSTART:20121104T060000
END:STANDARD
BEGIN:DAYLIGHT
TZOFFSETFROM:-0500
TZOFFSETTO:-0400
TZNAME:EDT
DTSTART:20130310T070000
END:DAYLIGHT
BEGIN:STANDARD
TZOFFSETFROM:-0400
TZOFFSETTO:-0500
TZNAME:EST
DTSTART:20131103T060000
END:STANDARD
BEGIN:DAYLIGHT
TZOFFSETFROM:-0500
TZOFFSETTO:-0400
TZNAME:EDT
DTSTART:20140309T070000
END:DAYLIGHT
BEGIN:STANDARD
TZOFFSETFROM:-0400
TZOFFSETTO:-0500
TZNAME:EST
DTSTART:20141102T060000
END:STANDARD
END:VTIMEZONE
BEGIN:VEVENT
DTSTART;TZID=America/Detroit:20130502T000000
DTEND;TZID=America/Detroit:20130502T000000
DTSTAMP:20260423T151421
CREATED:20240319T194743Z
LAST-MODIFIED:20240520T212737Z
UID:10000871-1367452800-1367452800@ibc.broad.msu.edu
SUMMARY:Global Business Club of Mid-Michigan: Doing Business in China
DESCRIPTION:Speaker Mr. Ning Shao\, Director\, Michigan China CenterChina is the third largest export market for the U.S.\, and China is Michigans third largest export market\, with $3.3 billion in export sales last year. Michigans exports to China grew 21% from 2011-2012; is your business part of this growth? Mr. Ning Shao will present a brief history of Chinas reform over the past 30 years and Chinas five-year plan\, and why they matter to Michigan. He will cover eight lessons for doing business in China\, as well as potential business opportunities and challenges in China for Michigan businesses.The Global Business Club of Mid-Michigan focuses on global issues of interest to the mid-Michigan business community. The monthly GB Club luncheons provide outstanding speakers and relaxed networking opportunities. With extensive international experience\, the speakers wrap personal insights around a practical and up-to-the-minute approach to conducting international trade.
URL:https://ibc.broad.msu.edu/event/global-business-club-of-mid-michigan-doing-business-in-china/
LOCATION:MSU Henry Center for Executive Development\, 3535 Forest Rd.\, Lansing\, 48910\, United States
CATEGORIES:IBC
END:VEVENT
BEGIN:VEVENT
DTSTART;TZID=America/Detroit:20130502T000000
DTEND;TZID=America/Detroit:20130502T000000
DTSTAMP:20260423T151421
CREATED:20240319T194800Z
LAST-MODIFIED:20240520T212713Z
UID:10000870-1367452800-1367452800@ibc.broad.msu.edu
SUMMARY:Coface North America Country Risk Meeting 2013
DESCRIPTION:Coface Country Risk events focus on the outlook for business-to-business trade around the world. Attendees include companies\, banks\, academics\, and professionals from the international trade community.
URL:https://ibc.broad.msu.edu/event/coface-north-america-country-risk-meeting-2013/
LOCATION:New York\, NY\, New York\, United States
CATEGORIES:IBC
END:VEVENT
END:VCALENDAR