BEGIN:VCALENDAR
VERSION:2.0
PRODID:-//International Business Center - ECPv6.15.17.1//NONSGML v1.0//EN
CALSCALE:GREGORIAN
METHOD:PUBLISH
X-WR-CALNAME:International Business Center
X-ORIGINAL-URL:https://ibc.broad.msu.edu
X-WR-CALDESC:Events for International Business Center
REFRESH-INTERVAL;VALUE=DURATION:PT1H
X-Robots-Tag:noindex
X-PUBLISHED-TTL:PT1H
BEGIN:VTIMEZONE
TZID:America/Detroit
BEGIN:DAYLIGHT
TZOFFSETFROM:-0500
TZOFFSETTO:-0400
TZNAME:EDT
DTSTART:20120311T070000
END:DAYLIGHT
BEGIN:STANDARD
TZOFFSETFROM:-0400
TZOFFSETTO:-0500
TZNAME:EST
DTSTART:20121104T060000
END:STANDARD
BEGIN:DAYLIGHT
TZOFFSETFROM:-0500
TZOFFSETTO:-0400
TZNAME:EDT
DTSTART:20130310T070000
END:DAYLIGHT
BEGIN:STANDARD
TZOFFSETFROM:-0400
TZOFFSETTO:-0500
TZNAME:EST
DTSTART:20131103T060000
END:STANDARD
BEGIN:DAYLIGHT
TZOFFSETFROM:-0500
TZOFFSETTO:-0400
TZNAME:EDT
DTSTART:20140309T070000
END:DAYLIGHT
BEGIN:STANDARD
TZOFFSETFROM:-0400
TZOFFSETTO:-0500
TZNAME:EST
DTSTART:20141102T060000
END:STANDARD
END:VTIMEZONE
BEGIN:VEVENT
DTSTART;TZID=America/Detroit:20130808T000000
DTEND;TZID=America/Detroit:20130813T000000
DTSTAMP:20260420T104014
CREATED:20240319T194910Z
LAST-MODIFIED:20240520T212227Z
UID:10000857-1375920000-1376352000@ibc.broad.msu.edu
SUMMARY:Meet the JAMS Editor @ AOM Annual Conference
DESCRIPTION:The JAMS Editor will be at the AOM Annual Conference\, August 9-13.
URL:https://ibc.broad.msu.edu/event/meet-the-jams-editor-aom-annual-conference/
LOCATION:Lake Buena Vista\, FL\, Lake Buena Vista\, United States
CATEGORIES:IBC
END:VEVENT
BEGIN:VEVENT
DTSTART;TZID=America/Detroit:20130812T000000
DTEND;TZID=America/Detroit:20130812T000000
DTSTAMP:20260420T104014
CREATED:20240319T194744Z
LAST-MODIFIED:20240520T212207Z
UID:10000856-1376265600-1376265600@ibc.broad.msu.edu
SUMMARY:Global Business Club of Mid-Michigan: Certified Global Business Professional (CGBP) Training
DESCRIPTION:Speaker Jim Foley\, Director of the Turner Center at Bradley University and author This 2-day training (8am-5pm August 12-13) is sponsored by the MEDC for its export partners and is open by invitation only. It is aligned with the national NASBITE CGBP trade professional exam and will support efforts of participants to sit for the national exam.  \nThis training covers the Primary Content Areas of the exam:Global Management\, Global Marketing\, International Supply Chain Mgmt\, Trade Finance\, Best resources & data sourcesThe Global Business Club of Mid-Michigan focuses on global issues of interest to the mid-Michigan business community. The monthly GB Club luncheons provide outstanding speakers and relaxed networking opportunities. With extensive international experience\, the speakers wrap personal insights around a practical and up-to-the-minute approach to conducting international trade.
URL:https://ibc.broad.msu.edu/event/global-business-club-of-mid-michigan-certified-global-business-professional-cgbp-training-2/
LOCATION:GVSU Eberhard Center\, 301 Fulton St W\, Grand Rapids\, 49504\, United States
CATEGORIES:IBC
END:VEVENT
BEGIN:VEVENT
DTSTART;TZID=America/Detroit:20130814T000000
DTEND;TZID=America/Detroit:20130814T000000
DTSTAMP:20260420T104014
CREATED:20240319T194759Z
LAST-MODIFIED:20240520T212140Z
UID:10000855-1376438400-1376438400@ibc.broad.msu.edu
SUMMARY:Global Business Club of Mid-Michigan: Certified Global Business Professional (CGBP) Training
DESCRIPTION:Speaker Jim Foley\, Director of the Turner Center at Bradley University and author This 2-day training (8am-5pm August 14-15) is sponsored by the MEDC for its export partners and is open by invitation only. It is aligned with the national NASBITE CGBP trade professional exam and will support efforts of participants to sit for the national exam.  \nThis training covers the Primary Content Areas of the exam:Global Management\, Global Marketing\, International Supply Chain Mgmt\, Trade Finance\, Best resources & data sourcesThe Global Business Club of Mid-Michigan focuses on global issues of interest to the mid-Michigan business community. The monthly GB Club luncheons provide outstanding speakers and relaxed networking opportunities. With extensive international experience\, the speakers wrap personal insights around a practical and up-to-the-minute approach to conducting international trade.
URL:https://ibc.broad.msu.edu/event/global-business-club-of-mid-michigan-certified-global-business-professional-cgbp-training-3/
LOCATION:NWCOG\, 600 E. Front St.\, Traverse City\, 600 E. Front St\, Traverse City\, United States
CATEGORIES:IBC
END:VEVENT
END:VCALENDAR