BEGIN:VCALENDAR
VERSION:2.0
PRODID:-//International Business Center - ECPv6.15.17.1//NONSGML v1.0//EN
CALSCALE:GREGORIAN
METHOD:PUBLISH
X-WR-CALNAME:International Business Center
X-ORIGINAL-URL:https://ibc.broad.msu.edu
X-WR-CALDESC:Events for International Business Center
REFRESH-INTERVAL;VALUE=DURATION:PT1H
X-Robots-Tag:noindex
X-PUBLISHED-TTL:PT1H
BEGIN:VTIMEZONE
TZID:America/Detroit
BEGIN:DAYLIGHT
TZOFFSETFROM:-0500
TZOFFSETTO:-0400
TZNAME:EDT
DTSTART:20120311T070000
END:DAYLIGHT
BEGIN:STANDARD
TZOFFSETFROM:-0400
TZOFFSETTO:-0500
TZNAME:EST
DTSTART:20121104T060000
END:STANDARD
BEGIN:DAYLIGHT
TZOFFSETFROM:-0500
TZOFFSETTO:-0400
TZNAME:EDT
DTSTART:20130310T070000
END:DAYLIGHT
BEGIN:STANDARD
TZOFFSETFROM:-0400
TZOFFSETTO:-0500
TZNAME:EST
DTSTART:20131103T060000
END:STANDARD
BEGIN:DAYLIGHT
TZOFFSETFROM:-0500
TZOFFSETTO:-0400
TZNAME:EDT
DTSTART:20140309T070000
END:DAYLIGHT
BEGIN:STANDARD
TZOFFSETFROM:-0400
TZOFFSETTO:-0500
TZNAME:EST
DTSTART:20141102T060000
END:STANDARD
END:VTIMEZONE
BEGIN:VEVENT
DTSTART;TZID=America/Detroit:20130905T000000
DTEND;TZID=America/Detroit:20130905T000000
DTSTAMP:20260420T234708
CREATED:20240319T194801Z
LAST-MODIFIED:20240520T212103Z
UID:10000854-1378339200-1378339200@ibc.broad.msu.edu
SUMMARY:Global Business Club of Mid-Michigan: Overseas Partners & Global Logistics
DESCRIPTION:Speaker Robert Selig\, President and CEO\, Capital Region Airport AuthorityJoin us for our first Global Business Club program of the season! Gain a basic understanding of import/export management–including logistics\, dealing with overseas partners\, and which local resources are there to support you. Attendees with also hear from local logistics providers and new regulatory changes–including the new Chinese VAT and US Customs enforcement of ISF (10+2)The Global Business Club of Mid-Michigan focuses on global issues of interest to the mid-Michigan business community. The monthly GB Club luncheons provide outstanding speakers and relaxed networking opportunities. With extensive international experience\, the speakers wrap personal insights around a practical and up-to-the-minute approach to conducting international trade.
URL:https://ibc.broad.msu.edu/event/global-business-club-of-mid-michigan-overseas-partners-global-logistics/
LOCATION:MSU Henry Center for Executive Development\, 3535 Forest Rd.\, Lansing\, 48910\, United States
CATEGORIES:IBC
END:VEVENT
END:VCALENDAR