BEGIN:VCALENDAR
VERSION:2.0
PRODID:-//International Business Center - ECPv6.15.17.1//NONSGML v1.0//EN
CALSCALE:GREGORIAN
METHOD:PUBLISH
X-WR-CALNAME:International Business Center
X-ORIGINAL-URL:https://ibc.broad.msu.edu
X-WR-CALDESC:Events for International Business Center
REFRESH-INTERVAL;VALUE=DURATION:PT1H
X-Robots-Tag:noindex
X-PUBLISHED-TTL:PT1H
BEGIN:VTIMEZONE
TZID:America/Detroit
BEGIN:DAYLIGHT
TZOFFSETFROM:-0500
TZOFFSETTO:-0400
TZNAME:EDT
DTSTART:20120311T070000
END:DAYLIGHT
BEGIN:STANDARD
TZOFFSETFROM:-0400
TZOFFSETTO:-0500
TZNAME:EST
DTSTART:20121104T060000
END:STANDARD
BEGIN:DAYLIGHT
TZOFFSETFROM:-0500
TZOFFSETTO:-0400
TZNAME:EDT
DTSTART:20130310T070000
END:DAYLIGHT
BEGIN:STANDARD
TZOFFSETFROM:-0400
TZOFFSETTO:-0500
TZNAME:EST
DTSTART:20131103T060000
END:STANDARD
BEGIN:DAYLIGHT
TZOFFSETFROM:-0500
TZOFFSETTO:-0400
TZNAME:EDT
DTSTART:20140309T070000
END:DAYLIGHT
BEGIN:STANDARD
TZOFFSETFROM:-0400
TZOFFSETTO:-0500
TZNAME:EST
DTSTART:20141102T060000
END:STANDARD
END:VTIMEZONE
BEGIN:VEVENT
DTSTART;TZID=America/Detroit:20131016T000000
DTEND;TZID=America/Detroit:20131016T000000
DTSTAMP:20260421T035642
CREATED:20240319T194801Z
LAST-MODIFIED:20240520T211910Z
UID:10000849-1381881600-1381881600@ibc.broad.msu.edu
SUMMARY:Global Business Club of Mid-Michigan: Global Trade Days Cocktail Reception & Hors d'oeuvres
DESCRIPTION:Speaker Meet with Directors & Representatives of Michigan’s overseas network!4-6pm Directors & Representatives of Michigan’s overseas trade offices will give brief presentations about opportunities in their countries and the services offered by their offices. Time will be given for questions and conversations during this informal reception. Represented countries include Brazil\, Canada\, China\, Mexico & United Arab Emirates. Sponsors: MEDC Export Office\, FosterSwiftThe Global Business Club of Mid-Michigan focuses on global issues of interest to the mid-Michigan business community. The monthly GB Club luncheons provide outstanding speakers and relaxed networking opportunities. With extensive international experience\, the speakers wrap personal insights around a practical and up-to-the-minute approach to conducting international trade.
URL:https://ibc.broad.msu.edu/event/global-business-club-of-mid-michigan-global-trade-days-cocktail-reception-hors-doeuvres/
LOCATION:Foster Swift Law Firm\, 313 S WA Sq\, 313 S Washington Square\, Lansing\, 48933\, United States
CATEGORIES:IBC
END:VEVENT
BEGIN:VEVENT
DTSTART;TZID=America/Detroit:20131017T000000
DTEND;TZID=America/Detroit:20131017T000000
DTSTAMP:20260421T035642
CREATED:20240319T194832Z
LAST-MODIFIED:20240520T211836Z
UID:10000848-1381968000-1381968000@ibc.broad.msu.edu
SUMMARY:Lansing Economic Club - Shirley Weiss\, VP & CAO\, Mayo Clinic
DESCRIPTION:Weis’ presentation is entitled Healthcare Reform–What Still Needs to Be Done and will cover the following: \n The Healthcare Environment \n Mayo Clinic Strategic Priorities \n Mayo Clinic’s Solutions \n Mayo Clinic Care Network and Sparrow \nThis event is generously sponsored by Sparrow Health System.
URL:https://ibc.broad.msu.edu/event/lansing-economic-club-shirley-weiss-vp-cao-mayo-clinic/
LOCATION:Kellogg Hotel & Conference Center\, 219 S Harrison Rd\, East Lansing\, 48824\, United States
END:VEVENT
END:VCALENDAR