BEGIN:VCALENDAR
VERSION:2.0
PRODID:-//International Business Center - ECPv6.15.17.1//NONSGML v1.0//EN
CALSCALE:GREGORIAN
METHOD:PUBLISH
X-WR-CALNAME:International Business Center
X-ORIGINAL-URL:https://ibc.broad.msu.edu
X-WR-CALDESC:Events for International Business Center
REFRESH-INTERVAL;VALUE=DURATION:PT1H
X-Robots-Tag:noindex
X-PUBLISHED-TTL:PT1H
BEGIN:VTIMEZONE
TZID:America/Detroit
BEGIN:DAYLIGHT
TZOFFSETFROM:-0500
TZOFFSETTO:-0400
TZNAME:EDT
DTSTART:20140309T070000
END:DAYLIGHT
BEGIN:STANDARD
TZOFFSETFROM:-0400
TZOFFSETTO:-0500
TZNAME:EST
DTSTART:20141102T060000
END:STANDARD
BEGIN:DAYLIGHT
TZOFFSETFROM:-0500
TZOFFSETTO:-0400
TZNAME:EDT
DTSTART:20150308T070000
END:DAYLIGHT
BEGIN:STANDARD
TZOFFSETFROM:-0400
TZOFFSETTO:-0500
TZNAME:EST
DTSTART:20151101T060000
END:STANDARD
BEGIN:DAYLIGHT
TZOFFSETFROM:-0500
TZOFFSETTO:-0400
TZNAME:EDT
DTSTART:20160313T070000
END:DAYLIGHT
BEGIN:STANDARD
TZOFFSETFROM:-0400
TZOFFSETTO:-0500
TZNAME:EST
DTSTART:20161106T060000
END:STANDARD
END:VTIMEZONE
BEGIN:VEVENT
DTSTART;TZID=America/Detroit:20151011T000000
DTEND;TZID=America/Detroit:20151014T000000
DTSTAMP:20260421T135137
CREATED:20240319T195230Z
LAST-MODIFIED:20240520T191228Z
UID:10000761-1444521600-1444780800@ibc.broad.msu.edu
SUMMARY:NACCE Annual Conference
DESCRIPTION:Theme: Cultivating and Entrepreneurial Culture
URL:https://ibc.broad.msu.edu/event/nacce-annual-conference/
LOCATION:Houston\, TX\, Houston\, United States
CATEGORIES:IBC
END:VEVENT
BEGIN:VEVENT
DTSTART;TZID=America/Detroit:20151013T000000
DTEND;TZID=America/Detroit:20151013T000000
DTSTAMP:20260421T135137
CREATED:20240319T195214Z
LAST-MODIFIED:20240520T191132Z
UID:10000760-1444694400-1444694400@ibc.broad.msu.edu
SUMMARY:What It Takes To Lead and Manage Multinational Firms in India in the Emerging Business Environment
DESCRIPTION:Dr. Raghunath Subramaniyam will talk about what it takes to lead and manage multinational firms in India? Within a few decades\, India will be the worlds most populous nation and one of its largest economies. But it is also a complex and challenging market. Many global companies are therefore cautious when it comes to investing in India. But India is not a market that can be ignored. A $2 trillion economy growing at 5-6%\, it is an important market. Even more importantly\, India is an archetype for most emerging markets\, many of which present similar challenges but not the same potential. The discussion will include findings of a detailed longitudinal study of a large MNC in healthcare focusing on their India and emerging markets operations. This study will be used to illustrate how a large MNC has retained strategic flexibility in its own specific ways of adapting to the emerging markets in Asia such as India. We will discuss the emerging business environment in \nIndia specifically with the changes in the government and its policies with specific focus on healthcare.
URL:https://ibc.broad.msu.edu/event/what-it-takes-to-lead-and-manage-multinational-firms-in-india-in-the-emerging-business-environment/
LOCATION:MSU International Center\, 427 N Shaw Ln\, East Lansing\, 48824\, United States
CATEGORIES:IBC
END:VEVENT
END:VCALENDAR