BEGIN:VCALENDAR
VERSION:2.0
PRODID:-//International Business Center - ECPv6.15.17.1//NONSGML v1.0//EN
CALSCALE:GREGORIAN
METHOD:PUBLISH
X-WR-CALNAME:International Business Center
X-ORIGINAL-URL:https://ibc.broad.msu.edu
X-WR-CALDESC:Events for International Business Center
REFRESH-INTERVAL;VALUE=DURATION:PT1H
X-Robots-Tag:noindex
X-PUBLISHED-TTL:PT1H
BEGIN:VTIMEZONE
TZID:America/Detroit
BEGIN:DAYLIGHT
TZOFFSETFROM:-0500
TZOFFSETTO:-0400
TZNAME:EDT
DTSTART:20160313T070000
END:DAYLIGHT
BEGIN:STANDARD
TZOFFSETFROM:-0400
TZOFFSETTO:-0500
TZNAME:EST
DTSTART:20161106T060000
END:STANDARD
BEGIN:DAYLIGHT
TZOFFSETFROM:-0500
TZOFFSETTO:-0400
TZNAME:EDT
DTSTART:20170312T070000
END:DAYLIGHT
BEGIN:STANDARD
TZOFFSETFROM:-0400
TZOFFSETTO:-0500
TZNAME:EST
DTSTART:20171105T060000
END:STANDARD
BEGIN:DAYLIGHT
TZOFFSETFROM:-0500
TZOFFSETTO:-0400
TZNAME:EDT
DTSTART:20180311T070000
END:DAYLIGHT
BEGIN:STANDARD
TZOFFSETFROM:-0400
TZOFFSETTO:-0500
TZNAME:EST
DTSTART:20181104T060000
END:STANDARD
END:VTIMEZONE
BEGIN:VEVENT
DTSTART;TZID=America/Detroit:20171101T000000
DTEND;TZID=America/Detroit:20171103T000000
DTSTAMP:20260423T070216
CREATED:20240319T195434Z
LAST-MODIFIED:20240520T170506Z
UID:10000671-1509494400-1509667200@ibc.broad.msu.edu
SUMMARY:Global Business Schools Network Annual Conference
DESCRIPTION:Sarah Singer\, Assistant Director of MSU-CIBER\, and Rob Spohr\, Vice President for Academic Affairs at Montcalm College will present the session Forging Partnerships from Michigan to Indonesia That Benefit Entire Communities on Thursday\, November 2\, at the annual GBSN conference.
URL:https://ibc.broad.msu.edu/event/global-business-schools-network-annual-conference/
LOCATION:WA\, DC\, Washington\, DC\, United States
END:VEVENT
END:VCALENDAR