BEGIN:VCALENDAR
VERSION:2.0
PRODID:-//International Business Center - ECPv6.15.17.1//NONSGML v1.0//EN
CALSCALE:GREGORIAN
METHOD:PUBLISH
X-WR-CALNAME:International Business Center
X-ORIGINAL-URL:https://ibc.broad.msu.edu
X-WR-CALDESC:Events for International Business Center
REFRESH-INTERVAL;VALUE=DURATION:PT1H
X-Robots-Tag:noindex
X-PUBLISHED-TTL:PT1H
BEGIN:VTIMEZONE
TZID:America/Detroit
BEGIN:DAYLIGHT
TZOFFSETFROM:-0500
TZOFFSETTO:-0400
TZNAME:EDT
DTSTART:20160313T070000
END:DAYLIGHT
BEGIN:STANDARD
TZOFFSETFROM:-0400
TZOFFSETTO:-0500
TZNAME:EST
DTSTART:20161106T060000
END:STANDARD
BEGIN:DAYLIGHT
TZOFFSETFROM:-0500
TZOFFSETTO:-0400
TZNAME:EDT
DTSTART:20170312T070000
END:DAYLIGHT
BEGIN:STANDARD
TZOFFSETFROM:-0400
TZOFFSETTO:-0500
TZNAME:EST
DTSTART:20171105T060000
END:STANDARD
BEGIN:DAYLIGHT
TZOFFSETFROM:-0500
TZOFFSETTO:-0400
TZNAME:EDT
DTSTART:20180311T070000
END:DAYLIGHT
BEGIN:STANDARD
TZOFFSETFROM:-0400
TZOFFSETTO:-0500
TZNAME:EST
DTSTART:20181104T060000
END:STANDARD
BEGIN:DAYLIGHT
TZOFFSETFROM:-0500
TZOFFSETTO:-0400
TZNAME:EDT
DTSTART:20190310T070000
END:DAYLIGHT
BEGIN:STANDARD
TZOFFSETFROM:-0400
TZOFFSETTO:-0500
TZNAME:EST
DTSTART:20191103T060000
END:STANDARD
END:VTIMEZONE
BEGIN:VEVENT
DTSTART;TZID=America/Detroit:20171107T000000
DTEND;TZID=America/Detroit:20181107T000000
DTSTAMP:20260423T062246
CREATED:20240319T195505Z
LAST-MODIFIED:20240520T170311Z
UID:10000669-1510012800-1541548800@ibc.broad.msu.edu
SUMMARY:Private Sector Forum on Africa
DESCRIPTION:This program will feature panelists from the US Department of Commerce (USDoC)\, private sector companies engaged in African investment\, and African University representatives. The panel will begin with a brief overview of the landscape of US investment in Africa from Robert Telchin (US DoC)\, after which panelists will give brief remarks about their experiences with private sector engagement in Africa. The panelists will then engage in a dialogue with the audience about the potential of innovative partnerships to shape future engagement among African and global universities; private sector investors; non-governmental and governmental actors \nand others to meet global challenges.
URL:https://ibc.broad.msu.edu/event/private-sector-forum-on-africa/
LOCATION:MSU Breslin Center\, 534 Birch Rd\, East Lansing\, 48824\, United States
CATEGORIES:IBC
END:VEVENT
BEGIN:VEVENT
DTSTART;TZID=America/Detroit:20180419T000000
DTEND;TZID=America/Detroit:20180420T000000
DTSTAMP:20260423T062246
CREATED:20240319T195504Z
LAST-MODIFIED:20240520T165325Z
UID:10000649-1524096000-1524182400@ibc.broad.msu.edu
SUMMARY:Interdisciplinary Conference on Cybercrime
DESCRIPTION:It is a pleasure to announce the 5th Annual MSU Interdisciplinary Conference on Cybercrime will be held April 19th and 20th\, 2018 at the Kellogg Hotel and Conference Center\, Auditorium room\, on the Michigan State University Campus in East Lansing (https://kelloggcenter.com/). This flagship event\, sponsored in part by the MSU School of Criminal Justice\, seeks to draw world class social and technical science researchers together and present their work in order to promote collaboration between the disciplines and identify new avenues of research to enrich both fields. In addition\, the conference links both fields to industry and policy-makers to transform the landscape of cybersecurity\, policy\, and practice.
URL:https://ibc.broad.msu.edu/event/interdisciplinary-conference-on-cybercrime-2/
LOCATION:Kellogg Hotel & Conference Center\, 219 S Harrison Rd\, East Lansing\, 48824\, United States
CATEGORIES:IBC
END:VEVENT
END:VCALENDAR