BEGIN:VCALENDAR
VERSION:2.0
PRODID:-//International Business Center - ECPv6.15.17.1//NONSGML v1.0//EN
CALSCALE:GREGORIAN
METHOD:PUBLISH
X-WR-CALNAME:International Business Center
X-ORIGINAL-URL:https://ibc.broad.msu.edu
X-WR-CALDESC:Events for International Business Center
REFRESH-INTERVAL;VALUE=DURATION:PT1H
X-Robots-Tag:noindex
X-PUBLISHED-TTL:PT1H
BEGIN:VTIMEZONE
TZID:America/Detroit
BEGIN:DAYLIGHT
TZOFFSETFROM:-0500
TZOFFSETTO:-0400
TZNAME:EDT
DTSTART:20160313T070000
END:DAYLIGHT
BEGIN:STANDARD
TZOFFSETFROM:-0400
TZOFFSETTO:-0500
TZNAME:EST
DTSTART:20161106T060000
END:STANDARD
BEGIN:DAYLIGHT
TZOFFSETFROM:-0500
TZOFFSETTO:-0400
TZNAME:EDT
DTSTART:20170312T070000
END:DAYLIGHT
BEGIN:STANDARD
TZOFFSETFROM:-0400
TZOFFSETTO:-0500
TZNAME:EST
DTSTART:20171105T060000
END:STANDARD
BEGIN:DAYLIGHT
TZOFFSETFROM:-0500
TZOFFSETTO:-0400
TZNAME:EDT
DTSTART:20180311T070000
END:DAYLIGHT
BEGIN:STANDARD
TZOFFSETFROM:-0400
TZOFFSETTO:-0500
TZNAME:EST
DTSTART:20181104T060000
END:STANDARD
BEGIN:DAYLIGHT
TZOFFSETFROM:-0500
TZOFFSETTO:-0400
TZNAME:EDT
DTSTART:20190310T070000
END:DAYLIGHT
BEGIN:STANDARD
TZOFFSETFROM:-0400
TZOFFSETTO:-0500
TZNAME:EST
DTSTART:20191103T060000
END:STANDARD
END:VTIMEZONE
BEGIN:VEVENT
DTSTART;TZID=America/Detroit:20171107T000000
DTEND;TZID=America/Detroit:20181107T000000
DTSTAMP:20260422T225217
CREATED:20240319T195505Z
LAST-MODIFIED:20240520T170311Z
UID:10000669-1510012800-1541548800@ibc.broad.msu.edu
SUMMARY:Private Sector Forum on Africa
DESCRIPTION:This program will feature panelists from the US Department of Commerce (USDoC)\, private sector companies engaged in African investment\, and African University representatives. The panel will begin with a brief overview of the landscape of US investment in Africa from Robert Telchin (US DoC)\, after which panelists will give brief remarks about their experiences with private sector engagement in Africa. The panelists will then engage in a dialogue with the audience about the potential of innovative partnerships to shape future engagement among African and global universities; private sector investors; non-governmental and governmental actors \nand others to meet global challenges.
URL:https://ibc.broad.msu.edu/event/private-sector-forum-on-africa/
LOCATION:MSU Breslin Center\, 534 Birch Rd\, East Lansing\, 48824\, United States
CATEGORIES:IBC
END:VEVENT
BEGIN:VEVENT
DTSTART;TZID=America/Detroit:20180612T000000
DTEND;TZID=America/Detroit:20180614T000000
DTSTAMP:20260422T225217
CREATED:20240319T195548Z
LAST-MODIFIED:20240520T164940Z
UID:10000641-1528761600-1528934400@ibc.broad.msu.edu
SUMMARY:Global Internship Conference
DESCRIPTION:Annual Global Internship Conference
URL:https://ibc.broad.msu.edu/event/global-internship-conference-4/
LOCATION:Detroit\, MI\, Detroit\, United States
CATEGORIES:IBC
END:VEVENT
BEGIN:VEVENT
DTSTART;TZID=America/Detroit:20180614T000000
DTEND;TZID=America/Detroit:20180614T000000
DTSTAMP:20260422T225217
CREATED:20240319T195518Z
LAST-MODIFIED:20240520T164907Z
UID:10000640-1528934400-1528934400@ibc.broad.msu.edu
SUMMARY:Michigan Business Network - Claes Fornell\, ACSI
DESCRIPTION:This MBN will featureone of the world’s leading experts on customer satisfaction measurement and customer asset management.Claes Fornell is the founder and chairman of CFI Group\, an international consulting firm with offices in the US\, China\, Sweden\, Italy and London\, specializing in assisting companies with measuring and optimizing customer satisfaction for improved consumer utility and company financial return.
URL:https://ibc.broad.msu.edu/event/michigan-business-network-claes-fornell-acsi/
LOCATION:Eagle Eye\, 15500 Chandler Rd.\, Bath\, 48808\, United States
CATEGORIES:IBC
END:VEVENT
END:VCALENDAR